Back to Multiple platform build/check report for BioC 3.22:   simplified   long
ABCDEFGH[I]JKLMNOPQRSTUVWXYZ

This page was generated on 2025-10-25 12:06 -0400 (Sat, 25 Oct 2025).

HostnameOSArch (*)R versionInstalled pkgs
nebbiolo2Linux (Ubuntu 24.04.3 LTS)x86_644.5.1 Patched (2025-08-23 r88802) -- "Great Square Root" 4901
lconwaymacOS 12.7.6 Montereyx86_644.5.1 Patched (2025-09-10 r88807) -- "Great Square Root" 4691
kjohnson3macOS 13.7.7 Venturaarm644.5.1 Patched (2025-09-10 r88807) -- "Great Square Root" 4637
taishanLinux (openEuler 24.03 LTS)aarch644.5.0 (2025-04-11) -- "How About a Twenty-Six" 4658
Click on any hostname to see more info about the system (e.g. compilers)      (*) as reported by 'uname -p', except on Windows and Mac OS X

Package 1082/2361HostnameOS / ArchINSTALLBUILDCHECKBUILD BIN
iscream 0.99.8  (landing page)
James Eapen
Snapshot Date: 2025-10-24 13:45 -0400 (Fri, 24 Oct 2025)
git_url: https://git.bioconductor.org/packages/iscream
git_branch: devel
git_last_commit: 3175f9c
git_last_commit_date: 2025-10-24 09:01:29 -0400 (Fri, 24 Oct 2025)
nebbiolo2Linux (Ubuntu 24.04.3 LTS) / x86_64  OK    OK    ERROR  
lconwaymacOS 12.7.6 Monterey / x86_64  ERROR    ERROR  skippedskipped
kjohnson3macOS 13.7.7 Ventura / arm64  OK    OK    OK    OK  YES
taishanLinux (openEuler 24.03 LTS) / aarch64  OK    NA    NA  


INSTALL results for iscream on kjohnson3

To the developers/maintainers of the iscream package:
- Allow up to 24 hours (and sometimes 48 hours) for your latest push to git@git.bioconductor.org:packages/iscream.git to reflect on this report. See Troubleshooting Build Report for more information.
- Use the following Renviron settings to reproduce errors and warnings.
- If 'R CMD check' started to fail recently on the Linux builder(s) over a missing dependency, add the missing dependency to 'Suggests:' in your DESCRIPTION file. See Renviron.bioc for more information.

raw results


Summary

Package: iscream
Version: 0.99.8
Command: /Library/Frameworks/R.framework/Resources/bin/R CMD INSTALL iscream
StartedAt: 2025-10-24 15:08:52 -0400 (Fri, 24 Oct 2025)
EndedAt: 2025-10-24 15:09:16 -0400 (Fri, 24 Oct 2025)
EllapsedTime: 24.5 seconds
RetCode: 0
Status:   OK  

Command output

##############################################################################
##############################################################################
###
### Running command:
###
###   /Library/Frameworks/R.framework/Resources/bin/R CMD INSTALL iscream
###
##############################################################################
##############################################################################


* installing to library ‘/Library/Frameworks/R.framework/Versions/4.5-arm64/Resources/library’
* installing *source* package ‘iscream’ ...
** this is package ‘iscream’ version ‘0.99.8’
** using staged installation
*** Configuring for package installation...
**** Trying pkg-config to use system htslib headers...
     Falling back to Rhtslib
     Using Rhtslib cflags and libs for htslib!
**** Using clang
     Apple clang version 15.0.0 (clang-1500.1.0.2.5)
     Target: arm64-apple-darwin22.6.0
     Thread model: posix
     InstalledDir: /Library/Developer/CommandLineTools/usr/bin
     WARNING: Could not find tabix to check for minimum htslib version - make sure its >= 1.17
**** Compilation flags
     Using PKG_CFLAGS=-D_FILE_OFFSET_BITS=64
     Using PKG_LIBS='/Library/Frameworks/R.framework/Versions/4.5-arm64/Resources/library/Rhtslib/usrlib/libhts.a' -lcurl -lbz2 -llzma -lz
**** Checking if htslib was compiled with libdeflate
     NOTE: iscream queries may be slower with Rhtslib than with htslib compiled with libdeflate
     See <https://huishenlab.github.io/iscream/articles/htslib.html> for more information
**** Success!
** libs
using C++ compiler: ‘Apple clang version 15.0.0 (clang-1500.1.0.2.5)’
using C++17
using SDK: ‘MacOSX11.3.1.sdk’
clang++ -arch arm64 -std=gnu++17 -I"/Library/Frameworks/R.framework/Resources/include" -DNDEBUG -D_FILE_OFFSET_BITS=64 -I'/Library/Frameworks/R.framework/Versions/4.5-arm64/Resources/library/Rcpp/include' -I'/Library/Frameworks/R.framework/Versions/4.5-arm64/Resources/library/RcppArmadillo/include' -I'/Library/Frameworks/R.framework/Versions/4.5-arm64/Resources/library/RcppProgress/include' -I'/Library/Frameworks/R.framework/Versions/4.5-arm64/Resources/library/RcppSpdlog/include' -I'/Library/Frameworks/R.framework/Versions/4.5-arm64/Resources/library/Rhtslib/include' -I'/Library/Frameworks/R.framework/Versions/4.5-arm64/Resources/library/stringfish/include' -I/opt/R/arm64/include    -fPIC  -falign-functions=64 -Wall -g -O2   -c RcppExports.cpp -o RcppExports.o
clang++ -arch arm64 -std=gnu++17 -I"/Library/Frameworks/R.framework/Resources/include" -DNDEBUG -D_FILE_OFFSET_BITS=64 -I'/Library/Frameworks/R.framework/Versions/4.5-arm64/Resources/library/Rcpp/include' -I'/Library/Frameworks/R.framework/Versions/4.5-arm64/Resources/library/RcppArmadillo/include' -I'/Library/Frameworks/R.framework/Versions/4.5-arm64/Resources/library/RcppProgress/include' -I'/Library/Frameworks/R.framework/Versions/4.5-arm64/Resources/library/RcppSpdlog/include' -I'/Library/Frameworks/R.framework/Versions/4.5-arm64/Resources/library/Rhtslib/include' -I'/Library/Frameworks/R.framework/Versions/4.5-arm64/Resources/library/stringfish/include' -I/opt/R/arm64/include    -fPIC  -falign-functions=64 -Wall -g -O2   -c decode_mat.cpp -o decode_mat.o
clang++ -arch arm64 -std=gnu++17 -I"/Library/Frameworks/R.framework/Resources/include" -DNDEBUG -D_FILE_OFFSET_BITS=64 -I'/Library/Frameworks/R.framework/Versions/4.5-arm64/Resources/library/Rcpp/include' -I'/Library/Frameworks/R.framework/Versions/4.5-arm64/Resources/library/RcppArmadillo/include' -I'/Library/Frameworks/R.framework/Versions/4.5-arm64/Resources/library/RcppProgress/include' -I'/Library/Frameworks/R.framework/Versions/4.5-arm64/Resources/library/RcppSpdlog/include' -I'/Library/Frameworks/R.framework/Versions/4.5-arm64/Resources/library/Rhtslib/include' -I'/Library/Frameworks/R.framework/Versions/4.5-arm64/Resources/library/stringfish/include' -I/opt/R/arm64/include    -fPIC  -falign-functions=64 -Wall -g -O2   -c get_threads.cpp -o get_threads.o
clang++ -arch arm64 -std=gnu++17 -I"/Library/Frameworks/R.framework/Resources/include" -DNDEBUG -D_FILE_OFFSET_BITS=64 -I'/Library/Frameworks/R.framework/Versions/4.5-arm64/Resources/library/Rcpp/include' -I'/Library/Frameworks/R.framework/Versions/4.5-arm64/Resources/library/RcppArmadillo/include' -I'/Library/Frameworks/R.framework/Versions/4.5-arm64/Resources/library/RcppProgress/include' -I'/Library/Frameworks/R.framework/Versions/4.5-arm64/Resources/library/RcppSpdlog/include' -I'/Library/Frameworks/R.framework/Versions/4.5-arm64/Resources/library/Rhtslib/include' -I'/Library/Frameworks/R.framework/Versions/4.5-arm64/Resources/library/stringfish/include' -I/opt/R/arm64/include    -fPIC  -falign-functions=64 -Wall -g -O2   -c log.cpp -o log.o
clang++ -arch arm64 -std=gnu++17 -I"/Library/Frameworks/R.framework/Resources/include" -DNDEBUG -D_FILE_OFFSET_BITS=64 -I'/Library/Frameworks/R.framework/Versions/4.5-arm64/Resources/library/Rcpp/include' -I'/Library/Frameworks/R.framework/Versions/4.5-arm64/Resources/library/RcppArmadillo/include' -I'/Library/Frameworks/R.framework/Versions/4.5-arm64/Resources/library/RcppProgress/include' -I'/Library/Frameworks/R.framework/Versions/4.5-arm64/Resources/library/RcppSpdlog/include' -I'/Library/Frameworks/R.framework/Versions/4.5-arm64/Resources/library/Rhtslib/include' -I'/Library/Frameworks/R.framework/Versions/4.5-arm64/Resources/library/stringfish/include' -I/opt/R/arm64/include    -fPIC  -falign-functions=64 -Wall -g -O2   -c parsers.cpp -o parsers.o
clang++ -arch arm64 -std=gnu++17 -I"/Library/Frameworks/R.framework/Resources/include" -DNDEBUG -D_FILE_OFFSET_BITS=64 -I'/Library/Frameworks/R.framework/Versions/4.5-arm64/Resources/library/Rcpp/include' -I'/Library/Frameworks/R.framework/Versions/4.5-arm64/Resources/library/RcppArmadillo/include' -I'/Library/Frameworks/R.framework/Versions/4.5-arm64/Resources/library/RcppProgress/include' -I'/Library/Frameworks/R.framework/Versions/4.5-arm64/Resources/library/RcppSpdlog/include' -I'/Library/Frameworks/R.framework/Versions/4.5-arm64/Resources/library/Rhtslib/include' -I'/Library/Frameworks/R.framework/Versions/4.5-arm64/Resources/library/stringfish/include' -I/opt/R/arm64/include    -fPIC  -falign-functions=64 -Wall -g -O2   -c query.cpp -o query.o
clang++ -arch arm64 -std=gnu++17 -I"/Library/Frameworks/R.framework/Resources/include" -DNDEBUG -D_FILE_OFFSET_BITS=64 -I'/Library/Frameworks/R.framework/Versions/4.5-arm64/Resources/library/Rcpp/include' -I'/Library/Frameworks/R.framework/Versions/4.5-arm64/Resources/library/RcppArmadillo/include' -I'/Library/Frameworks/R.framework/Versions/4.5-arm64/Resources/library/RcppProgress/include' -I'/Library/Frameworks/R.framework/Versions/4.5-arm64/Resources/library/RcppSpdlog/include' -I'/Library/Frameworks/R.framework/Versions/4.5-arm64/Resources/library/Rhtslib/include' -I'/Library/Frameworks/R.framework/Versions/4.5-arm64/Resources/library/stringfish/include' -I/opt/R/arm64/include    -fPIC  -falign-functions=64 -Wall -g -O2   -c query_all.cpp -o query_all.o
In file included from query_all.cpp:1:
./query_all.hpp:56:1: warning: unused function 'khmap_destroy' [-Wunused-function]
KHASHL_MAP_INIT(static, khmap_t, khmap, CpG, int, kh_hash_cpg, kh_eq_cpg);
^
./../inst/include/khashl.h:350:13: note: expanded from macro 'KHASHL_MAP_INIT'
        SCOPE void prefix##_destroy(HType *h) { prefix##_m_destroy(h); } \
                   ^
<scratch space>:394:1: note: expanded from here
khmap_destroy
^
In file included from query_all.cpp:1:
./query_all.hpp:56:1: warning: unused function 'khmap_del' [-Wunused-function]
./../inst/include/khashl.h:352:12: note: expanded from macro 'KHASHL_MAP_INIT'
        SCOPE int prefix##_del(HType *h, khint_t k) { return prefix##_m_del(h, k); } \
                  ^
<scratch space>:399:1: note: expanded from here
khmap_del
^
2 warnings generated.
clang++ -arch arm64 -std=gnu++17 -I"/Library/Frameworks/R.framework/Resources/include" -DNDEBUG -D_FILE_OFFSET_BITS=64 -I'/Library/Frameworks/R.framework/Versions/4.5-arm64/Resources/library/Rcpp/include' -I'/Library/Frameworks/R.framework/Versions/4.5-arm64/Resources/library/RcppArmadillo/include' -I'/Library/Frameworks/R.framework/Versions/4.5-arm64/Resources/library/RcppProgress/include' -I'/Library/Frameworks/R.framework/Versions/4.5-arm64/Resources/library/RcppSpdlog/include' -I'/Library/Frameworks/R.framework/Versions/4.5-arm64/Resources/library/Rhtslib/include' -I'/Library/Frameworks/R.framework/Versions/4.5-arm64/Resources/library/stringfish/include' -I/opt/R/arm64/include    -fPIC  -falign-functions=64 -Wall -g -O2   -c summarize_regions.cpp -o summarize_regions.o
clang++ -arch arm64 -std=gnu++17 -dynamiclib -Wl,-headerpad_max_install_names -undefined dynamic_lookup -L/Library/Frameworks/R.framework/Resources/lib -L/opt/R/arm64/lib -o iscream.so RcppExports.o decode_mat.o get_threads.o log.o parsers.o query.o query_all.o summarize_regions.o /Library/Frameworks/R.framework/Versions/4.5-arm64/Resources/library/Rhtslib/usrlib/libhts.a -lcurl -lbz2 -llzma -lz -F/Library/Frameworks/R.framework/.. -framework R
installing to /Library/Frameworks/R.framework/Versions/4.5-arm64/Resources/library/00LOCK-iscream/00new/iscream/libs
** R
** inst
** byte-compile and prepare package for lazy loading
** help
*** installing help indices
*** copying figures
** building package indices
** installing vignettes
** testing if installed package can be loaded from temporary location
** checking absolute paths in shared objects and dynamic libraries
** testing if installed package can be loaded from final location
** testing if installed package keeps a record of temporary installation path
* DONE (iscream)