| Back to Multiple platform build/check report for BioC 3.22: simplified long |
|
This page was generated on 2025-10-25 12:06 -0400 (Sat, 25 Oct 2025).
| Hostname | OS | Arch (*) | R version | Installed pkgs |
|---|---|---|---|---|
| nebbiolo2 | Linux (Ubuntu 24.04.3 LTS) | x86_64 | 4.5.1 Patched (2025-08-23 r88802) -- "Great Square Root" | 4901 |
| lconway | macOS 12.7.6 Monterey | x86_64 | 4.5.1 Patched (2025-09-10 r88807) -- "Great Square Root" | 4691 |
| kjohnson3 | macOS 13.7.7 Ventura | arm64 | 4.5.1 Patched (2025-09-10 r88807) -- "Great Square Root" | 4637 |
| taishan | Linux (openEuler 24.03 LTS) | aarch64 | 4.5.0 (2025-04-11) -- "How About a Twenty-Six" | 4658 |
| Click on any hostname to see more info about the system (e.g. compilers) (*) as reported by 'uname -p', except on Windows and Mac OS X | ||||
| Package 862/2361 | Hostname | OS / Arch | INSTALL | BUILD | CHECK | BUILD BIN | ||||||||
| geomeTriD 1.3.21 (landing page) Jianhong Ou
| nebbiolo2 | Linux (Ubuntu 24.04.3 LTS) / x86_64 | OK | OK | OK | |||||||||
| lconway | macOS 12.7.6 Monterey / x86_64 | OK | OK | OK | OK | |||||||||
| kjohnson3 | macOS 13.7.7 Ventura / arm64 | OK | OK | OK | OK | |||||||||
| taishan | Linux (openEuler 24.03 LTS) / aarch64 | OK | NA | NA | ||||||||||
|
To the developers/maintainers of the geomeTriD package: - Allow up to 24 hours (and sometimes 48 hours) for your latest push to git@git.bioconductor.org:packages/geomeTriD.git to reflect on this report. See Troubleshooting Build Report for more information. - Use the following Renviron settings to reproduce errors and warnings. - If 'R CMD check' started to fail recently on the Linux builder(s) over a missing dependency, add the missing dependency to 'Suggests:' in your DESCRIPTION file. See Renviron.bioc for more information. |
| Package: geomeTriD |
| Version: 1.3.21 |
| Command: /Library/Frameworks/R.framework/Resources/bin/R CMD check --install=check:geomeTriD.install-out.txt --library=/Library/Frameworks/R.framework/Resources/library --no-vignettes --timings geomeTriD_1.3.21.tar.gz |
| StartedAt: 2025-10-24 19:59:00 -0400 (Fri, 24 Oct 2025) |
| EndedAt: 2025-10-24 20:01:42 -0400 (Fri, 24 Oct 2025) |
| EllapsedTime: 161.8 seconds |
| RetCode: 0 |
| Status: OK |
| CheckDir: geomeTriD.Rcheck |
| Warnings: 0 |
##############################################################################
##############################################################################
###
### Running command:
###
### /Library/Frameworks/R.framework/Resources/bin/R CMD check --install=check:geomeTriD.install-out.txt --library=/Library/Frameworks/R.framework/Resources/library --no-vignettes --timings geomeTriD_1.3.21.tar.gz
###
##############################################################################
##############################################################################
* using log directory ‘/Users/biocbuild/bbs-3.22-bioc/meat/geomeTriD.Rcheck’
* using R version 4.5.1 Patched (2025-09-10 r88807)
* using platform: aarch64-apple-darwin20
* R was compiled by
Apple clang version 16.0.0 (clang-1600.0.26.6)
GNU Fortran (GCC) 14.2.0
* running under: macOS Ventura 13.7.7
* using session charset: UTF-8
* using option ‘--no-vignettes’
* checking for file ‘geomeTriD/DESCRIPTION’ ... OK
* checking extension type ... Package
* this is package ‘geomeTriD’ version ‘1.3.21’
* package encoding: UTF-8
* checking package namespace information ... OK
* checking package dependencies ... INFO
Imports includes 23 non-default packages.
Importing from so many packages makes the package vulnerable to any of
them becoming unavailable. Move as many as possible to Suggests and
use conditionally.
* checking if this is a source package ... OK
* checking if there is a namespace ... OK
* checking for hidden files and directories ... OK
* checking for portable file names ... OK
* checking for sufficient/correct file permissions ... OK
* checking whether package ‘geomeTriD’ can be installed ... OK
* checking installed package size ... OK
* checking package directory ... OK
* checking ‘build’ directory ... OK
* checking DESCRIPTION meta-information ... OK
* checking top-level files ... OK
* checking for left-over files ... OK
* checking index information ... OK
* checking package subdirectories ... OK
* checking code files for non-ASCII characters ... OK
* checking R files for syntax errors ... OK
* checking whether the package can be loaded ... OK
* checking whether the package can be loaded with stated dependencies ... OK
* checking whether the package can be unloaded cleanly ... OK
* checking whether the namespace can be loaded with stated dependencies ... OK
* checking whether the namespace can be unloaded cleanly ... OK
* checking dependencies in R code ... OK
* checking S3 generic/method consistency ... OK
* checking replacement functions ... OK
* checking foreign function calls ... OK
* checking R code for possible problems ... OK
* checking Rd files ... OK
* checking Rd metadata ... OK
* checking Rd cross-references ... OK
* checking for missing documentation entries ... OK
* checking for code/documentation mismatches ... OK
* checking Rd \usage sections ... OK
* checking Rd contents ... OK
* checking for unstated dependencies in examples ... OK
* checking files in ‘vignettes’ ... OK
* checking examples ... OK
* checking for unstated dependencies in ‘tests’ ... OK
* checking tests ...
Running ‘runTests.R’
OK
* checking for unstated dependencies in vignettes ... OK
* checking package vignettes ... OK
* checking running R code from vignettes ... SKIPPED
* checking re-building of vignette outputs ... SKIPPED
* checking PDF version of manual ... OK
* DONE
Status: OK
geomeTriD.Rcheck/00install.out
############################################################################## ############################################################################## ### ### Running command: ### ### /Library/Frameworks/R.framework/Resources/bin/R CMD INSTALL geomeTriD ### ############################################################################## ############################################################################## * installing to library ‘/Library/Frameworks/R.framework/Versions/4.5-arm64/Resources/library’ * installing *source* package ‘geomeTriD’ ... ** this is package ‘geomeTriD’ version ‘1.3.21’ ** using staged installation ** R ** inst ** byte-compile and prepare package for lazy loading ** help *** installing help indices ** building package indices ** installing vignettes ** testing if installed package can be loaded from temporary location ** testing if installed package can be loaded from final location ** testing if installed package keeps a record of temporary installation path * DONE (geomeTriD)
geomeTriD.Rcheck/tests/runTests.Rout
R version 4.5.1 Patched (2025-09-10 r88807) -- "Great Square Root"
Copyright (C) 2025 The R Foundation for Statistical Computing
Platform: aarch64-apple-darwin20
R is free software and comes with ABSOLUTELY NO WARRANTY.
You are welcome to redistribute it under certain conditions.
Type 'license()' or 'licence()' for distribution details.
R is a collaborative project with many contributors.
Type 'contributors()' for more information and
'citation()' on how to cite R or R packages in publications.
Type 'demo()' for some demos, 'help()' for on-line help, or
'help.start()' for an HTML browser interface to help.
Type 'q()' to quit R.
> options(rgl.useNULL=TRUE)
> require("geomeTriD") || stop("unable to load Package:geomeTriD")
Loading required package: geomeTriD
[1] TRUE
> require(rgl) || stop("unable to load rgl")
Loading required package: rgl
[1] TRUE
> require("testthat") || stop("unable to load testthat")
Loading required package: testthat
[1] TRUE
>
> x <- readRDS(system.file("extdata", "4DNFI1UEG1HD.chr21.FLAMINGO.res.rds",
+ package = "geomeTriD"
+ ))
> gi <- readRDS(system.file("extdata", "gi.rds", package = "trackViewer"))
> test_check("geomeTriD")
[ FAIL 0 | WARN 20 | SKIP 3 | PASS 110 ]
══ Skipped tests (3) ═══════════════════════════════════════════════════════════
• empty test (3): 'test_create3dGenomicSignals.R:1:1',
'test_signalCalculation.R:1:1', 'test_signalCalculation.R:23:1'
[ FAIL 0 | WARN 20 | SKIP 3 | PASS 110 ]
>
> proc.time()
user system elapsed
14.694 0.393 15.098
geomeTriD.Rcheck/geomeTriD-Ex.timings
| name | user | system | elapsed | |
| SDC | 0.000 | 0.000 | 0.001 | |
| SRD | 0.001 | 0.000 | 0.000 | |
| alignCoor | 0.470 | 0.012 | 0.484 | |
| autoK | 0.000 | 0.000 | 0.001 | |
| availableGeometries | 0 | 0 | 0 | |
| cellClusters | 0.724 | 0.009 | 0.734 | |
| create3dGenomicSignals | 0.131 | 0.005 | 0.137 | |
| createTADGeometries | 0.283 | 0.010 | 0.294 | |
| extractBackbonePositions | 0.192 | 0.015 | 0.207 | |
| fill_NA | 0.001 | 0.000 | 0.000 | |
| gaussianBlur | 0.000 | 0.000 | 0.001 | |
| geomeTriD-package | 0.001 | 0.000 | 0.000 | |
| loopBouquetPlot | 1.862 | 0.059 | 1.939 | |
| mdsPlot | 1.636 | 0.056 | 1.692 | |
| pointCluster | 0.017 | 0.001 | 0.018 | |
| rglViewer | 0.308 | 0.003 | 0.311 | |
| smooth3dPoints | 0.056 | 0.003 | 0.058 | |
| spatialDistanceMatrix | 1.107 | 0.172 | 1.279 | |
| threeJsGeometry-class | 0 | 0 | 0 | |
| threeJsViewer-shiny | 0.000 | 0.000 | 0.001 | |
| threeJsViewer | 0.076 | 0.007 | 0.185 | |
| view3dCells | 0.006 | 0.002 | 0.008 | |
| view3dStructure | 0.284 | 0.002 | 0.286 | |