Back to Multiple platform build/check report for BioC 3.22:   simplified   long
ABC[D]EFGHIJKLMNOPQRSTUVWXYZ

This page was generated on 2025-11-20 12:04 -0500 (Thu, 20 Nov 2025).

HostnameOSArch (*)R versionInstalled pkgs
nebbiolo2Linux (Ubuntu 24.04.3 LTS)x86_644.5.2 (2025-10-31) -- "[Not] Part in a Rumble" 4615
merida1macOS 12.7.6 Montereyx86_644.5.2 Patched (2025-11-05 r88990) -- "[Not] Part in a Rumble" 4610
kjohnson1macOS 13.7.5 Venturaarm644.5.2 Patched (2025-11-04 r88984) -- "[Not] Part in a Rumble" 4598
taishanLinux (openEuler 24.03 LTS)aarch644.5.0 (2025-04-11) -- "How About a Twenty-Six" 4668
Click on any hostname to see more info about the system (e.g. compilers)      (*) as reported by 'uname -p', except on Windows and Mac OS X

Package 626/2361HostnameOS / ArchINSTALLBUILDCHECKBUILD BIN
dreamlet 1.8.0  (landing page)
Gabriel Hoffman
Snapshot Date: 2025-11-17 13:45 -0500 (Mon, 17 Nov 2025)
git_url: https://git.bioconductor.org/packages/dreamlet
git_branch: RELEASE_3_22
git_last_commit: 1eb467d
git_last_commit_date: 2025-10-29 11:25:03 -0500 (Wed, 29 Oct 2025)
nebbiolo2Linux (Ubuntu 24.04.3 LTS) / x86_64  OK    OK    OK  UNNEEDED, same version is already published
merida1macOS 12.7.6 Monterey / x86_64  OK    OK    OK    OK  UNNEEDED, same version is already published
kjohnson1macOS 13.7.5 Ventura / arm64  OK    OK    OK    OK  UNNEEDED, same version is already published
taishanLinux (openEuler 24.03 LTS) / aarch64  OK    OK    OK  


CHECK results for dreamlet on merida1

To the developers/maintainers of the dreamlet package:
- Allow up to 24 hours (and sometimes 48 hours) for your latest push to git@git.bioconductor.org:packages/dreamlet.git to reflect on this report. See Troubleshooting Build Report for more information.
- Use the following Renviron settings to reproduce errors and warnings.
- If 'R CMD check' started to fail recently on the Linux builder(s) over a missing dependency, add the missing dependency to 'Suggests:' in your DESCRIPTION file. See Renviron.bioc for more information.

raw results


Summary

Package: dreamlet
Version: 1.8.0
Command: /Library/Frameworks/R.framework/Resources/bin/R CMD check --install=check:dreamlet.install-out.txt --library=/Library/Frameworks/R.framework/Resources/library --no-vignettes --timings dreamlet_1.8.0.tar.gz
StartedAt: 2025-11-18 06:53:52 -0500 (Tue, 18 Nov 2025)
EndedAt: 2025-11-18 07:18:16 -0500 (Tue, 18 Nov 2025)
EllapsedTime: 1464.0 seconds
RetCode: 0
Status:   OK  
CheckDir: dreamlet.Rcheck
Warnings: 0

Command output

##############################################################################
##############################################################################
###
### Running command:
###
###   /Library/Frameworks/R.framework/Resources/bin/R CMD check --install=check:dreamlet.install-out.txt --library=/Library/Frameworks/R.framework/Resources/library --no-vignettes --timings dreamlet_1.8.0.tar.gz
###
##############################################################################
##############################################################################


* using log directory ‘/Users/biocbuild/bbs-3.22-bioc/meat/dreamlet.Rcheck’
* using R version 4.5.2 Patched (2025-11-05 r88990)
* using platform: x86_64-apple-darwin20
* R was compiled by
    Apple clang version 14.0.0 (clang-1400.0.29.202)
    GNU Fortran (GCC) 14.2.0
* running under: macOS Monterey 12.7.6
* using session charset: UTF-8
* using option ‘--no-vignettes’
* checking for file ‘dreamlet/DESCRIPTION’ ... OK
* checking extension type ... Package
* this is package ‘dreamlet’ version ‘1.8.0’
* package encoding: UTF-8
* checking package namespace information ... OK
* checking package dependencies ... INFO
Imports includes 36 non-default packages.
Importing from so many packages makes the package vulnerable to any of
them becoming unavailable.  Move as many as possible to Suggests and
use conditionally.
* checking if this is a source package ... OK
* checking if there is a namespace ... OK
* checking for hidden files and directories ... OK
* checking for portable file names ... OK
* checking for sufficient/correct file permissions ... OK
* checking whether package ‘dreamlet’ can be installed ... OK
* used C++ compiler: ‘Apple clang version 14.0.0 (clang-1400.0.29.202)’
* used SDK: ‘MacOSX11.3.1.sdk’
* checking C++ specification ... NOTE
  Specified C++11: please drop specification unless essential
* checking installed package size ... OK
* checking package directory ... OK
* checking ‘build’ directory ... OK
* checking DESCRIPTION meta-information ... OK
* checking top-level files ... OK
* checking for left-over files ... OK
* checking index information ... OK
* checking package subdirectories ... OK
* checking code files for non-ASCII characters ... OK
* checking R files for syntax errors ... OK
* checking whether the package can be loaded ... OK
* checking whether the package can be loaded with stated dependencies ... OK
* checking whether the package can be unloaded cleanly ... OK
* checking whether the namespace can be loaded with stated dependencies ... OK
* checking whether the namespace can be unloaded cleanly ... OK
* checking dependencies in R code ... OK
* checking S3 generic/method consistency ... OK
* checking replacement functions ... OK
* checking foreign function calls ... OK
* checking R code for possible problems ... OK
* checking Rd files ... OK
* checking Rd metadata ... OK
* checking Rd cross-references ... OK
* checking for missing documentation entries ... OK
* checking for code/documentation mismatches ... OK
* checking Rd \usage sections ... OK
* checking Rd contents ... OK
* checking for unstated dependencies in examples ... OK
* checking line endings in C/C++/Fortran sources/headers ... OK
* checking line endings in Makefiles ... OK
* checking compilation flags in Makevars ... OK
* checking for GNU extensions in Makefiles ... OK
* checking for portable use of $(BLAS_LIBS) and $(LAPACK_LIBS) ... OK
* checking use of PKG_*FLAGS in Makefiles ... OK
* checking compiled code ... NOTE
Note: information on .o files is not available
* checking files in ‘vignettes’ ... NOTE
The following directory looks like a leftover from 'knitr':
  ‘figure’
Please remove from your package.
* checking examples ... OK
Examples with CPU (user + system) or elapsed time > 5s
                           user system elapsed
zenith_gsa-methods      169.616  9.772 190.776
fitVarPart               44.448  0.199  47.340
plotVarPart-methods      43.909  0.308  47.499
sortCols-method          42.735  0.189  45.148
plotPercentBars-methods  42.487  0.253  45.988
meta_analysis            36.037  0.572  39.516
stackAssays              24.231  0.239  25.532
run_mash                 15.022  0.253  16.115
aggregateNonCountSignal  13.093  0.701  14.677
compositePosteriorTest   12.365  0.178  13.241
plotVolcano-methods      11.406  1.041  13.280
diffVar-methods           9.514  0.090  10.148
plotPCA                   9.091  0.150   9.785
coefNames-methods         7.850  0.140   8.573
plotBeeswarm              7.858  0.113   8.590
plotGeneHeatmap-methods   7.506  0.157   8.062
plotForest-methods        7.523  0.073   8.186
topTable-methods          6.839  0.089   7.430
seeErrors-methods         6.710  0.077   7.197
processAssays             6.689  0.069   7.371
dreamlet                  6.698  0.047   7.158
residuals-methods         6.663  0.048   7.045
plotVoom-methods          6.536  0.073   7.286
getTreat-methods          6.559  0.043   6.659
dreamletCompareClusters   6.525  0.055   6.925
* checking for unstated dependencies in ‘tests’ ... OK
* checking tests ...
  Running ‘runTests.R’
 OK
* checking for unstated dependencies in vignettes ... OK
* checking package vignettes ... OK
* checking running R code from vignettes ... SKIPPED
* checking re-building of vignette outputs ... SKIPPED
* checking PDF version of manual ... OK
* DONE

Status: 3 NOTEs
See
  ‘/Users/biocbuild/bbs-3.22-bioc/meat/dreamlet.Rcheck/00check.log’
for details.


Installation output

dreamlet.Rcheck/00install.out

##############################################################################
##############################################################################
###
### Running command:
###
###   /Library/Frameworks/R.framework/Resources/bin/R CMD INSTALL dreamlet
###
##############################################################################
##############################################################################


* installing to library ‘/Library/Frameworks/R.framework/Versions/4.5-x86_64/Resources/library’
* installing *source* package ‘dreamlet’ ...
** this is package ‘dreamlet’ version ‘1.8.0’
** using staged installation
** libs
using C++ compiler: ‘Apple clang version 14.0.0 (clang-1400.0.29.202)’
using C++11
using SDK: ‘MacOSX11.3.1.sdk’
clang++ -arch x86_64 -std=gnu++11 -I"/Library/Frameworks/R.framework/Resources/include" -DNDEBUG  -I'/Library/Frameworks/R.framework/Versions/4.5-x86_64/Resources/library/Rcpp/include' -I'/Library/Frameworks/R.framework/Versions/4.5-x86_64/Resources/library/beachmat/include' -I/opt/R/x86_64/include    -fPIC  -falign-functions=64 -Wall -g -O2   -c RcppExports.cpp -o RcppExports.o
clang++ -arch x86_64 -std=gnu++11 -I"/Library/Frameworks/R.framework/Resources/include" -DNDEBUG  -I'/Library/Frameworks/R.framework/Versions/4.5-x86_64/Resources/library/Rcpp/include' -I'/Library/Frameworks/R.framework/Versions/4.5-x86_64/Resources/library/beachmat/include' -I/opt/R/x86_64/include    -fPIC  -falign-functions=64 -Wall -g -O2   -c colsum_beachmat.cpp -o colsum_beachmat.o
In file included from colsum_beachmat.cpp:1:
In file included from /Library/Frameworks/R.framework/Versions/4.5-x86_64/Resources/library/beachmat/include/beachmat3/beachmat.h:24:
In file included from /Library/Frameworks/R.framework/Versions/4.5-x86_64/Resources/library/beachmat/include/beachmat3/read_lin_block.h:11:
/Library/Frameworks/R.framework/Versions/4.5-x86_64/Resources/library/beachmat/include/beachmat3/lin_matrix.h:218:43: warning: 'beachmat::lin_sparse_matrix::get_row' hides overloaded virtual functions [-Woverloaded-virtual]
    virtual sparse_index<const int*, int> get_row(size_t r, int* work_x, int* work_i, size_t first, size_t last) = 0;
                                          ^
/Library/Frameworks/R.framework/Versions/4.5-x86_64/Resources/library/beachmat/include/beachmat3/lin_matrix.h:66:24: note: hidden overloaded virtual function 'beachmat::lin_matrix::get_row' declared here: different number of parameters (4 vs 5)
    virtual const int* get_row(size_t r, int* work, size_t first, size_t last) = 0;
                       ^
/Library/Frameworks/R.framework/Versions/4.5-x86_64/Resources/library/beachmat/include/beachmat3/lin_matrix.h:95:27: note: hidden overloaded virtual function 'beachmat::lin_matrix::get_row' declared here: different number of parameters (4 vs 5)
    virtual const double* get_row(size_t r, double* work, size_t first, size_t last) = 0;
                          ^
/Library/Frameworks/R.framework/Versions/4.5-x86_64/Resources/library/beachmat/include/beachmat3/lin_matrix.h:236:43: warning: 'beachmat::lin_sparse_matrix::get_col' hides overloaded virtual functions [-Woverloaded-virtual]
    virtual sparse_index<const int*, int> get_col(size_t c, int* work_x, int* work_i, size_t first, size_t last) = 0;
                                          ^
/Library/Frameworks/R.framework/Versions/4.5-x86_64/Resources/library/beachmat/include/beachmat3/lin_matrix.h:52:24: note: hidden overloaded virtual function 'beachmat::lin_matrix::get_col' declared here: different number of parameters (4 vs 5)
    virtual const int* get_col(size_t c, int* work, size_t first, size_t last) = 0;
                       ^
/Library/Frameworks/R.framework/Versions/4.5-x86_64/Resources/library/beachmat/include/beachmat3/lin_matrix.h:81:27: note: hidden overloaded virtual function 'beachmat::lin_matrix::get_col' declared here: different number of parameters (4 vs 5)
    virtual const double* get_col(size_t c, double* work, size_t first, size_t last) = 0;
                          ^
/Library/Frameworks/R.framework/Versions/4.5-x86_64/Resources/library/beachmat/include/beachmat3/lin_matrix.h:254:46: warning: 'beachmat::lin_sparse_matrix::get_row' hides overloaded virtual functions [-Woverloaded-virtual]
    virtual sparse_index<const double*, int> get_row(size_t r, double* work_x, int* work_i, size_t first, size_t last) = 0;
                                             ^
/Library/Frameworks/R.framework/Versions/4.5-x86_64/Resources/library/beachmat/include/beachmat3/lin_matrix.h:66:24: note: hidden overloaded virtual function 'beachmat::lin_matrix::get_row' declared here: different number of parameters (4 vs 5)
    virtual const int* get_row(size_t r, int* work, size_t first, size_t last) = 0;
                       ^
/Library/Frameworks/R.framework/Versions/4.5-x86_64/Resources/library/beachmat/include/beachmat3/lin_matrix.h:95:27: note: hidden overloaded virtual function 'beachmat::lin_matrix::get_row' declared here: different number of parameters (4 vs 5)
    virtual const double* get_row(size_t r, double* work, size_t first, size_t last) = 0;
                          ^
/Library/Frameworks/R.framework/Versions/4.5-x86_64/Resources/library/beachmat/include/beachmat3/lin_matrix.h:272:46: warning: 'beachmat::lin_sparse_matrix::get_col' hides overloaded virtual functions [-Woverloaded-virtual]
    virtual sparse_index<const double*, int> get_col(size_t c, double* work_x, int* work_i, size_t first, size_t last) = 0;
                                             ^
/Library/Frameworks/R.framework/Versions/4.5-x86_64/Resources/library/beachmat/include/beachmat3/lin_matrix.h:52:24: note: hidden overloaded virtual function 'beachmat::lin_matrix::get_col' declared here: different number of parameters (4 vs 5)
    virtual const int* get_col(size_t c, int* work, size_t first, size_t last) = 0;
                       ^
/Library/Frameworks/R.framework/Versions/4.5-x86_64/Resources/library/beachmat/include/beachmat3/lin_matrix.h:81:27: note: hidden overloaded virtual function 'beachmat::lin_matrix::get_col' declared here: different number of parameters (4 vs 5)
    virtual const double* get_col(size_t c, double* work, size_t first, size_t last) = 0;
                          ^
/Library/Frameworks/R.framework/Versions/4.5-x86_64/Resources/library/beachmat/include/beachmat3/lin_matrix.h:287:35: warning: 'beachmat::lin_sparse_matrix::get_col' hides overloaded virtual functions [-Woverloaded-virtual]
    sparse_index<const int*, int> get_col(size_t c, int* work_x, int* work_i) {
                                  ^
/Library/Frameworks/R.framework/Versions/4.5-x86_64/Resources/library/beachmat/include/beachmat3/lin_matrix.h:52:24: note: hidden overloaded virtual function 'beachmat::lin_matrix::get_col' declared here: different number of parameters (4 vs 3)
    virtual const int* get_col(size_t c, int* work, size_t first, size_t last) = 0;
                       ^
/Library/Frameworks/R.framework/Versions/4.5-x86_64/Resources/library/beachmat/include/beachmat3/lin_matrix.h:81:27: note: hidden overloaded virtual function 'beachmat::lin_matrix::get_col' declared here: different number of parameters (4 vs 3)
    virtual const double* get_col(size_t c, double* work, size_t first, size_t last) = 0;
                          ^
/Library/Frameworks/R.framework/Versions/4.5-x86_64/Resources/library/beachmat/include/beachmat3/lin_matrix.h:304:35: warning: 'beachmat::lin_sparse_matrix::get_row' hides overloaded virtual functions [-Woverloaded-virtual]
    sparse_index<const int*, int> get_row(size_t r, int* work_x, int* work_i) {
                                  ^
/Library/Frameworks/R.framework/Versions/4.5-x86_64/Resources/library/beachmat/include/beachmat3/lin_matrix.h:66:24: note: hidden overloaded virtual function 'beachmat::lin_matrix::get_row' declared here: different number of parameters (4 vs 3)
    virtual const int* get_row(size_t r, int* work, size_t first, size_t last) = 0;
                       ^
/Library/Frameworks/R.framework/Versions/4.5-x86_64/Resources/library/beachmat/include/beachmat3/lin_matrix.h:95:27: note: hidden overloaded virtual function 'beachmat::lin_matrix::get_row' declared here: different number of parameters (4 vs 3)
    virtual const double* get_row(size_t r, double* work, size_t first, size_t last) = 0;
                          ^
/Library/Frameworks/R.framework/Versions/4.5-x86_64/Resources/library/beachmat/include/beachmat3/lin_matrix.h:321:38: warning: 'beachmat::lin_sparse_matrix::get_col' hides overloaded virtual functions [-Woverloaded-virtual]
    sparse_index<const double*, int> get_col(size_t c, double* work_x, int* work_i) {
                                     ^
/Library/Frameworks/R.framework/Versions/4.5-x86_64/Resources/library/beachmat/include/beachmat3/lin_matrix.h:52:24: note: hidden overloaded virtual function 'beachmat::lin_matrix::get_col' declared here: different number of parameters (4 vs 3)
    virtual const int* get_col(size_t c, int* work, size_t first, size_t last) = 0;
                       ^
/Library/Frameworks/R.framework/Versions/4.5-x86_64/Resources/library/beachmat/include/beachmat3/lin_matrix.h:81:27: note: hidden overloaded virtual function 'beachmat::lin_matrix::get_col' declared here: different number of parameters (4 vs 3)
    virtual const double* get_col(size_t c, double* work, size_t first, size_t last) = 0;
                          ^
/Library/Frameworks/R.framework/Versions/4.5-x86_64/Resources/library/beachmat/include/beachmat3/lin_matrix.h:338:38: warning: 'beachmat::lin_sparse_matrix::get_row' hides overloaded virtual functions [-Woverloaded-virtual]
    sparse_index<const double*, int> get_row(size_t r, double* work_x, int* work_i) {
                                     ^
/Library/Frameworks/R.framework/Versions/4.5-x86_64/Resources/library/beachmat/include/beachmat3/lin_matrix.h:66:24: note: hidden overloaded virtual function 'beachmat::lin_matrix::get_row' declared here: different number of parameters (4 vs 3)
    virtual const int* get_row(size_t r, int* work, size_t first, size_t last) = 0;
                       ^
/Library/Frameworks/R.framework/Versions/4.5-x86_64/Resources/library/beachmat/include/beachmat3/lin_matrix.h:95:27: note: hidden overloaded virtual function 'beachmat::lin_matrix::get_row' declared here: different number of parameters (4 vs 3)
    virtual const double* get_row(size_t r, double* work, size_t first, size_t last) = 0;
                          ^
8 warnings generated.
clang++ -arch x86_64 -std=gnu++11 -dynamiclib -Wl,-headerpad_max_install_names -undefined dynamic_lookup -L/Library/Frameworks/R.framework/Resources/lib -L/opt/R/x86_64/lib -o dreamlet.so RcppExports.o colsum_beachmat.o -F/Library/Frameworks/R.framework/.. -framework R
installing to /Library/Frameworks/R.framework/Versions/4.5-x86_64/Resources/library/00LOCK-dreamlet/00new/dreamlet/libs
** R
** inst
** byte-compile and prepare package for lazy loading
** help
Loading required namespace: variancePartition
Loading required namespace: dreamlet
*** installing help indices
*** copying figures
** building package indices
** installing vignettes
** testing if installed package can be loaded from temporary location
** checking absolute paths in shared objects and dynamic libraries
** testing if installed package can be loaded from final location
** testing if installed package keeps a record of temporary installation path
* DONE (dreamlet)

Tests output

dreamlet.Rcheck/tests/runTests.Rout


R version 4.5.2 Patched (2025-11-05 r88990) -- "[Not] Part in a Rumble"
Copyright (C) 2025 The R Foundation for Statistical Computing
Platform: x86_64-apple-darwin20

R is free software and comes with ABSOLUTELY NO WARRANTY.
You are welcome to redistribute it under certain conditions.
Type 'license()' or 'licence()' for distribution details.

R is a collaborative project with many contributors.
Type 'contributors()' for more information and
'citation()' on how to cite R or R packages in publications.

Type 'demo()' for some demos, 'help()' for on-line help, or
'help.start()' for an HTML browser interface to help.
Type 'q()' to quit R.

> library(Matrix)
> library(dreamlet)
Loading required package: variancePartition
Loading required package: ggplot2
Loading required package: limma
Loading required package: BiocParallel

Attaching package: 'variancePartition'

The following objects are masked from 'package:limma':

    eBayes, topTable

Loading required package: SingleCellExperiment
Loading required package: SummarizedExperiment
Loading required package: MatrixGenerics
Loading required package: matrixStats

Attaching package: 'MatrixGenerics'

The following objects are masked from 'package:matrixStats':

    colAlls, colAnyNAs, colAnys, colAvgsPerRowSet, colCollapse,
    colCounts, colCummaxs, colCummins, colCumprods, colCumsums,
    colDiffs, colIQRDiffs, colIQRs, colLogSumExps, colMadDiffs,
    colMads, colMaxs, colMeans2, colMedians, colMins, colOrderStats,
    colProds, colQuantiles, colRanges, colRanks, colSdDiffs, colSds,
    colSums2, colTabulates, colVarDiffs, colVars, colWeightedMads,
    colWeightedMeans, colWeightedMedians, colWeightedSds,
    colWeightedVars, rowAlls, rowAnyNAs, rowAnys, rowAvgsPerColSet,
    rowCollapse, rowCounts, rowCummaxs, rowCummins, rowCumprods,
    rowCumsums, rowDiffs, rowIQRDiffs, rowIQRs, rowLogSumExps,
    rowMadDiffs, rowMads, rowMaxs, rowMeans2, rowMedians, rowMins,
    rowOrderStats, rowProds, rowQuantiles, rowRanges, rowRanks,
    rowSdDiffs, rowSds, rowSums2, rowTabulates, rowVarDiffs, rowVars,
    rowWeightedMads, rowWeightedMeans, rowWeightedMedians,
    rowWeightedSds, rowWeightedVars

Loading required package: GenomicRanges
Loading required package: stats4
Loading required package: BiocGenerics
Loading required package: generics

Attaching package: 'generics'

The following objects are masked from 'package:base':

    as.difftime, as.factor, as.ordered, intersect, is.element, setdiff,
    setequal, union


Attaching package: 'BiocGenerics'

The following object is masked from 'package:limma':

    plotMA

The following objects are masked from 'package:stats':

    IQR, mad, sd, var, xtabs

The following objects are masked from 'package:base':

    Filter, Find, Map, Position, Reduce, anyDuplicated, aperm, append,
    as.data.frame, basename, cbind, colnames, dirname, do.call,
    duplicated, eval, evalq, get, grep, grepl, is.unsorted, lapply,
    mapply, match, mget, order, paste, pmax, pmax.int, pmin, pmin.int,
    rank, rbind, rownames, sapply, saveRDS, table, tapply, unique,
    unsplit, which.max, which.min

Loading required package: S4Vectors

Attaching package: 'S4Vectors'

The following objects are masked from 'package:Matrix':

    expand, unname

The following object is masked from 'package:utils':

    findMatches

The following objects are masked from 'package:base':

    I, expand.grid, unname

Loading required package: IRanges
Loading required package: Seqinfo
Loading required package: Biobase
Welcome to Bioconductor

    Vignettes contain introductory material; view with
    'browseVignettes()'. To cite Bioconductor, see
    'citation("Biobase")', and for packages 'citation("pkgname")'.


Attaching package: 'Biobase'

The following object is masked from 'package:MatrixGenerics':

    rowMedians

The following objects are masked from 'package:matrixStats':

    anyMissing, rowMedians

> library(DelayedArray)
Loading required package: S4Arrays
Loading required package: abind

Attaching package: 'S4Arrays'

The following object is masked from 'package:abind':

    abind

The following object is masked from 'package:base':

    rowsum

Loading required package: SparseArray

Attaching package: 'DelayedArray'

The following objects are masked from 'package:base':

    apply, scale, sweep

> library(edgeR)

Attaching package: 'edgeR'

The following objects are masked from 'package:SingleCellExperiment':

    cpm, tpm

> library(muscat)
Warning message:
In check_dep_version(dep_pkg = "TMB") : package version mismatch: 
glmmTMB was built with TMB package version 1.9.17
Current TMB package version is 1.9.18
Please re-install glmmTMB from source or restore original 'TMB' package (see '?reinstalling' for more information)
> library(RUnit)
> 
> BiocGenerics:::testPackage("dreamlet")
  B cells...0.65 secs
  B cells...0.53 secs

Processing block [[1/1, 1/1]] ... OK
  B cells...0.53 secs
  CD14+ Monocytes...0.69 secs
  CD4 T cells...0.6 secs
  CD8 T cells...0.43 secs
  FCGR3A+ Monocytes...0.73 secs
  B cells...8.4 secs
  CD14+ Monocytes...10 secs
  CD4 T cells...8.1 secs
  CD8 T cells...5 secs
  FCGR3A+ Monocytes...9.9 secs


  B cells...0.6 secs
  CD14+ Monocytes...0.98 secs
  CD4 T cells...0.6 secs
  CD8 T cells...0.37 secs
  FCGR3A+ Monocytes...0.73 secs


RUNIT TEST PROTOCOL -- Tue Nov 18 07:17:58 2025 
*********************************************** 
Number of test functions: 10 
Number of errors: 0 
Number of failures: 0 

 
1 Test Suite : 
dreamlet RUnit Tests - 10 test functions, 0 errors, 0 failures
Number of test functions: 10 
Number of errors: 0 
Number of failures: 0 
> 
> proc.time()
   user  system elapsed 
112.874   3.798 155.424 

Example timings

dreamlet.Rcheck/dreamlet-Ex.timings

nameusersystemelapsed
aggregateNonCountSignal13.093 0.70114.677
aggregateToPseudoBulk1.4650.0331.565
aggregateVar2.0660.1532.333
as.dreamletResult2.4870.0632.722
buildClusterTreeFromPB0.9600.0231.041
cellCounts0.8110.0250.914
cellTypeSpecificity4.4700.1064.965
checkFormula0.0000.0010.002
coefNames-methods7.8500.1408.573
compositePosteriorTest12.365 0.17813.241
computeCellCounts0.2510.0190.270
computeLogCPM1.6860.0841.789
computeNormCounts0.3810.0300.441
details-methods3.7460.0564.056
diffVar-methods 9.514 0.09010.148
dreamlet6.6980.0477.158
dreamletCompareClusters6.5250.0556.925
dropRedundantTerms0.0090.0000.010
equalFormulas0.0000.0010.001
extractData-methods3.9080.0464.155
fitVarPart44.448 0.19947.340
getTreat-methods6.5590.0436.659
meta_analysis36.037 0.57239.516
outlier0.0040.0010.006
outlierByAssay3.9550.0794.398
plotBeeswarm7.8580.1138.590
plotCellComposition2.5850.0402.843
plotForest-methods7.5230.0738.186
plotGeneHeatmap-methods7.5060.1578.062
plotHeatmap-methods1.6810.0451.816
plotPCA9.0910.1509.785
plotPercentBars-methods42.487 0.25345.988
plotProjection1.2770.1371.472
plotVarPart-methods43.909 0.30847.499
plotViolin-methods2.2950.0472.492
plotVolcano-methods11.406 1.04113.280
plotVoom-methods6.5360.0737.286
processAssays6.6890.0697.371
removeConstantTerms0.0090.0010.010
residuals-methods6.6630.0487.045
run_mash15.022 0.25316.115
seeErrors-methods6.7100.0777.197
sortCols-method42.735 0.18945.148
stackAssays24.231 0.23925.532
topTable-methods6.8390.0897.430
zenith_gsa-methods169.616 9.772190.776