| Back to Multiple platform build/check report for BioC 3.22: simplified long |
|
This page was generated on 2025-10-24 12:03 -0400 (Fri, 24 Oct 2025).
| Hostname | OS | Arch (*) | R version | Installed pkgs |
|---|---|---|---|---|
| nebbiolo2 | Linux (Ubuntu 24.04.3 LTS) | x86_64 | 4.5.1 Patched (2025-08-23 r88802) -- "Great Square Root" | 4898 |
| lconway | macOS 12.7.6 Monterey | x86_64 | 4.5.1 Patched (2025-09-10 r88807) -- "Great Square Root" | 4688 |
| kjohnson3 | macOS 13.7.7 Ventura | arm64 | 4.5.1 Patched (2025-09-10 r88807) -- "Great Square Root" | 4634 |
| taishan | Linux (openEuler 24.03 LTS) | aarch64 | 4.5.0 (2025-04-11) -- "How About a Twenty-Six" | 4658 |
| Click on any hostname to see more info about the system (e.g. compilers) (*) as reported by 'uname -p', except on Windows and Mac OS X | ||||
| Package 625/2359 | Hostname | OS / Arch | INSTALL | BUILD | CHECK | BUILD BIN | ||||||||
| dreamlet 1.7.1 (landing page) Gabriel Hoffman
| nebbiolo2 | Linux (Ubuntu 24.04.3 LTS) / x86_64 | OK | OK | OK | |||||||||
| lconway | macOS 12.7.6 Monterey / x86_64 | OK | OK | OK | OK | |||||||||
| kjohnson3 | macOS 13.7.7 Ventura / arm64 | OK | OK | OK | OK | |||||||||
| taishan | Linux (openEuler 24.03 LTS) / aarch64 | OK | OK | ERROR | ||||||||||
|
To the developers/maintainers of the dreamlet package: - Allow up to 24 hours (and sometimes 48 hours) for your latest push to git@git.bioconductor.org:packages/dreamlet.git to reflect on this report. See Troubleshooting Build Report for more information. - Use the following Renviron settings to reproduce errors and warnings. - If 'R CMD check' started to fail recently on the Linux builder(s) over a missing dependency, add the missing dependency to 'Suggests:' in your DESCRIPTION file. See Renviron.bioc for more information. |
| Package: dreamlet |
| Version: 1.7.1 |
| Command: /home/biocbuild/bbs-3.22-bioc/R/bin/R CMD check --install=check:dreamlet.install-out.txt --library=/home/biocbuild/bbs-3.22-bioc/R/site-library --timings dreamlet_1.7.1.tar.gz |
| StartedAt: 2025-10-23 23:11:17 -0400 (Thu, 23 Oct 2025) |
| EndedAt: 2025-10-23 23:28:23 -0400 (Thu, 23 Oct 2025) |
| EllapsedTime: 1026.2 seconds |
| RetCode: 0 |
| Status: OK |
| CheckDir: dreamlet.Rcheck |
| Warnings: 0 |
##############################################################################
##############################################################################
###
### Running command:
###
### /home/biocbuild/bbs-3.22-bioc/R/bin/R CMD check --install=check:dreamlet.install-out.txt --library=/home/biocbuild/bbs-3.22-bioc/R/site-library --timings dreamlet_1.7.1.tar.gz
###
##############################################################################
##############################################################################
* using log directory ‘/home/biocbuild/bbs-3.22-bioc/meat/dreamlet.Rcheck’
* using R version 4.5.1 Patched (2025-08-23 r88802)
* using platform: x86_64-pc-linux-gnu
* R was compiled by
gcc (Ubuntu 13.3.0-6ubuntu2~24.04) 13.3.0
GNU Fortran (Ubuntu 13.3.0-6ubuntu2~24.04) 13.3.0
* running under: Ubuntu 24.04.3 LTS
* using session charset: UTF-8
* checking for file ‘dreamlet/DESCRIPTION’ ... OK
* checking extension type ... Package
* this is package ‘dreamlet’ version ‘1.7.1’
* package encoding: UTF-8
* checking package namespace information ... OK
* checking package dependencies ... INFO
Imports includes 36 non-default packages.
Importing from so many packages makes the package vulnerable to any of
them becoming unavailable. Move as many as possible to Suggests and
use conditionally.
* checking if this is a source package ... OK
* checking if there is a namespace ... OK
* checking for hidden files and directories ... OK
* checking for portable file names ... OK
* checking for sufficient/correct file permissions ... OK
* checking whether package ‘dreamlet’ can be installed ... OK
* used C++ compiler: ‘g++ (Ubuntu 13.3.0-6ubuntu2~24.04) 13.3.0’
* checking C++ specification ... NOTE
Specified C++11: please drop specification unless essential
* checking installed package size ... OK
* checking package directory ... OK
* checking ‘build’ directory ... OK
* checking DESCRIPTION meta-information ... OK
* checking top-level files ... OK
* checking for left-over files ... OK
* checking index information ... OK
* checking package subdirectories ... OK
* checking code files for non-ASCII characters ... OK
* checking R files for syntax errors ... OK
* checking whether the package can be loaded ... OK
* checking whether the package can be loaded with stated dependencies ... OK
* checking whether the package can be unloaded cleanly ... OK
* checking whether the namespace can be loaded with stated dependencies ... OK
* checking whether the namespace can be unloaded cleanly ... OK
* checking loading without being on the library search path ... OK
* checking dependencies in R code ... OK
* checking S3 generic/method consistency ... OK
* checking replacement functions ... OK
* checking foreign function calls ... OK
* checking R code for possible problems ... OK
* checking Rd files ... OK
* checking Rd metadata ... OK
* checking Rd cross-references ... OK
* checking for missing documentation entries ... OK
* checking for code/documentation mismatches ... OK
* checking Rd \usage sections ... OK
* checking Rd contents ... OK
* checking for unstated dependencies in examples ... OK
* checking line endings in C/C++/Fortran sources/headers ... OK
* checking line endings in Makefiles ... OK
* checking compilation flags in Makevars ... OK
* checking for GNU extensions in Makefiles ... OK
* checking for portable use of $(BLAS_LIBS) and $(LAPACK_LIBS) ... OK
* checking use of PKG_*FLAGS in Makefiles ... OK
* checking compiled code ... NOTE
Note: information on .o files is not available
* checking files in ‘vignettes’ ... NOTE
The following directory looks like a leftover from 'knitr':
‘figure’
Please remove from your package.
* checking examples ... OK
Examples with CPU (user + system) or elapsed time > 5s
user system elapsed
zenith_gsa-methods 75.229 1.590 76.828
fitVarPart 18.373 0.236 18.625
plotVarPart-methods 17.641 0.147 17.790
plotPercentBars-methods 16.596 0.129 16.727
sortCols-method 16.319 0.160 16.482
meta_analysis 15.014 0.223 15.239
run_mash 10.273 0.155 10.425
stackAssays 10.300 0.057 10.360
compositePosteriorTest 8.743 0.128 8.872
aggregateNonCountSignal 5.034 0.271 5.308
* checking for unstated dependencies in ‘tests’ ... OK
* checking tests ...
Running ‘runTests.R’
OK
* checking for unstated dependencies in vignettes ... OK
* checking package vignettes ... OK
* checking re-building of vignette outputs ... OK
* checking PDF version of manual ... OK
* DONE
Status: 3 NOTEs
See
‘/home/biocbuild/bbs-3.22-bioc/meat/dreamlet.Rcheck/00check.log’
for details.
dreamlet.Rcheck/00install.out
##############################################################################
##############################################################################
###
### Running command:
###
### /home/biocbuild/bbs-3.22-bioc/R/bin/R CMD INSTALL dreamlet
###
##############################################################################
##############################################################################
* installing to library ‘/home/biocbuild/bbs-3.22-bioc/R/site-library’
* installing *source* package ‘dreamlet’ ...
** this is package ‘dreamlet’ version ‘1.7.1’
** using staged installation
** libs
using C++ compiler: ‘g++ (Ubuntu 13.3.0-6ubuntu2~24.04) 13.3.0’
using C++11
g++ -std=gnu++11 -I"/home/biocbuild/bbs-3.22-bioc/R/include" -DNDEBUG -I'/home/biocbuild/bbs-3.22-bioc/R/site-library/Rcpp/include' -I'/home/biocbuild/bbs-3.22-bioc/R/site-library/beachmat/include' -I/usr/local/include -fpic -g -O2 -Wall -Werror=format-security -c RcppExports.cpp -o RcppExports.o
g++ -std=gnu++11 -I"/home/biocbuild/bbs-3.22-bioc/R/include" -DNDEBUG -I'/home/biocbuild/bbs-3.22-bioc/R/site-library/Rcpp/include' -I'/home/biocbuild/bbs-3.22-bioc/R/site-library/beachmat/include' -I/usr/local/include -fpic -g -O2 -Wall -Werror=format-security -c colsum_beachmat.cpp -o colsum_beachmat.o
In file included from /home/biocbuild/bbs-3.22-bioc/R/site-library/beachmat/include/beachmat3/lin_matrix.h:12,
from /home/biocbuild/bbs-3.22-bioc/R/site-library/beachmat/include/beachmat3/read_lin_block.h:11,
from /home/biocbuild/bbs-3.22-bioc/R/site-library/beachmat/include/beachmat3/beachmat.h:24,
from colsum_beachmat.cpp:1:
/home/biocbuild/bbs-3.22-bioc/R/site-library/beachmat/include/beachmat3/Csparse_reader.h: In instantiation of ‘beachmat::SparseArraySeed_reader<V, TIT>::SparseArraySeed_reader(Rcpp::RObject) [with V = Rcpp::Vector<13>; TIT = const int*; Rcpp::RObject = Rcpp::RObject_Impl<Rcpp::PreserveStorage>]’:
/home/biocbuild/bbs-3.22-bioc/R/site-library/beachmat/include/beachmat3/lin_matrix.h:561:46: required from ‘beachmat::lin_SparseArraySeed<V, TIT>::lin_SparseArraySeed(Rcpp::RObject) [with V = Rcpp::Vector<13>; TIT = const int*; Rcpp::RObject = Rcpp::RObject_Impl<Rcpp::PreserveStorage>]’
/home/biocbuild/bbs-3.22-bioc/R/site-library/beachmat/include/beachmat3/read_lin_block.h:36:39: required from ‘std::unique_ptr<M> beachmat::read_lin_sparse_block_raw(Rcpp::RObject) [with M = lin_matrix; Rcpp::RObject = Rcpp::RObject_Impl<Rcpp::PreserveStorage>]’
/home/biocbuild/bbs-3.22-bioc/R/site-library/beachmat/include/beachmat3/read_lin_block.h:65:57: required from here
/home/biocbuild/bbs-3.22-bioc/R/site-library/beachmat/include/beachmat3/Csparse_reader.h:535:17: warning: comparison of integer expressions of different signedness: ‘const size_t’ {aka ‘const long unsigned int’} and ‘R_xlen_t’ {aka ‘long int’} [-Wsign-compare]
535 | if (nnz != x.size()) {
| ~~~~^~~~~~~~~~~
/home/biocbuild/bbs-3.22-bioc/R/site-library/beachmat/include/beachmat3/Csparse_reader.h:551:45: warning: comparison of integer expressions of different signedness: ‘int’ and ‘const size_t’ {aka ‘const long unsigned int’} [-Wsign-compare]
551 | if (lastR <= 0 || lastR > NR || lastC <= 0 || lastC > NC) {
| ~~~~~~^~~~
/home/biocbuild/bbs-3.22-bioc/R/site-library/beachmat/include/beachmat3/Csparse_reader.h:551:73: warning: comparison of integer expressions of different signedness: ‘int’ and ‘const size_t’ {aka ‘const long unsigned int’} [-Wsign-compare]
551 | if (lastR <= 0 || lastR > NR || lastC <= 0 || lastC > NC) {
| ~~~~~~^~~~
/home/biocbuild/bbs-3.22-bioc/R/site-library/beachmat/include/beachmat3/Csparse_reader.h:593:35: warning: comparison of integer expressions of different signedness: ‘int’ and ‘const size_t’ {aka ‘const long unsigned int’} [-Wsign-compare]
593 | for (int v = 0; v < nnz; ++v, ++rowIt, ++colIt, ++xIt) {
| ~~^~~~~
/home/biocbuild/bbs-3.22-bioc/R/site-library/beachmat/include/beachmat3/Csparse_reader.h: In instantiation of ‘beachmat::SparseArraySeed_reader<V, TIT>::SparseArraySeed_reader(Rcpp::RObject) [with V = Rcpp::Vector<14, Rcpp::PreserveStorage>; TIT = const double*; Rcpp::RObject = Rcpp::RObject_Impl<Rcpp::PreserveStorage>]’:
/home/biocbuild/bbs-3.22-bioc/R/site-library/beachmat/include/beachmat3/lin_matrix.h:561:46: required from ‘beachmat::lin_SparseArraySeed<V, TIT>::lin_SparseArraySeed(Rcpp::RObject) [with V = Rcpp::Vector<14, Rcpp::PreserveStorage>; TIT = const double*; Rcpp::RObject = Rcpp::RObject_Impl<Rcpp::PreserveStorage>]’
/home/biocbuild/bbs-3.22-bioc/R/site-library/beachmat/include/beachmat3/read_lin_block.h:38:39: required from ‘std::unique_ptr<M> beachmat::read_lin_sparse_block_raw(Rcpp::RObject) [with M = lin_matrix; Rcpp::RObject = Rcpp::RObject_Impl<Rcpp::PreserveStorage>]’
/home/biocbuild/bbs-3.22-bioc/R/site-library/beachmat/include/beachmat3/read_lin_block.h:65:57: required from here
/home/biocbuild/bbs-3.22-bioc/R/site-library/beachmat/include/beachmat3/Csparse_reader.h:535:17: warning: comparison of integer expressions of different signedness: ‘const size_t’ {aka ‘const long unsigned int’} and ‘R_xlen_t’ {aka ‘long int’} [-Wsign-compare]
535 | if (nnz != x.size()) {
| ~~~~^~~~~~~~~~~
/home/biocbuild/bbs-3.22-bioc/R/site-library/beachmat/include/beachmat3/Csparse_reader.h:551:45: warning: comparison of integer expressions of different signedness: ‘int’ and ‘const size_t’ {aka ‘const long unsigned int’} [-Wsign-compare]
551 | if (lastR <= 0 || lastR > NR || lastC <= 0 || lastC > NC) {
| ~~~~~~^~~~
/home/biocbuild/bbs-3.22-bioc/R/site-library/beachmat/include/beachmat3/Csparse_reader.h:551:73: warning: comparison of integer expressions of different signedness: ‘int’ and ‘const size_t’ {aka ‘const long unsigned int’} [-Wsign-compare]
551 | if (lastR <= 0 || lastR > NR || lastC <= 0 || lastC > NC) {
| ~~~~~~^~~~
/home/biocbuild/bbs-3.22-bioc/R/site-library/beachmat/include/beachmat3/Csparse_reader.h:593:35: warning: comparison of integer expressions of different signedness: ‘int’ and ‘const size_t’ {aka ‘const long unsigned int’} [-Wsign-compare]
593 | for (int v = 0; v < nnz; ++v, ++rowIt, ++colIt, ++xIt) {
| ~~^~~~~
/home/biocbuild/bbs-3.22-bioc/R/site-library/beachmat/include/beachmat3/Csparse_reader.h: In instantiation of ‘beachmat::SparseArraySeed_reader<V, TIT>::SparseArraySeed_reader(Rcpp::RObject) [with V = Rcpp::Vector<10, Rcpp::PreserveStorage>; TIT = const int*; Rcpp::RObject = Rcpp::RObject_Impl<Rcpp::PreserveStorage>]’:
/home/biocbuild/bbs-3.22-bioc/R/site-library/beachmat/include/beachmat3/lin_matrix.h:561:46: required from ‘beachmat::lin_SparseArraySeed<V, TIT>::lin_SparseArraySeed(Rcpp::RObject) [with V = Rcpp::Vector<10, Rcpp::PreserveStorage>; TIT = const int*; Rcpp::RObject = Rcpp::RObject_Impl<Rcpp::PreserveStorage>]’
/home/biocbuild/bbs-3.22-bioc/R/site-library/beachmat/include/beachmat3/read_lin_block.h:40:39: required from ‘std::unique_ptr<M> beachmat::read_lin_sparse_block_raw(Rcpp::RObject) [with M = lin_matrix; Rcpp::RObject = Rcpp::RObject_Impl<Rcpp::PreserveStorage>]’
/home/biocbuild/bbs-3.22-bioc/R/site-library/beachmat/include/beachmat3/read_lin_block.h:65:57: required from here
/home/biocbuild/bbs-3.22-bioc/R/site-library/beachmat/include/beachmat3/Csparse_reader.h:535:17: warning: comparison of integer expressions of different signedness: ‘const size_t’ {aka ‘const long unsigned int’} and ‘R_xlen_t’ {aka ‘long int’} [-Wsign-compare]
535 | if (nnz != x.size()) {
| ~~~~^~~~~~~~~~~
/home/biocbuild/bbs-3.22-bioc/R/site-library/beachmat/include/beachmat3/Csparse_reader.h:551:45: warning: comparison of integer expressions of different signedness: ‘int’ and ‘const size_t’ {aka ‘const long unsigned int’} [-Wsign-compare]
551 | if (lastR <= 0 || lastR > NR || lastC <= 0 || lastC > NC) {
| ~~~~~~^~~~
/home/biocbuild/bbs-3.22-bioc/R/site-library/beachmat/include/beachmat3/Csparse_reader.h:551:73: warning: comparison of integer expressions of different signedness: ‘int’ and ‘const size_t’ {aka ‘const long unsigned int’} [-Wsign-compare]
551 | if (lastR <= 0 || lastR > NR || lastC <= 0 || lastC > NC) {
| ~~~~~~^~~~
/home/biocbuild/bbs-3.22-bioc/R/site-library/beachmat/include/beachmat3/Csparse_reader.h:593:35: warning: comparison of integer expressions of different signedness: ‘int’ and ‘const size_t’ {aka ‘const long unsigned int’} [-Wsign-compare]
593 | for (int v = 0; v < nnz; ++v, ++rowIt, ++colIt, ++xIt) {
| ~~^~~~~
/home/biocbuild/bbs-3.22-bioc/R/site-library/beachmat/include/beachmat3/Csparse_reader.h: In instantiation of ‘beachmat::sparse_index<OUT, I> beachmat::Csparse_core<TIT, I, P>::get_row(size_t, ALT, I*, size_t, size_t) [with OUT = const int*; ALT = int*; TIT = const double*; I = int; P = long unsigned int; size_t = long unsigned int]’:
/home/biocbuild/bbs-3.22-bioc/R/site-library/beachmat/include/beachmat3/Csparse_reader.h:650:42: required from ‘beachmat::sparse_index<OUT, int> beachmat::SparseArraySeed_reader<V, TIT>::get_row(size_t, ALT, int*, size_t, size_t) [with OUT = const int*; ALT = int*; V = Rcpp::Vector<14, Rcpp::PreserveStorage>; TIT = const double*; size_t = long unsigned int]’
/home/biocbuild/bbs-3.22-bioc/R/site-library/beachmat/include/beachmat3/lin_matrix.h:596:51: required from ‘beachmat::sparse_index<const int*, int> beachmat::lin_SparseArraySeed<V, TIT>::get_row(size_t, int*, int*, size_t, size_t) [with V = Rcpp::Vector<14, Rcpp::PreserveStorage>; TIT = const double*; size_t = long unsigned int]’
/home/biocbuild/bbs-3.22-bioc/R/site-library/beachmat/include/beachmat3/lin_matrix.h:595:35: required from here
/home/biocbuild/bbs-3.22-bioc/R/site-library/beachmat/include/beachmat3/Csparse_reader.h:250:22: warning: comparison of integer expressions of different signedness: ‘const int’ and ‘const long unsigned int’ [-Wsign-compare]
250 | if (idex != *pIt && static_cast<size_t>(i[idex]) == r) {
| ~~~~~^~~~~~~
/home/biocbuild/bbs-3.22-bioc/R/site-library/beachmat/include/beachmat3/Csparse_reader.h: In instantiation of ‘beachmat::sparse_index<OUT, I> beachmat::Csparse_core<TIT, I, P>::get_row(size_t, ALT, I*, size_t, size_t) [with OUT = const double*; ALT = double*; TIT = const double*; I = int; P = long unsigned int; size_t = long unsigned int]’:
/home/biocbuild/bbs-3.22-bioc/R/site-library/beachmat/include/beachmat3/Csparse_reader.h:650:42: required from ‘beachmat::sparse_index<OUT, int> beachmat::SparseArraySeed_reader<V, TIT>::get_row(size_t, ALT, int*, size_t, size_t) [with OUT = const double*; ALT = double*; V = Rcpp::Vector<14, Rcpp::PreserveStorage>; TIT = const double*; size_t = long unsigned int]’
/home/biocbuild/bbs-3.22-bioc/R/site-library/beachmat/include/beachmat3/lin_matrix.h:602:54: required from ‘beachmat::sparse_index<const double*, int> beachmat::lin_SparseArraySeed<V, TIT>::get_row(size_t, double*, int*, size_t, size_t) [with V = Rcpp::Vector<14, Rcpp::PreserveStorage>; TIT = const double*; size_t = long unsigned int]’
/home/biocbuild/bbs-3.22-bioc/R/site-library/beachmat/include/beachmat3/lin_matrix.h:601:38: required from here
/home/biocbuild/bbs-3.22-bioc/R/site-library/beachmat/include/beachmat3/Csparse_reader.h:250:22: warning: comparison of integer expressions of different signedness: ‘const int’ and ‘const long unsigned int’ [-Wsign-compare]
/home/biocbuild/bbs-3.22-bioc/R/site-library/beachmat/include/beachmat3/Csparse_reader.h: In instantiation of ‘beachmat::sparse_index<OUT, I> beachmat::Csparse_core<TIT, I, P>::get_row(size_t, ALT, I*, size_t, size_t) [with OUT = const int*; ALT = int*; TIT = const int*; I = int; P = long unsigned int; size_t = long unsigned int]’:
/home/biocbuild/bbs-3.22-bioc/R/site-library/beachmat/include/beachmat3/Csparse_reader.h:650:42: required from ‘beachmat::sparse_index<OUT, int> beachmat::SparseArraySeed_reader<V, TIT>::get_row(size_t, ALT, int*, size_t, size_t) [with OUT = const int*; ALT = int*; V = Rcpp::Vector<10, Rcpp::PreserveStorage>; TIT = const int*; size_t = long unsigned int]’
/home/biocbuild/bbs-3.22-bioc/R/site-library/beachmat/include/beachmat3/lin_matrix.h:596:51: required from ‘beachmat::sparse_index<const int*, int> beachmat::lin_SparseArraySeed<V, TIT>::get_row(size_t, int*, int*, size_t, size_t) [with V = Rcpp::Vector<10, Rcpp::PreserveStorage>; TIT = const int*; size_t = long unsigned int]’
/home/biocbuild/bbs-3.22-bioc/R/site-library/beachmat/include/beachmat3/lin_matrix.h:595:35: required from here
/home/biocbuild/bbs-3.22-bioc/R/site-library/beachmat/include/beachmat3/Csparse_reader.h:250:22: warning: comparison of integer expressions of different signedness: ‘const int’ and ‘const long unsigned int’ [-Wsign-compare]
/home/biocbuild/bbs-3.22-bioc/R/site-library/beachmat/include/beachmat3/Csparse_reader.h: In instantiation of ‘beachmat::sparse_index<OUT, I> beachmat::Csparse_core<TIT, I, P>::get_row(size_t, ALT, I*, size_t, size_t) [with OUT = const double*; ALT = double*; TIT = const int*; I = int; P = long unsigned int; size_t = long unsigned int]’:
/home/biocbuild/bbs-3.22-bioc/R/site-library/beachmat/include/beachmat3/Csparse_reader.h:650:42: required from ‘beachmat::sparse_index<OUT, int> beachmat::SparseArraySeed_reader<V, TIT>::get_row(size_t, ALT, int*, size_t, size_t) [with OUT = const double*; ALT = double*; V = Rcpp::Vector<10, Rcpp::PreserveStorage>; TIT = const int*; size_t = long unsigned int]’
/home/biocbuild/bbs-3.22-bioc/R/site-library/beachmat/include/beachmat3/lin_matrix.h:602:54: required from ‘beachmat::sparse_index<const double*, int> beachmat::lin_SparseArraySeed<V, TIT>::get_row(size_t, double*, int*, size_t, size_t) [with V = Rcpp::Vector<10, Rcpp::PreserveStorage>; TIT = const int*; size_t = long unsigned int]’
/home/biocbuild/bbs-3.22-bioc/R/site-library/beachmat/include/beachmat3/lin_matrix.h:601:38: required from here
/home/biocbuild/bbs-3.22-bioc/R/site-library/beachmat/include/beachmat3/Csparse_reader.h:250:22: warning: comparison of integer expressions of different signedness: ‘const int’ and ‘const long unsigned int’ [-Wsign-compare]
g++ -std=gnu++11 -shared -L/home/biocbuild/bbs-3.22-bioc/R/lib -L/usr/local/lib -o dreamlet.so RcppExports.o colsum_beachmat.o -L/home/biocbuild/bbs-3.22-bioc/R/lib -lR
installing to /home/biocbuild/bbs-3.22-bioc/R/site-library/00LOCK-dreamlet/00new/dreamlet/libs
** R
** inst
** byte-compile and prepare package for lazy loading
** help
Loading required namespace: variancePartition
Loading required namespace: dreamlet
*** installing help indices
*** copying figures
** building package indices
** installing vignettes
** testing if installed package can be loaded from temporary location
** checking absolute paths in shared objects and dynamic libraries
** testing if installed package can be loaded from final location
** testing if installed package keeps a record of temporary installation path
* DONE (dreamlet)
dreamlet.Rcheck/tests/runTests.Rout
R version 4.5.1 Patched (2025-08-23 r88802) -- "Great Square Root"
Copyright (C) 2025 The R Foundation for Statistical Computing
Platform: x86_64-pc-linux-gnu
R is free software and comes with ABSOLUTELY NO WARRANTY.
You are welcome to redistribute it under certain conditions.
Type 'license()' or 'licence()' for distribution details.
R is a collaborative project with many contributors.
Type 'contributors()' for more information and
'citation()' on how to cite R or R packages in publications.
Type 'demo()' for some demos, 'help()' for on-line help, or
'help.start()' for an HTML browser interface to help.
Type 'q()' to quit R.
> library(Matrix)
> library(dreamlet)
Loading required package: variancePartition
Loading required package: ggplot2
Loading required package: limma
Loading required package: BiocParallel
Attaching package: 'variancePartition'
The following objects are masked from 'package:limma':
eBayes, topTable
Loading required package: SingleCellExperiment
Loading required package: SummarizedExperiment
Loading required package: MatrixGenerics
Loading required package: matrixStats
Attaching package: 'MatrixGenerics'
The following objects are masked from 'package:matrixStats':
colAlls, colAnyNAs, colAnys, colAvgsPerRowSet, colCollapse,
colCounts, colCummaxs, colCummins, colCumprods, colCumsums,
colDiffs, colIQRDiffs, colIQRs, colLogSumExps, colMadDiffs,
colMads, colMaxs, colMeans2, colMedians, colMins, colOrderStats,
colProds, colQuantiles, colRanges, colRanks, colSdDiffs, colSds,
colSums2, colTabulates, colVarDiffs, colVars, colWeightedMads,
colWeightedMeans, colWeightedMedians, colWeightedSds,
colWeightedVars, rowAlls, rowAnyNAs, rowAnys, rowAvgsPerColSet,
rowCollapse, rowCounts, rowCummaxs, rowCummins, rowCumprods,
rowCumsums, rowDiffs, rowIQRDiffs, rowIQRs, rowLogSumExps,
rowMadDiffs, rowMads, rowMaxs, rowMeans2, rowMedians, rowMins,
rowOrderStats, rowProds, rowQuantiles, rowRanges, rowRanks,
rowSdDiffs, rowSds, rowSums2, rowTabulates, rowVarDiffs, rowVars,
rowWeightedMads, rowWeightedMeans, rowWeightedMedians,
rowWeightedSds, rowWeightedVars
Loading required package: GenomicRanges
Loading required package: stats4
Loading required package: BiocGenerics
Loading required package: generics
Attaching package: 'generics'
The following objects are masked from 'package:base':
as.difftime, as.factor, as.ordered, intersect, is.element, setdiff,
setequal, union
Attaching package: 'BiocGenerics'
The following object is masked from 'package:limma':
plotMA
The following objects are masked from 'package:stats':
IQR, mad, sd, var, xtabs
The following objects are masked from 'package:base':
Filter, Find, Map, Position, Reduce, anyDuplicated, aperm, append,
as.data.frame, basename, cbind, colnames, dirname, do.call,
duplicated, eval, evalq, get, grep, grepl, is.unsorted, lapply,
mapply, match, mget, order, paste, pmax, pmax.int, pmin, pmin.int,
rank, rbind, rownames, sapply, saveRDS, table, tapply, unique,
unsplit, which.max, which.min
Loading required package: S4Vectors
Attaching package: 'S4Vectors'
The following objects are masked from 'package:Matrix':
expand, unname
The following object is masked from 'package:utils':
findMatches
The following objects are masked from 'package:base':
I, expand.grid, unname
Loading required package: IRanges
Loading required package: Seqinfo
Loading required package: Biobase
Welcome to Bioconductor
Vignettes contain introductory material; view with
'browseVignettes()'. To cite Bioconductor, see
'citation("Biobase")', and for packages 'citation("pkgname")'.
Attaching package: 'Biobase'
The following object is masked from 'package:MatrixGenerics':
rowMedians
The following objects are masked from 'package:matrixStats':
anyMissing, rowMedians
> library(DelayedArray)
Loading required package: S4Arrays
Loading required package: abind
Attaching package: 'S4Arrays'
The following object is masked from 'package:abind':
abind
The following object is masked from 'package:base':
rowsum
Loading required package: SparseArray
Attaching package: 'DelayedArray'
The following objects are masked from 'package:base':
apply, scale, sweep
> library(edgeR)
Attaching package: 'edgeR'
The following objects are masked from 'package:SingleCellExperiment':
cpm, tpm
> library(muscat)
Warning message:
In check_dep_version(dep_pkg = "TMB") : package version mismatch:
glmmTMB was built with TMB package version 1.9.17
Current TMB package version is 1.9.18
Please re-install glmmTMB from source or restore original 'TMB' package (see '?reinstalling' for more information)
> library(RUnit)
>
> BiocGenerics:::testPackage("dreamlet")
B cells...0.27 secs
B cells...0.23 secs
Processing block [[1/1, 1/1]] ... OK
B cells...0.24 secs
CD14+ Monocytes...0.33 secs
CD4 T cells...0.29 secs
CD8 T cells...0.18 secs
FCGR3A+ Monocytes...0.28 secs
B cells...3 secs
CD14+ Monocytes...3.9 secs
CD4 T cells...3 secs
CD8 T cells...1.9 secs
FCGR3A+ Monocytes...3.7 secs
B cells...0.2 secs
CD14+ Monocytes...0.29 secs
CD4 T cells...0.17 secs
CD8 T cells...0.11 secs
FCGR3A+ Monocytes...0.21 secs
RUNIT TEST PROTOCOL -- Thu Oct 23 23:21:24 2025
***********************************************
Number of test functions: 10
Number of errors: 0
Number of failures: 0
1 Test Suite :
dreamlet RUnit Tests - 10 test functions, 0 errors, 0 failures
Number of test functions: 10
Number of errors: 0
Number of failures: 0
>
> proc.time()
user system elapsed
48.799 2.673 66.423
dreamlet.Rcheck/dreamlet-Ex.timings
| name | user | system | elapsed | |
| aggregateNonCountSignal | 5.034 | 0.271 | 5.308 | |
| aggregateToPseudoBulk | 0.695 | 0.042 | 0.737 | |
| aggregateVar | 1.729 | 0.105 | 1.836 | |
| as.dreamletResult | 1.029 | 0.094 | 1.123 | |
| buildClusterTreeFromPB | 0.443 | 0.033 | 0.476 | |
| cellCounts | 0.388 | 0.025 | 0.413 | |
| cellTypeSpecificity | 1.869 | 0.047 | 1.917 | |
| checkFormula | 0.000 | 0.000 | 0.001 | |
| coefNames-methods | 2.724 | 0.049 | 2.775 | |
| compositePosteriorTest | 8.743 | 0.128 | 8.872 | |
| computeCellCounts | 0.166 | 0.007 | 0.173 | |
| computeLogCPM | 0.305 | 0.088 | 0.393 | |
| computeNormCounts | 0.226 | 0.015 | 0.242 | |
| details-methods | 1.765 | 0.012 | 1.777 | |
| diffVar-methods | 3.542 | 0.031 | 3.573 | |
| dreamlet | 2.714 | 0.085 | 2.799 | |
| dreamletCompareClusters | 2.538 | 0.075 | 2.614 | |
| dropRedundantTerms | 0.004 | 0.001 | 0.005 | |
| equalFormulas | 0.000 | 0.000 | 0.001 | |
| extractData-methods | 1.875 | 0.034 | 1.909 | |
| fitVarPart | 18.373 | 0.236 | 18.625 | |
| getTreat-methods | 2.775 | 0.021 | 2.795 | |
| meta_analysis | 15.014 | 0.223 | 15.239 | |
| outlier | 0.001 | 0.001 | 0.002 | |
| outlierByAssay | 1.885 | 0.026 | 1.914 | |
| plotBeeswarm | 3.151 | 0.041 | 3.193 | |
| plotCellComposition | 1.059 | 0.016 | 1.074 | |
| plotForest-methods | 3.106 | 0.034 | 3.141 | |
| plotGeneHeatmap-methods | 3.067 | 0.020 | 3.087 | |
| plotHeatmap-methods | 0.703 | 0.008 | 0.711 | |
| plotPCA | 3.511 | 0.024 | 3.537 | |
| plotPercentBars-methods | 16.596 | 0.129 | 16.727 | |
| plotProjection | 0.646 | 0.058 | 0.681 | |
| plotVarPart-methods | 17.641 | 0.147 | 17.790 | |
| plotViolin-methods | 0.930 | 0.013 | 0.943 | |
| plotVolcano-methods | 4.202 | 0.013 | 4.198 | |
| plotVoom-methods | 3.019 | 0.044 | 3.064 | |
| processAssays | 2.709 | 0.011 | 2.721 | |
| removeConstantTerms | 0.005 | 0.000 | 0.005 | |
| residuals-methods | 2.73 | 0.02 | 2.75 | |
| run_mash | 10.273 | 0.155 | 10.425 | |
| seeErrors-methods | 2.713 | 0.011 | 2.724 | |
| sortCols-method | 16.319 | 0.160 | 16.482 | |
| stackAssays | 10.300 | 0.057 | 10.360 | |
| topTable-methods | 2.698 | 0.014 | 2.712 | |
| zenith_gsa-methods | 75.229 | 1.590 | 76.828 | |