| Back to Multiple platform build/check report for BioC 3.22: simplified long | 
 | 
This page was generated on 2025-10-25 12:05 -0400 (Sat, 25 Oct 2025).
| Hostname | OS | Arch (*) | R version | Installed pkgs | 
|---|---|---|---|---|
| nebbiolo2 | Linux (Ubuntu 24.04.3 LTS) | x86_64 | 4.5.1 Patched (2025-08-23 r88802) -- "Great Square Root" | 4901 | 
| lconway | macOS 12.7.6 Monterey | x86_64 | 4.5.1 Patched (2025-09-10 r88807) -- "Great Square Root" | 4691 | 
| kjohnson3 | macOS 13.7.7 Ventura | arm64 | 4.5.1 Patched (2025-09-10 r88807) -- "Great Square Root" | 4637 | 
| taishan | Linux (openEuler 24.03 LTS) | aarch64 | 4.5.0 (2025-04-11) -- "How About a Twenty-Six" | 4658 | 
| Click on any hostname to see more info about the system (e.g. compilers) (*) as reported by 'uname -p', except on Windows and Mac OS X | ||||
| Package 426/2361 | Hostname | OS / Arch | INSTALL | BUILD | CHECK | BUILD BIN | ||||||||
| comapr 1.13.0  (landing page) Ruqian Lyu 
 | nebbiolo2 | Linux (Ubuntu 24.04.3 LTS) / x86_64 | OK | OK | ERROR | |||||||||
| lconway | macOS 12.7.6 Monterey / x86_64 | OK | OK | ERROR | OK | |||||||||
| kjohnson3 | macOS 13.7.7 Ventura / arm64 | OK | OK | ERROR | OK | |||||||||
| taishan | Linux (openEuler 24.03 LTS) / aarch64 | OK | NA | NA | ||||||||||
| To the developers/maintainers of the comapr package: - Allow up to 24 hours (and sometimes 48 hours) for your latest push to git@git.bioconductor.org:packages/comapr.git to reflect on this report. See Troubleshooting Build Report for more information. - Use the following Renviron settings to reproduce errors and warnings. - If 'R CMD check' started to fail recently on the Linux builder(s) over a missing dependency, add the missing dependency to 'Suggests:' in your DESCRIPTION file. See Renviron.bioc for more information. | 
| Package: comapr | 
| Version: 1.13.0 | 
| Command: /Library/Frameworks/R.framework/Resources/bin/R CMD check --install=check:comapr.install-out.txt --library=/Library/Frameworks/R.framework/Resources/library --no-vignettes --timings comapr_1.13.0.tar.gz | 
| StartedAt: 2025-10-24 19:06:02 -0400 (Fri, 24 Oct 2025) | 
| EndedAt: 2025-10-24 19:08:39 -0400 (Fri, 24 Oct 2025) | 
| EllapsedTime: 156.9 seconds | 
| RetCode: 1 | 
| Status: ERROR | 
| CheckDir: comapr.Rcheck | 
| Warnings: NA | 
##############################################################################
##############################################################################
###
### Running command:
###
###   /Library/Frameworks/R.framework/Resources/bin/R CMD check --install=check:comapr.install-out.txt --library=/Library/Frameworks/R.framework/Resources/library --no-vignettes --timings comapr_1.13.0.tar.gz
###
##############################################################################
##############################################################################
* using log directory ‘/Users/biocbuild/bbs-3.22-bioc/meat/comapr.Rcheck’
* using R version 4.5.1 Patched (2025-09-10 r88807)
* using platform: aarch64-apple-darwin20
* R was compiled by
    Apple clang version 16.0.0 (clang-1600.0.26.6)
    GNU Fortran (GCC) 14.2.0
* running under: macOS Ventura 13.7.7
* using session charset: UTF-8
* using option ‘--no-vignettes’
* checking for file ‘comapr/DESCRIPTION’ ... OK
* this is package ‘comapr’ version ‘1.13.0’
* package encoding: UTF-8
* checking package namespace information ... OK
* checking package dependencies ... OK
* checking if this is a source package ... OK
* checking if there is a namespace ... OK
* checking for hidden files and directories ... OK
* checking for portable file names ... OK
* checking for sufficient/correct file permissions ... OK
* checking whether package ‘comapr’ can be installed ... OK
* checking installed package size ... OK
* checking package directory ... OK
* checking ‘build’ directory ... OK
* checking DESCRIPTION meta-information ... OK
* checking top-level files ... OK
* checking for left-over files ... OK
* checking index information ... OK
* checking package subdirectories ... OK
* checking code files for non-ASCII characters ... OK
* checking R files for syntax errors ... OK
* checking whether the package can be loaded ... OK
* checking whether the package can be loaded with stated dependencies ... OK
* checking whether the package can be unloaded cleanly ... OK
* checking whether the namespace can be loaded with stated dependencies ... OK
* checking whether the namespace can be unloaded cleanly ... OK
* checking dependencies in R code ... OK
* checking S3 generic/method consistency ... OK
* checking replacement functions ... OK
* checking foreign function calls ... OK
* checking R code for possible problems ... OK
* checking Rd files ... NOTE
checkRd: (-1) perCellChrQC.Rd:22: Lost braces; missing escapes or markup?
    22 | \item{path, }{the path to the files, with name patterns *{chrom}_vi.mtx,
       |                                                          ^
checkRd: (-1) perCellChrQC.Rd:23: Lost braces; missing escapes or markup?
    23 | *{chrom}_viSegInfo.txt, end with slash}
       |  ^
checkRd: (-1) perSegChrQC.Rd:21: Lost braces; missing escapes or markup?
    21 | \item{path, }{the path to the files, with name patterns *{chrom}_vi.mtx,
       |                                                          ^
checkRd: (-1) perSegChrQC.Rd:22: Lost braces; missing escapes or markup?
    22 | *{chrom}_viSegInfo.txt, end with slash}
       |  ^
checkRd: (-1) readHapState.Rd:28: Lost braces; missing escapes or markup?
    28 | \item{path, }{the path to the files, with name patterns *{chrom}_vi.mtx,
       |                                                          ^
checkRd: (-1) readHapState.Rd:29: Lost braces; missing escapes or markup?
    29 | *{chrom}_viSegInfo.txt, end with slash}
       |  ^
* checking Rd metadata ... OK
* checking Rd cross-references ... OK
* checking for missing documentation entries ... OK
* checking for code/documentation mismatches ... OK
* checking Rd \usage sections ... OK
* checking Rd contents ... OK
* checking for unstated dependencies in examples ... OK
* checking contents of ‘data’ directory ... OK
* checking data for non-ASCII characters ... OK
* checking data for ASCII and uncompressed saves ... OK
* checking files in ‘vignettes’ ... OK
* checking examples ... OK
* checking for unstated dependencies in ‘tests’ ... OK
* checking tests ...
  Running ‘testthat.R’
 ERROR
Running the tests in ‘tests/testthat.R’ failed.
Last 13 lines of output:
  ══ Failed tests ════════════════════════════════════════════════════════════════
  ── Failure ('test-plotmissingGT.R:12:3'): Plot missing GT works ────────────────
  class(p1)[1] == "gg" is not TRUE
  
  `actual`:   FALSE
  `expected`: TRUE 
  ── Failure ('test-plotmissingGT.R:15:3'): Plot missing GT works ────────────────
  class(p4)[1] == "gg" is not TRUE
  
  `actual`:   FALSE
  `expected`: TRUE 
  
  [ FAIL 2 | WARN 3 | SKIP 0 | PASS 89 ]
  Error: Test failures
  Execution halted
* checking for unstated dependencies in vignettes ... OK
* checking package vignettes ... OK
* checking running R code from vignettes ... SKIPPED
* checking re-building of vignette outputs ... SKIPPED
* checking PDF version of manual ... OK
* DONE
Status: 1 ERROR, 1 NOTE
See
  ‘/Users/biocbuild/bbs-3.22-bioc/meat/comapr.Rcheck/00check.log’
for details.
comapr.Rcheck/00install.out
############################################################################## ############################################################################## ### ### Running command: ### ### /Library/Frameworks/R.framework/Resources/bin/R CMD INSTALL comapr ### ############################################################################## ############################################################################## * installing to library ‘/Library/Frameworks/R.framework/Versions/4.5-arm64/Resources/library’ * installing *source* package ‘comapr’ ... ** this is package ‘comapr’ version ‘1.13.0’ ** using staged installation ** R ** data ** inst ** byte-compile and prepare package for lazy loading ** help *** installing help indices ** building package indices ** installing vignettes ** testing if installed package can be loaded from temporary location ** testing if installed package can be loaded from final location ** testing if installed package keeps a record of temporary installation path * DONE (comapr)
comapr.Rcheck/tests/testthat.Rout.fail
R version 4.5.1 Patched (2025-09-10 r88807) -- "Great Square Root"
Copyright (C) 2025 The R Foundation for Statistical Computing
Platform: aarch64-apple-darwin20
R is free software and comes with ABSOLUTELY NO WARRANTY.
You are welcome to redistribute it under certain conditions.
Type 'license()' or 'licence()' for distribution details.
R is a collaborative project with many contributors.
Type 'contributors()' for more information and
'citation()' on how to cite R or R packages in publications.
Type 'demo()' for some demos, 'help()' for on-line help, or
'help.start()' for an HTML browser interface to help.
Type 'q()' to quit R.
> library(testthat)
> library(comapr)
> 
> test_check("comapr")
[ FAIL 2 | WARN 3 | SKIP 0 | PASS 89 ]
══ Failed tests ════════════════════════════════════════════════════════════════
── Failure ('test-plotmissingGT.R:12:3'): Plot missing GT works ────────────────
class(p1)[1] == "gg" is not TRUE
`actual`:   FALSE
`expected`: TRUE 
── Failure ('test-plotmissingGT.R:15:3'): Plot missing GT works ────────────────
class(p4)[1] == "gg" is not TRUE
`actual`:   FALSE
`expected`: TRUE 
[ FAIL 2 | WARN 3 | SKIP 0 | PASS 89 ]
Error: Test failures
Execution halted
comapr.Rcheck/comapr-Ex.timings
| name | user | system | elapsed | |
| bootstrapDist | 2.104 | 0.057 | 2.131 | |
| calGeneticDist | 0.038 | 0.026 | 0.065 | |
| combineHapState | 0.708 | 0.146 | 0.859 | |
| correctGT | 0.003 | 0.002 | 0.006 | |
| countBinState | 0.114 | 0.015 | 0.536 | |
| countCOs | 0.193 | 0.017 | 0.211 | |
| countGT | 0.062 | 0.007 | 0.069 | |
| filterGT | 0.024 | 0.003 | 0.028 | |
| findDupSamples | 0.003 | 0.001 | 0.004 | |
| getAFTracks | 0.384 | 0.015 | 0.399 | |
| getCellAFTrack | 0.298 | 0.014 | 0.313 | |
| getCellCORange | 0.131 | 0.000 | 0.131 | |
| getCellDPTrack | 0.130 | 0.001 | 0.136 | |
| getDistortedMarkers | 0.122 | 0.002 | 0.124 | |
| getMeanDPTrack | 0.014 | 0.000 | 0.015 | |
| getSNPDensityTrack | 0.014 | 0.000 | 0.013 | |
| perCellChrQC | 0.029 | 0.000 | 0.032 | |
| perSegChrQC | 0.018 | 0.000 | 0.018 | |
| permuteDist | 0.008 | 0.000 | 0.009 | |
| plotCount | 0.250 | 0.002 | 0.263 | |
| plotGTFreq | 0.194 | 0.002 | 0.201 | |
| plotGeneticDist | 0.149 | 0.003 | 0.152 | |
| plotWholeGenome | 0.154 | 0.002 | 0.156 | |
| readColMM | 0.003 | 0.000 | 0.003 | |
| readHapState | 0.030 | 0.001 | 0.031 | |