Back to Multiple platform build/check report for BioC 3.22:   simplified   long
AB[C]DEFGHIJKLMNOPQRSTUVWXYZ

This page was generated on 2025-10-24 12:06 -0400 (Fri, 24 Oct 2025).

HostnameOSArch (*)R versionInstalled pkgs
nebbiolo2Linux (Ubuntu 24.04.3 LTS)x86_644.5.1 Patched (2025-08-23 r88802) -- "Great Square Root" 4898
lconwaymacOS 12.7.6 Montereyx86_644.5.1 Patched (2025-09-10 r88807) -- "Great Square Root" 4688
kjohnson3macOS 13.7.7 Venturaarm644.5.1 Patched (2025-09-10 r88807) -- "Great Square Root" 4634
taishanLinux (openEuler 24.03 LTS)aarch644.5.0 (2025-04-11) -- "How About a Twenty-Six" 4658
Click on any hostname to see more info about the system (e.g. compilers)      (*) as reported by 'uname -p', except on Windows and Mac OS X

Package 394/2359HostnameOS / ArchINSTALLBUILDCHECKBUILD BIN
clustifyr 1.21.0  (landing page)
Rui Fu
Snapshot Date: 2025-10-23 14:17 -0400 (Thu, 23 Oct 2025)
git_url: https://git.bioconductor.org/packages/clustifyr
git_branch: devel
git_last_commit: d3521c2
git_last_commit_date: 2025-04-16 16:21:04 -0400 (Wed, 16 Apr 2025)
nebbiolo2Linux (Ubuntu 24.04.3 LTS) / x86_64  OK    OK    OK  UNNEEDED, same version is already published
lconwaymacOS 12.7.6 Monterey / x86_64  OK    OK    OK    OK  UNNEEDED, same version is already published
kjohnson3macOS 13.7.7 Ventura / arm64  OK    OK    OK    OK  UNNEEDED, same version is already published
taishanLinux (openEuler 24.03 LTS) / aarch64  OK    OK    OK  


CHECK results for clustifyr on kjohnson3

To the developers/maintainers of the clustifyr package:
- Allow up to 24 hours (and sometimes 48 hours) for your latest push to git@git.bioconductor.org:packages/clustifyr.git to reflect on this report. See Troubleshooting Build Report for more information.
- Use the following Renviron settings to reproduce errors and warnings.
- If 'R CMD check' started to fail recently on the Linux builder(s) over a missing dependency, add the missing dependency to 'Suggests:' in your DESCRIPTION file. See Renviron.bioc for more information.

raw results


Summary

Package: clustifyr
Version: 1.21.0
Command: /Library/Frameworks/R.framework/Resources/bin/R CMD check --install=check:clustifyr.install-out.txt --library=/Library/Frameworks/R.framework/Resources/library --no-vignettes --timings clustifyr_1.21.0.tar.gz
StartedAt: 2025-10-23 19:06:59 -0400 (Thu, 23 Oct 2025)
EndedAt: 2025-10-23 19:12:06 -0400 (Thu, 23 Oct 2025)
EllapsedTime: 306.9 seconds
RetCode: 0
Status:   OK  
CheckDir: clustifyr.Rcheck
Warnings: 0

Command output

##############################################################################
##############################################################################
###
### Running command:
###
###   /Library/Frameworks/R.framework/Resources/bin/R CMD check --install=check:clustifyr.install-out.txt --library=/Library/Frameworks/R.framework/Resources/library --no-vignettes --timings clustifyr_1.21.0.tar.gz
###
##############################################################################
##############################################################################


* using log directory ‘/Users/biocbuild/bbs-3.22-bioc/meat/clustifyr.Rcheck’
* using R version 4.5.1 Patched (2025-09-10 r88807)
* using platform: aarch64-apple-darwin20
* R was compiled by
    Apple clang version 16.0.0 (clang-1600.0.26.6)
    GNU Fortran (GCC) 14.2.0
* running under: macOS Ventura 13.7.7
* using session charset: UTF-8
* using option ‘--no-vignettes’
* checking for file ‘clustifyr/DESCRIPTION’ ... OK
* this is package ‘clustifyr’ version ‘1.21.0’
* package encoding: UTF-8
* checking package namespace information ... OK
* checking package dependencies ... OK
* checking if this is a source package ... OK
* checking if there is a namespace ... OK
* checking for hidden files and directories ... OK
* checking for portable file names ... OK
* checking for sufficient/correct file permissions ... OK
* checking whether package ‘clustifyr’ can be installed ... OK
* checking installed package size ... OK
* checking package directory ... OK
* checking ‘build’ directory ... OK
* checking DESCRIPTION meta-information ... NOTE
License stub is invalid DCF.
* checking top-level files ... OK
* checking for left-over files ... OK
* checking index information ... OK
* checking package subdirectories ... OK
* checking code files for non-ASCII characters ... OK
* checking R files for syntax errors ... OK
* checking whether the package can be loaded ... OK
* checking whether the package can be loaded with stated dependencies ... OK
* checking whether the package can be unloaded cleanly ... OK
* checking whether the namespace can be loaded with stated dependencies ... OK
* checking whether the namespace can be unloaded cleanly ... OK
* checking dependencies in R code ... OK
* checking S3 generic/method consistency ... OK
* checking replacement functions ... OK
* checking foreign function calls ... OK
* checking R code for possible problems ... OK
* checking Rd files ... OK
* checking Rd metadata ... OK
* checking Rd cross-references ... OK
* checking for missing documentation entries ... OK
* checking for code/documentation mismatches ... OK
* checking Rd \usage sections ... OK
* checking Rd contents ... OK
* checking for unstated dependencies in examples ... OK
* checking contents of ‘data’ directory ... OK
* checking data for non-ASCII characters ... OK
* checking LazyData ... OK
* checking data for ASCII and uncompressed saves ... OK
* checking files in ‘vignettes’ ... OK
* checking examples ... OK
Examples with CPU (user + system) or elapsed time > 5s
                        user system elapsed
plot_pathway_gsea      7.327  0.019   7.356
calculate_pathway_gsea 6.507  0.021   6.706
* checking for unstated dependencies in ‘tests’ ... OK
* checking tests ...
  Running ‘testthat.R’
 OK
* checking for unstated dependencies in vignettes ... OK
* checking package vignettes ... OK
* checking running R code from vignettes ... SKIPPED
* checking re-building of vignette outputs ... SKIPPED
* checking PDF version of manual ... OK
* DONE

Status: 1 NOTE
See
  ‘/Users/biocbuild/bbs-3.22-bioc/meat/clustifyr.Rcheck/00check.log’
for details.


Installation output

clustifyr.Rcheck/00install.out

##############################################################################
##############################################################################
###
### Running command:
###
###   /Library/Frameworks/R.framework/Resources/bin/R CMD INSTALL clustifyr
###
##############################################################################
##############################################################################


* installing to library ‘/Library/Frameworks/R.framework/Versions/4.5-arm64/Resources/library’
* installing *source* package ‘clustifyr’ ...
** this is package ‘clustifyr’ version ‘1.21.0’
** using staged installation
** R
** data
*** moving datasets to lazyload DB
** inst
** byte-compile and prepare package for lazy loading
** help
*** installing help indices
*** copying figures
** building package indices
** installing vignettes
** testing if installed package can be loaded from temporary location
** testing if installed package can be loaded from final location
** testing if installed package keeps a record of temporary installation path
* DONE (clustifyr)

Tests output

clustifyr.Rcheck/tests/testthat.Rout


R version 4.5.1 Patched (2025-09-10 r88807) -- "Great Square Root"
Copyright (C) 2025 The R Foundation for Statistical Computing
Platform: aarch64-apple-darwin20

R is free software and comes with ABSOLUTELY NO WARRANTY.
You are welcome to redistribute it under certain conditions.
Type 'license()' or 'licence()' for distribution details.

R is a collaborative project with many contributors.
Type 'contributors()' for more information and
'citation()' on how to cite R or R packages in publications.

Type 'demo()' for some demos, 'help()' for on-line help, or
'help.start()' for an HTML browser interface to help.
Type 'q()' to quit R.

> library(testthat)
> library(clustifyr)
> 
> test_check("clustifyr")
[ FAIL 0 | WARN 1 | SKIP 0 | PASS 183 ]

[ FAIL 0 | WARN 1 | SKIP 0 | PASS 183 ]
> 
> proc.time()
   user  system elapsed 
191.796   3.127 199.086 

Example timings

clustifyr.Rcheck/clustifyr-Ex.timings

nameusersystemelapsed
append_genes0.0100.0030.013
assess_rank_bias000
average_clusters0.0220.0020.024
binarize_expr0.0390.0020.042
build_atlas0.3070.0060.320
calc_distance0.0020.0000.002
calculate_pathway_gsea6.5070.0216.706
call_consensus0.0680.0030.071
call_to_metadata0.0570.0480.105
check_raw_counts0.3280.0070.336
clustify0.7540.0260.803
clustify_lists0.0190.0020.023
clustify_nudge0.3300.0110.348
clustifyr_methods000
collapse_to_cluster0.5730.0170.598
compare_lists0.0390.0020.043
cor_to_call0.0270.0030.030
cor_to_call_rank0.0190.0010.020
cor_to_call_topn0.0200.0010.022
downsample_matrix0.0040.0000.004
feature_select_PCA0.0040.0010.004
file_marker_parse0.0010.0010.001
find_rank_bias0.0120.0010.013
gene_pct_markerm0.1000.0010.118
get_ucsc_reference000
get_vargenes000
gmt_to_list0.0160.0010.019
insert_meta_object0.0770.0050.104
make_comb_ref0.0050.0010.006
marker_select0.0130.0020.015
matrixize_markers0.0090.0020.011
object_data0.0960.0060.115
object_ref0.4330.0410.496
overcluster0.2810.0220.305
overcluster_test0.8610.0330.899
parse_loc_object0.0670.0050.072
plot_best_call0.2490.0030.253
plot_cor0.3040.0150.319
plot_cor_heatmap0.3570.0170.377
plot_dims0.1140.0020.116
plot_gene0.2400.0030.243
plot_pathway_gsea7.3270.0197.356
plot_rank_bias000
pos_neg_marker0.0020.0000.002
pos_neg_select0.0210.0010.022
query_rank_bias0.0130.0010.015
ref_feature_select0.0080.0010.009
ref_marker_select0.0530.0000.052
reverse_marker_matrix0.0010.0010.002
run_clustifyr_app000
seurat_meta0.0940.0060.100
seurat_ref0.0740.0070.081
write_meta0.0920.0060.098