Back to Multiple platform build/check report for BioC 3.22:   simplified   long
A[B]CDEFGHIJKLMNOPQRSTUVWXYZ

This page was generated on 2025-11-20 12:05 -0500 (Thu, 20 Nov 2025).

HostnameOSArch (*)R versionInstalled pkgs
nebbiolo2Linux (Ubuntu 24.04.3 LTS)x86_644.5.2 (2025-10-31) -- "[Not] Part in a Rumble" 4615
merida1macOS 12.7.6 Montereyx86_644.5.2 Patched (2025-11-05 r88990) -- "[Not] Part in a Rumble" 4610
kjohnson1macOS 13.7.5 Venturaarm644.5.2 Patched (2025-11-04 r88984) -- "[Not] Part in a Rumble" 4598
taishanLinux (openEuler 24.03 LTS)aarch644.5.0 (2025-04-11) -- "How About a Twenty-Six" 4668
Click on any hostname to see more info about the system (e.g. compilers)      (*) as reported by 'uname -p', except on Windows and Mac OS X

Package 165/2361HostnameOS / ArchINSTALLBUILDCHECKBUILD BIN
benchdamic 1.16.0  (landing page)
Matteo Calgaro
Snapshot Date: 2025-11-17 13:45 -0500 (Mon, 17 Nov 2025)
git_url: https://git.bioconductor.org/packages/benchdamic
git_branch: RELEASE_3_22
git_last_commit: fcdab2a
git_last_commit_date: 2025-10-29 11:13:16 -0500 (Wed, 29 Oct 2025)
nebbiolo2Linux (Ubuntu 24.04.3 LTS) / x86_64  OK    OK    OK  NO, package depends on 'Maaslin2' which is not available
merida1macOS 12.7.6 Monterey / x86_64  OK    TIMEOUT  skippedskipped
kjohnson1macOS 13.7.5 Ventura / arm64  OK    OK    OK    OK  NO, package depends on 'Maaslin2' which is not available
taishanLinux (openEuler 24.03 LTS) / aarch64  OK    OK    TIMEOUT  


CHECK results for benchdamic on kjohnson1

To the developers/maintainers of the benchdamic package:
- Allow up to 24 hours (and sometimes 48 hours) for your latest push to git@git.bioconductor.org:packages/benchdamic.git to reflect on this report. See Troubleshooting Build Report for more information.
- Use the following Renviron settings to reproduce errors and warnings.
- If 'R CMD check' started to fail recently on the Linux builder(s) over a missing dependency, add the missing dependency to 'Suggests:' in your DESCRIPTION file. See Renviron.bioc for more information.

raw results


Summary

Package: benchdamic
Version: 1.16.0
Command: /Library/Frameworks/R.framework/Resources/bin/R CMD check --install=check:benchdamic.install-out.txt --library=/Library/Frameworks/R.framework/Resources/library --no-vignettes --timings benchdamic_1.16.0.tar.gz
StartedAt: 2025-11-18 03:04:13 -0500 (Tue, 18 Nov 2025)
EndedAt: 2025-11-18 03:09:09 -0500 (Tue, 18 Nov 2025)
EllapsedTime: 296.4 seconds
RetCode: 0
Status:   OK  
CheckDir: benchdamic.Rcheck
Warnings: 0

Command output

##############################################################################
##############################################################################
###
### Running command:
###
###   /Library/Frameworks/R.framework/Resources/bin/R CMD check --install=check:benchdamic.install-out.txt --library=/Library/Frameworks/R.framework/Resources/library --no-vignettes --timings benchdamic_1.16.0.tar.gz
###
##############################################################################
##############################################################################


* using log directory ‘/Users/biocbuild/bbs-3.22-bioc/meat/benchdamic.Rcheck’
* using R version 4.5.2 Patched (2025-11-04 r88984)
* using platform: aarch64-apple-darwin20
* R was compiled by
    Apple clang version 16.0.0 (clang-1600.0.26.6)
    GNU Fortran (GCC) 14.2.0
* running under: macOS Ventura 13.7.8
* using session charset: UTF-8
* using option ‘--no-vignettes’
* checking for file ‘benchdamic/DESCRIPTION’ ... OK
* checking extension type ... Package
* this is package ‘benchdamic’ version ‘1.16.0’
* package encoding: UTF-8
* checking package namespace information ... OK
* checking package dependencies ... INFO
Imports includes 32 non-default packages.
Importing from so many packages makes the package vulnerable to any of
them becoming unavailable.  Move as many as possible to Suggests and
use conditionally.
* checking if this is a source package ... OK
* checking if there is a namespace ... OK
* checking for hidden files and directories ... OK
* checking for portable file names ... OK
* checking for sufficient/correct file permissions ... OK
* checking whether package ‘benchdamic’ can be installed ... OK
* checking installed package size ... OK
* checking package directory ... OK
* checking ‘build’ directory ... OK
* checking DESCRIPTION meta-information ... OK
* checking top-level files ... OK
* checking for left-over files ... OK
* checking index information ... OK
* checking package subdirectories ... OK
* checking code files for non-ASCII characters ... OK
* checking R files for syntax errors ... OK
* checking whether the package can be loaded ... OK
* checking whether the package can be loaded with stated dependencies ... OK
* checking whether the package can be unloaded cleanly ... OK
* checking whether the namespace can be loaded with stated dependencies ... OK
* checking whether the namespace can be unloaded cleanly ... OK
* checking dependencies in R code ... NOTE
Namespace in Imports field not imported from: ‘microbiome’
  All declared Imports should be used.
* checking S3 generic/method consistency ... OK
* checking replacement functions ... OK
* checking foreign function calls ... OK
* checking R code for possible problems ... OK
* checking Rd files ... OK
* checking Rd metadata ... OK
* checking Rd cross-references ... NOTE
Non-topic package-anchored link(s) in Rd file 'norm_DESeq2.Rd':
  ‘[DESeq2]{estimateSizeFactors}’

See section 'Cross-references' in the 'Writing R Extensions' manual.
* checking for missing documentation entries ... OK
* checking for code/documentation mismatches ... OK
* checking Rd \usage sections ... OK
* checking Rd contents ... OK
* checking for unstated dependencies in examples ... OK
* checking contents of ‘data’ directory ... OK
* checking data for non-ASCII characters ... OK
* checking LazyData ... OK
* checking data for ASCII and uncompressed saves ... OK
* checking files in ‘vignettes’ ... OK
* checking examples ... OK
* checking for unstated dependencies in ‘tests’ ... OK
* checking tests ...
  Running ‘testthat.R’
 OK
* checking for unstated dependencies in vignettes ... OK
* checking package vignettes ... OK
* checking running R code from vignettes ... SKIPPED
* checking re-building of vignette outputs ... SKIPPED
* checking PDF version of manual ... OK
* DONE

Status: 2 NOTEs
See
  ‘/Users/biocbuild/bbs-3.22-bioc/meat/benchdamic.Rcheck/00check.log’
for details.


Installation output

benchdamic.Rcheck/00install.out

##############################################################################
##############################################################################
###
### Running command:
###
###   /Library/Frameworks/R.framework/Resources/bin/R CMD INSTALL benchdamic
###
##############################################################################
##############################################################################


* installing to library ‘/Library/Frameworks/R.framework/Versions/4.5-arm64/Resources/library’
* installing *source* package ‘benchdamic’ ...
** this is package ‘benchdamic’ version ‘1.16.0’
** using staged installation
** R
** data
*** moving datasets to lazyload DB
** inst
** byte-compile and prepare package for lazy loading
Found more than one class "dist" in cache; using the first, from namespace 'BiocGenerics'
Also defined by ‘spam’
** help
*** installing help indices
** building package indices
** installing vignettes
** testing if installed package can be loaded from temporary location
Found more than one class "dist" in cache; using the first, from namespace 'BiocGenerics'
Also defined by ‘spam’
** testing if installed package can be loaded from final location
Found more than one class "dist" in cache; using the first, from namespace 'BiocGenerics'
Also defined by ‘spam’
** testing if installed package keeps a record of temporary installation path
* DONE (benchdamic)

Tests output

benchdamic.Rcheck/tests/testthat.Rout


R version 4.5.2 Patched (2025-11-04 r88984) -- "[Not] Part in a Rumble"
Copyright (C) 2025 The R Foundation for Statistical Computing
Platform: aarch64-apple-darwin20

R is free software and comes with ABSOLUTELY NO WARRANTY.
You are welcome to redistribute it under certain conditions.
Type 'license()' or 'licence()' for distribution details.

R is a collaborative project with many contributors.
Type 'contributors()' for more information and
'citation()' on how to cite R or R packages in publications.

Type 'demo()' for some demos, 'help()' for on-line help, or
'help.start()' for an HTML browser interface to help.
Type 'q()' to quit R.

> library(testthat)
> library(benchdamic)
Found more than one class "dist" in cache; using the first, from namespace 'BiocGenerics'
Also defined by 'spam'
> 
> test_check("benchdamic")
|------------(25%)----------(50%)----------(75%)----------|
|------------(25%)----------(50%)----------(75%)----------|
|------------(25%)----------(50%)----------(75%)----------|
|------------(25%)----------(50%)----------(75%)----------|
|------------(25%)----------(50%)----------(75%)----------|
[ FAIL 0 | WARN 0 | SKIP 0 | PASS 334 ]
> 
> proc.time()
   user  system elapsed 
 29.465   1.176  55.688 

Example timings

benchdamic.Rcheck/benchdamic-Ex.timings

nameusersystemelapsed
CAT0.0020.0010.003
DA_ALDEx21.6050.2572.172
DA_ANCOM0.2760.0040.325
DA_DESeq21.1550.0091.309
DA_MAST0.4750.0080.533
DA_Maaslin20.1010.0140.140
DA_NOISeq0.6750.0020.751
DA_Seurat0.9770.0121.112
DA_ZicoSeq0.2410.0090.264
DA_basic0.0110.0010.012
DA_corncob0.2480.0170.374
DA_dearseq0.0240.0010.025
DA_edgeR0.0750.0030.080
DA_limma0.0300.0020.033
DA_linda0.0210.0010.023
DA_maaslin30.1890.0060.214
DA_metagenomeSeq0.1170.0020.132
DA_mixMC0.2150.0020.231
RMSE000
addKnowledge0.0660.0020.083
areaCAT1.5030.0241.715
checkNormalization000
createColors0.0010.0000.002
createConcordance1.7580.0242.158
createEnrichment0.0870.0040.114
createMocks0.0010.0000.001
createPositives0.3540.0070.430
createSplits0.0190.0010.026
createTIEC1.1340.0131.267
enrichmentTest0.0400.0020.042
extractDA0.0780.0020.089
extractStatistics0.0600.0020.073
fitDM0.0110.0010.012
fitHURDLE0.2480.0020.253
fitModels0.8120.0140.900
fitNB0.0140.0000.015
fitZIG0.0210.0000.028
fitZINB0.1410.0010.157
getDA0.0260.0030.030
getPositives0.0270.0010.031
getStatistics0.0300.0020.037
get_counts_metadata0.0400.0020.041
iterative_ordering0.1090.0040.181
meanDifferences0.0010.0010.001
norm_CSS0.0280.0000.066
norm_DESeq20.1610.0000.330
norm_TSS0.0130.0000.013
norm_edgeR0.0140.0010.016
plotConcordance1.9620.0352.793
plotContingency0.5210.0060.662
plotEnrichment0.5350.0060.752
plotFDR0.9900.0111.187
plotFPR0.9580.0101.085
plotKS0.9690.0101.059
plotLogP0.9970.0141.255
plotMD1.3480.0111.563
plotMutualFindings0.5050.0050.586
plotPositives0.2870.0040.335
plotQQ0.9860.0111.065
plotRMSE1.1140.0111.356
prepareObserved0.0010.0000.000
runDA0.1830.0010.211
runMocks0.2630.0050.313
runNormalizations0.1990.0020.233
runSplits1.3390.0151.515
setNormalizations000
set_ALDEx20.0020.0000.002
set_ANCOM0.0030.0000.004
set_DESeq20.0020.0010.004
set_MAST0.0010.0000.001
set_Maaslin20.0020.0000.002
set_NOISeq0.0010.0000.002
set_Seurat0.0020.0010.002
set_ZicoSeq0.0030.0000.003
set_basic0.0010.0000.001
set_corncob0.0020.0000.002
set_dearseq0.0010.0000.001
set_edgeR0.0040.0000.005
set_limma0.0030.0000.004
set_linda0.0030.0010.003
set_maaslin30.0020.0000.003
set_metagenomeSeq0.0020.0000.002
set_mixMC0.0010.0000.001
weights_ZINB0.1730.0010.177