| Back to Multiple platform build/check report for BioC 3.22: simplified long |
|
This page was generated on 2025-10-25 12:07 -0400 (Sat, 25 Oct 2025).
| Hostname | OS | Arch (*) | R version | Installed pkgs |
|---|---|---|---|---|
| nebbiolo2 | Linux (Ubuntu 24.04.3 LTS) | x86_64 | 4.5.1 Patched (2025-08-23 r88802) -- "Great Square Root" | 4901 |
| lconway | macOS 12.7.6 Monterey | x86_64 | 4.5.1 Patched (2025-09-10 r88807) -- "Great Square Root" | 4691 |
| kjohnson3 | macOS 13.7.7 Ventura | arm64 | 4.5.1 Patched (2025-09-10 r88807) -- "Great Square Root" | 4637 |
| taishan | Linux (openEuler 24.03 LTS) | aarch64 | 4.5.0 (2025-04-11) -- "How About a Twenty-Six" | 4658 |
| Click on any hostname to see more info about the system (e.g. compilers) (*) as reported by 'uname -p', except on Windows and Mac OS X | ||||
| Package 2349/2361 | Hostname | OS / Arch | INSTALL | BUILD | CHECK | BUILD BIN | ||||||||
| XINA 1.27.0 (landing page) Lang Ho Lee
| nebbiolo2 | Linux (Ubuntu 24.04.3 LTS) / x86_64 | OK | OK | OK | |||||||||
| lconway | macOS 12.7.6 Monterey / x86_64 | OK | OK | OK | OK | |||||||||
| kjohnson3 | macOS 13.7.7 Ventura / arm64 | OK | OK | OK | OK | |||||||||
| taishan | Linux (openEuler 24.03 LTS) / aarch64 | OK | NA | NA | ||||||||||
|
To the developers/maintainers of the XINA package: - Allow up to 24 hours (and sometimes 48 hours) for your latest push to git@git.bioconductor.org:packages/XINA.git to reflect on this report. See Troubleshooting Build Report for more information. - Use the following Renviron settings to reproduce errors and warnings. - If 'R CMD check' started to fail recently on the Linux builder(s) over a missing dependency, add the missing dependency to 'Suggests:' in your DESCRIPTION file. See Renviron.bioc for more information. |
| Package: XINA |
| Version: 1.27.0 |
| Command: /Library/Frameworks/R.framework/Resources/bin/R CMD check --install=check:XINA.install-out.txt --library=/Library/Frameworks/R.framework/Resources/library --no-vignettes --timings XINA_1.27.0.tar.gz |
| StartedAt: 2025-10-24 22:45:37 -0400 (Fri, 24 Oct 2025) |
| EndedAt: 2025-10-24 22:46:27 -0400 (Fri, 24 Oct 2025) |
| EllapsedTime: 50.6 seconds |
| RetCode: 0 |
| Status: OK |
| CheckDir: XINA.Rcheck |
| Warnings: 0 |
##############################################################################
##############################################################################
###
### Running command:
###
### /Library/Frameworks/R.framework/Resources/bin/R CMD check --install=check:XINA.install-out.txt --library=/Library/Frameworks/R.framework/Resources/library --no-vignettes --timings XINA_1.27.0.tar.gz
###
##############################################################################
##############################################################################
* using log directory ‘/Users/biocbuild/bbs-3.22-bioc/meat/XINA.Rcheck’
* using R version 4.5.1 Patched (2025-09-10 r88807)
* using platform: aarch64-apple-darwin20
* R was compiled by
Apple clang version 16.0.0 (clang-1600.0.26.6)
GNU Fortran (GCC) 14.2.0
* running under: macOS Ventura 13.7.7
* using session charset: UTF-8
* using option ‘--no-vignettes’
* checking for file ‘XINA/DESCRIPTION’ ... OK
* checking extension type ... Package
* this is package ‘XINA’ version ‘1.27.0’
* package encoding: UTF-8
* checking package namespace information ... OK
* checking package dependencies ... OK
* checking if this is a source package ... OK
* checking if there is a namespace ... OK
* checking for hidden files and directories ... OK
* checking for portable file names ... OK
* checking for sufficient/correct file permissions ... OK
* checking whether package ‘XINA’ can be installed ... OK
* checking installed package size ... OK
* checking package directory ... OK
* checking ‘build’ directory ... OK
* checking DESCRIPTION meta-information ... OK
* checking top-level files ... OK
* checking for left-over files ... OK
* checking index information ... OK
* checking package subdirectories ... OK
* checking code files for non-ASCII characters ... OK
* checking R files for syntax errors ... OK
* checking whether the package can be loaded ... OK
* checking whether the package can be loaded with stated dependencies ... OK
* checking whether the package can be unloaded cleanly ... OK
* checking whether the namespace can be loaded with stated dependencies ... OK
* checking whether the namespace can be unloaded cleanly ... OK
* checking dependencies in R code ... OK
* checking S3 generic/method consistency ... OK
* checking replacement functions ... OK
* checking foreign function calls ... OK
* checking R code for possible problems ... OK
* checking Rd files ... OK
* checking Rd metadata ... OK
* checking Rd cross-references ... NOTE
Non-topic package-anchored link(s) in Rd file 'xina_enrichment.Rd':
‘[STRINGdb]{get_enrichment}’
Non-topic package-anchored link(s) in Rd file 'xina_plot_single.Rd':
‘[base]{Round}’
See section 'Cross-references' in the 'Writing R Extensions' manual.
* checking for missing documentation entries ... OK
* checking for code/documentation mismatches ... OK
* checking Rd \usage sections ... OK
* checking Rd contents ... OK
* checking for unstated dependencies in examples ... OK
* checking contents of ‘data’ directory ... OK
* checking data for non-ASCII characters ... OK
* checking data for ASCII and uncompressed saves ... OK
* checking files in ‘vignettes’ ... OK
* checking examples ... OK
Examples with CPU (user + system) or elapsed time > 5s
user system elapsed
xina_clustering 8.728 0.111 8.842
plot_condition_compositions 5.428 0.016 5.450
* checking for unstated dependencies in vignettes ... OK
* checking package vignettes ... OK
* checking running R code from vignettes ... SKIPPED
* checking re-building of vignette outputs ... SKIPPED
* checking PDF version of manual ... OK
* DONE
Status: 1 NOTE
See
‘/Users/biocbuild/bbs-3.22-bioc/meat/XINA.Rcheck/00check.log’
for details.
XINA.Rcheck/00install.out
############################################################################## ############################################################################## ### ### Running command: ### ### /Library/Frameworks/R.framework/Resources/bin/R CMD INSTALL XINA ### ############################################################################## ############################################################################## * installing to library ‘/Library/Frameworks/R.framework/Versions/4.5-arm64/Resources/library’ * installing *source* package ‘XINA’ ... ** this is package ‘XINA’ version ‘1.27.0’ ** using staged installation ** R ** data ** inst ** byte-compile and prepare package for lazy loading ** help *** installing help indices ** building package indices ** installing vignettes ** testing if installed package can be loaded from temporary location ** testing if installed package can be loaded from final location ** testing if installed package keeps a record of temporary installation path * DONE (XINA)
XINA.Rcheck/XINA-Ex.timings
| name | user | system | elapsed | |
| alluvial_enriched | 0.670 | 0.030 | 0.702 | |
| draw_alluvial_plot | 0.019 | 0.002 | 0.022 | |
| get_comigrations_by_name | 0.014 | 0.001 | 0.016 | |
| get_condition_biased_comigrations | 1.955 | 0.007 | 1.962 | |
| get_unknown_ppi_nodes | 0.043 | 0.002 | 0.045 | |
| load_previous_results | 0.372 | 0.012 | 0.384 | |
| make_random_xina_data | 0.157 | 0.007 | 0.163 | |
| mutate_colors | 3.165 | 0.010 | 3.183 | |
| plot_clusters | 3.367 | 0.008 | 3.377 | |
| plot_clusters_all | 0.620 | 0.008 | 0.629 | |
| plot_condition_compositions | 5.428 | 0.016 | 5.450 | |
| plot_enrichment_results | 0 | 0 | 0 | |
| xina_analysis | 0.000 | 0.000 | 0.001 | |
| xina_clustering | 8.728 | 0.111 | 8.842 | |
| xina_enrichment | 0 | 0 | 0 | |
| xina_plot_all | 1.494 | 0.078 | 1.594 | |
| xina_plot_bycluster | 0.084 | 0.003 | 0.087 | |
| xina_plot_single | 0.058 | 0.002 | 0.061 | |