| Back to Multiple platform build/check report for BioC 3.22: simplified long |
|
This page was generated on 2025-10-25 12:07 -0400 (Sat, 25 Oct 2025).
| Hostname | OS | Arch (*) | R version | Installed pkgs |
|---|---|---|---|---|
| nebbiolo2 | Linux (Ubuntu 24.04.3 LTS) | x86_64 | 4.5.1 Patched (2025-08-23 r88802) -- "Great Square Root" | 4901 |
| lconway | macOS 12.7.6 Monterey | x86_64 | 4.5.1 Patched (2025-09-10 r88807) -- "Great Square Root" | 4691 |
| kjohnson3 | macOS 13.7.7 Ventura | arm64 | 4.5.1 Patched (2025-09-10 r88807) -- "Great Square Root" | 4637 |
| taishan | Linux (openEuler 24.03 LTS) | aarch64 | 4.5.0 (2025-04-11) -- "How About a Twenty-Six" | 4658 |
| Click on any hostname to see more info about the system (e.g. compilers) (*) as reported by 'uname -p', except on Windows and Mac OS X | ||||
| Package 2240/2361 | Hostname | OS / Arch | INSTALL | BUILD | CHECK | BUILD BIN | ||||||||
| TPP2D 1.25.2 (landing page) Nils Kurzawa
| nebbiolo2 | Linux (Ubuntu 24.04.3 LTS) / x86_64 | OK | OK | OK | |||||||||
| lconway | macOS 12.7.6 Monterey / x86_64 | OK | OK | OK | OK | |||||||||
| kjohnson3 | macOS 13.7.7 Ventura / arm64 | OK | OK | OK | OK | |||||||||
| taishan | Linux (openEuler 24.03 LTS) / aarch64 | OK | NA | NA | ||||||||||
|
To the developers/maintainers of the TPP2D package: - Allow up to 24 hours (and sometimes 48 hours) for your latest push to git@git.bioconductor.org:packages/TPP2D.git to reflect on this report. See Troubleshooting Build Report for more information. - Use the following Renviron settings to reproduce errors and warnings. - If 'R CMD check' started to fail recently on the Linux builder(s) over a missing dependency, add the missing dependency to 'Suggests:' in your DESCRIPTION file. See Renviron.bioc for more information. |
| Package: TPP2D |
| Version: 1.25.2 |
| Command: /Library/Frameworks/R.framework/Resources/bin/R CMD check --install=check:TPP2D.install-out.txt --library=/Library/Frameworks/R.framework/Resources/library --no-vignettes --timings TPP2D_1.25.2.tar.gz |
| StartedAt: 2025-10-24 22:33:18 -0400 (Fri, 24 Oct 2025) |
| EndedAt: 2025-10-24 22:34:01 -0400 (Fri, 24 Oct 2025) |
| EllapsedTime: 43.5 seconds |
| RetCode: 0 |
| Status: OK |
| CheckDir: TPP2D.Rcheck |
| Warnings: 0 |
##############################################################################
##############################################################################
###
### Running command:
###
### /Library/Frameworks/R.framework/Resources/bin/R CMD check --install=check:TPP2D.install-out.txt --library=/Library/Frameworks/R.framework/Resources/library --no-vignettes --timings TPP2D_1.25.2.tar.gz
###
##############################################################################
##############################################################################
* using log directory ‘/Users/biocbuild/bbs-3.22-bioc/meat/TPP2D.Rcheck’
* using R version 4.5.1 Patched (2025-09-10 r88807)
* using platform: aarch64-apple-darwin20
* R was compiled by
Apple clang version 16.0.0 (clang-1600.0.26.6)
GNU Fortran (GCC) 14.2.0
* running under: macOS Ventura 13.7.7
* using session charset: UTF-8
* using option ‘--no-vignettes’
* checking for file ‘TPP2D/DESCRIPTION’ ... OK
* this is package ‘TPP2D’ version ‘1.25.2’
* package encoding: UTF-8
* checking package namespace information ... OK
* checking package dependencies ... OK
* checking if this is a source package ... OK
* checking if there is a namespace ... OK
* checking for hidden files and directories ... OK
* checking for portable file names ... OK
* checking for sufficient/correct file permissions ... OK
* checking whether package ‘TPP2D’ can be installed ... OK
* checking installed package size ... OK
* checking package directory ... OK
* checking ‘build’ directory ... OK
* checking DESCRIPTION meta-information ... OK
* checking top-level files ... OK
* checking for left-over files ... OK
* checking index information ... OK
* checking package subdirectories ... OK
* checking code files for non-ASCII characters ... OK
* checking R files for syntax errors ... OK
* checking whether the package can be loaded ... OK
* checking whether the package can be loaded with stated dependencies ... OK
* checking whether the package can be unloaded cleanly ... OK
* checking whether the namespace can be loaded with stated dependencies ... OK
* checking whether the namespace can be unloaded cleanly ... OK
* checking dependencies in R code ... NOTE
There are ::: calls to the package's namespace in its code. A package
almost never needs to use ::: for its own objects:
‘.min_RSS_h0’ ‘.min_RSS_h1_slope_pEC50’
* checking S3 generic/method consistency ... OK
* checking replacement functions ... OK
* checking foreign function calls ... OK
* checking R code for possible problems ... OK
* checking Rd files ... OK
* checking Rd metadata ... OK
* checking Rd cross-references ... OK
* checking for missing documentation entries ... OK
* checking for code/documentation mismatches ... OK
* checking Rd \usage sections ... OK
* checking Rd contents ... OK
* checking for unstated dependencies in examples ... OK
* checking contents of ‘data’ directory ... OK
* checking data for non-ASCII characters ... OK
* checking data for ASCII and uncompressed saves ... OK
* checking R/sysdata.rda ... OK
* checking files in ‘vignettes’ ... OK
* checking examples ... OK
* checking for unstated dependencies in ‘tests’ ... OK
* checking tests ...
Running ‘testthat.R’
OK
* checking for unstated dependencies in vignettes ... OK
* checking package vignettes ... OK
* checking running R code from vignettes ... SKIPPED
* checking re-building of vignette outputs ... SKIPPED
* checking PDF version of manual ... OK
* DONE
Status: 1 NOTE
See
‘/Users/biocbuild/bbs-3.22-bioc/meat/TPP2D.Rcheck/00check.log’
for details.
TPP2D.Rcheck/00install.out
############################################################################## ############################################################################## ### ### Running command: ### ### /Library/Frameworks/R.framework/Resources/bin/R CMD INSTALL TPP2D ### ############################################################################## ############################################################################## * installing to library ‘/Library/Frameworks/R.framework/Versions/4.5-arm64/Resources/library’ * installing *source* package ‘TPP2D’ ... ** this is package ‘TPP2D’ version ‘1.25.2’ ** using staged installation ** R ** data ** inst ** byte-compile and prepare package for lazy loading ** help *** installing help indices ** building package indices ** installing vignettes ** testing if installed package can be loaded from temporary location ** testing if installed package can be loaded from final location ** testing if installed package keeps a record of temporary installation path * DONE (TPP2D)
TPP2D.Rcheck/tests/testthat.Rout
R version 4.5.1 Patched (2025-09-10 r88807) -- "Great Square Root"
Copyright (C) 2025 The R Foundation for Statistical Computing
Platform: aarch64-apple-darwin20
R is free software and comes with ABSOLUTELY NO WARRANTY.
You are welcome to redistribute it under certain conditions.
Type 'license()' or 'licence()' for distribution details.
R is a collaborative project with many contributors.
Type 'contributors()' for more information and
'citation()' on how to cite R or R packages in publications.
Type 'demo()' for some demos, 'help()' for on-line help, or
'help.start()' for an HTML browser interface to help.
Type 'q()' to quit R.
> Sys.setenv("R_TESTS" = "")
> library(testthat)
> library(TPP2D)
Loading required package: dplyr
Attaching package: 'dplyr'
The following object is masked from 'package:testthat':
matches
The following objects are masked from 'package:stats':
filter, lag
The following objects are masked from 'package:base':
intersect, setdiff, setequal, union
>
> test_check("TPP2D")
[1] "Warning: You have specificed B < 20, it is recommended to use at least B = 20 in order to obtain reliable results."
|
| | 0%
|
|======================================================================| 100%
[ FAIL 0 | WARN 0 | SKIP 0 | PASS 18 ]
>
> proc.time()
user system elapsed
2.071 0.091 2.236
TPP2D.Rcheck/TPP2D-Ex.timings
| name | user | system | elapsed | |
| TPP_importCheckConfigTable | 0.006 | 0.001 | 0.008 | |
| annotateDataList | 0.143 | 0.003 | 0.146 | |
| bootstrapNull | 0.022 | 0.004 | 0.826 | |
| bootstrapNullAlternativeModel | 0.444 | 0.006 | 0.452 | |
| bootstrapNullAlternativeModelFast | 0.479 | 0.005 | 0.487 | |
| competeModels | 0.829 | 0.031 | 0.861 | |
| computeFStatFromParams | 1.794 | 0.061 | 1.861 | |
| computeFstat | 1.361 | 0.048 | 1.412 | |
| configWide2Long | 0.002 | 0.000 | 0.003 | |
| filterOutContaminants | 0.012 | 0.001 | 0.012 | |
| findHits | 0.336 | 0.015 | 1.479 | |
| fitAndEvalDataset | 1.622 | 0.053 | 1.675 | |
| fitH0Model | 0.037 | 0.001 | 0.038 | |
| fitH1Model | 0.268 | 0.007 | 0.275 | |
| getFDR | 0.333 | 0.012 | 1.463 | |
| getModelParamsDf | 1.759 | 0.061 | 1.821 | |
| getPEC504Temperature | 0.116 | 0.003 | 0.119 | |
| getPvalues | 0.174 | 0.008 | 1.288 | |
| gg_qq | 0.015 | 0.001 | 0.015 | |
| import2dDataset | 0.112 | 0.001 | 0.114 | |
| import2dMain | 0.048 | 0.002 | 0.052 | |
| plot2dTppFcHeatmap | 0.118 | 0.002 | 0.120 | |
| plot2dTppFit | 0.138 | 0.001 | 0.140 | |
| plot2dTppProfile | 0.123 | 0.001 | 0.123 | |
| plot2dTppRelProfile | 0.121 | 0.001 | 0.122 | |
| plot2dTppVolcano | 1.382 | 0.032 | 1.416 | |
| recomputeSignalFromRatios | 0.019 | 0.001 | 0.019 | |
| renameColumns | 0.122 | 0.001 | 0.123 | |
| resolveAmbiguousProteinNames | 0.01 | 0.00 | 0.01 | |
| runTPP2D | 0.432 | 0.006 | 0.438 | |
| tpp2dExperiment-class | 0 | 0 | 0 | |