| Back to Multiple platform build/check report for BioC 3.22: simplified long |
|
This page was generated on 2025-10-25 12:06 -0400 (Sat, 25 Oct 2025).
| Hostname | OS | Arch (*) | R version | Installed pkgs |
|---|---|---|---|---|
| nebbiolo2 | Linux (Ubuntu 24.04.3 LTS) | x86_64 | 4.5.1 Patched (2025-08-23 r88802) -- "Great Square Root" | 4901 |
| lconway | macOS 12.7.6 Monterey | x86_64 | 4.5.1 Patched (2025-09-10 r88807) -- "Great Square Root" | 4691 |
| kjohnson3 | macOS 13.7.7 Ventura | arm64 | 4.5.1 Patched (2025-09-10 r88807) -- "Great Square Root" | 4637 |
| taishan | Linux (openEuler 24.03 LTS) | aarch64 | 4.5.0 (2025-04-11) -- "How About a Twenty-Six" | 4658 |
| Click on any hostname to see more info about the system (e.g. compilers) (*) as reported by 'uname -p', except on Windows and Mac OS X | ||||
| Package 2203/2361 | Hostname | OS / Arch | INSTALL | BUILD | CHECK | BUILD BIN | ||||||||
| TFARM 1.31.0 (landing page) Liuba Nausicaa Martino
| nebbiolo2 | Linux (Ubuntu 24.04.3 LTS) / x86_64 | OK | OK | OK | |||||||||
| lconway | macOS 12.7.6 Monterey / x86_64 | OK | OK | OK | OK | |||||||||
| kjohnson3 | macOS 13.7.7 Ventura / arm64 | OK | OK | OK | OK | |||||||||
| taishan | Linux (openEuler 24.03 LTS) / aarch64 | OK | NA | NA | ||||||||||
|
To the developers/maintainers of the TFARM package: - Allow up to 24 hours (and sometimes 48 hours) for your latest push to git@git.bioconductor.org:packages/TFARM.git to reflect on this report. See Troubleshooting Build Report for more information. - Use the following Renviron settings to reproduce errors and warnings. - If 'R CMD check' started to fail recently on the Linux builder(s) over a missing dependency, add the missing dependency to 'Suggests:' in your DESCRIPTION file. See Renviron.bioc for more information. |
| Package: TFARM |
| Version: 1.31.0 |
| Command: /Library/Frameworks/R.framework/Resources/bin/R CMD check --install=check:TFARM.install-out.txt --library=/Library/Frameworks/R.framework/Resources/library --no-vignettes --timings TFARM_1.31.0.tar.gz |
| StartedAt: 2025-10-24 22:29:19 -0400 (Fri, 24 Oct 2025) |
| EndedAt: 2025-10-24 22:30:02 -0400 (Fri, 24 Oct 2025) |
| EllapsedTime: 43.5 seconds |
| RetCode: 0 |
| Status: OK |
| CheckDir: TFARM.Rcheck |
| Warnings: 0 |
##############################################################################
##############################################################################
###
### Running command:
###
### /Library/Frameworks/R.framework/Resources/bin/R CMD check --install=check:TFARM.install-out.txt --library=/Library/Frameworks/R.framework/Resources/library --no-vignettes --timings TFARM_1.31.0.tar.gz
###
##############################################################################
##############################################################################
* using log directory ‘/Users/biocbuild/bbs-3.22-bioc/meat/TFARM.Rcheck’
* using R version 4.5.1 Patched (2025-09-10 r88807)
* using platform: aarch64-apple-darwin20
* R was compiled by
Apple clang version 16.0.0 (clang-1600.0.26.6)
GNU Fortran (GCC) 14.2.0
* running under: macOS Ventura 13.7.7
* using session charset: UTF-8
* using option ‘--no-vignettes’
* checking for file ‘TFARM/DESCRIPTION’ ... OK
* checking extension type ... Package
* this is package ‘TFARM’ version ‘1.31.0’
* package encoding: UTF-8
* checking package namespace information ... OK
* checking package dependencies ... OK
* checking if this is a source package ... OK
* checking if there is a namespace ... OK
* checking for hidden files and directories ... OK
* checking for portable file names ... OK
* checking for sufficient/correct file permissions ... OK
* checking whether package ‘TFARM’ can be installed ... OK
* checking installed package size ... OK
* checking package directory ... OK
* checking ‘build’ directory ... OK
* checking DESCRIPTION meta-information ... OK
* checking top-level files ... OK
* checking for left-over files ... OK
* checking index information ... OK
* checking package subdirectories ... OK
* checking code files for non-ASCII characters ... OK
* checking R files for syntax errors ... OK
* checking whether the package can be loaded ... OK
* checking whether the package can be loaded with stated dependencies ... OK
* checking whether the package can be unloaded cleanly ... OK
* checking whether the namespace can be loaded with stated dependencies ... OK
* checking whether the namespace can be unloaded cleanly ... OK
* checking dependencies in R code ... OK
* checking S3 generic/method consistency ... OK
* checking replacement functions ... OK
* checking foreign function calls ... OK
* checking R code for possible problems ... OK
* checking Rd files ... NOTE
checkRd: (-1) rulesGen.Rd:26: Lost braces; missing escapes or markup?
26 | type {TF1=1, TF2=1, TF3=1}). If \code{type = FALSE}, also rules with absent
| ^
checkRd: (-1) rulesGen.Rd:29: Lost braces; missing escapes or markup?
29 | {TF1=1, TF2=0, TF3=1} or {TF1=0, TF2=0, TF3=0}).}
| ^
checkRd: (-1) rulesGen.Rd:29: Lost braces; missing escapes or markup?
29 | {TF1=1, TF2=0, TF3=1} or {TF1=0, TF2=0, TF3=0}).}
| ^
* checking Rd metadata ... OK
* checking Rd cross-references ... OK
* checking for missing documentation entries ... OK
* checking for code/documentation mismatches ... OK
* checking Rd \usage sections ... OK
* checking Rd contents ... OK
* checking for unstated dependencies in examples ... OK
* checking contents of ‘data’ directory ... OK
* checking data for non-ASCII characters ... OK
* checking LazyData ... OK
* checking data for ASCII and uncompressed saves ... OK
* checking sizes of PDF files under ‘inst/doc’ ... OK
* checking installed files from ‘inst/doc’ ... OK
* checking files in ‘vignettes’ ... OK
* checking examples ... OK
* checking for unstated dependencies in vignettes ... OK
* checking package vignettes ... OK
* checking running R code from vignettes ... SKIPPED
* checking re-building of vignette outputs ... SKIPPED
* checking PDF version of manual ... OK
* DONE
Status: 1 NOTE
See
‘/Users/biocbuild/bbs-3.22-bioc/meat/TFARM.Rcheck/00check.log’
for details.
TFARM.Rcheck/00install.out
############################################################################## ############################################################################## ### ### Running command: ### ### /Library/Frameworks/R.framework/Resources/bin/R CMD INSTALL TFARM ### ############################################################################## ############################################################################## * installing to library ‘/Library/Frameworks/R.framework/Versions/4.5-arm64/Resources/library’ * installing *source* package ‘TFARM’ ... ** this is package ‘TFARM’ version ‘1.31.0’ ** using staged installation ** R ** data *** moving datasets to lazyload DB ** inst ** byte-compile and prepare package for lazy loading ** help *** installing help indices ** building package indices ** installing vignettes ** testing if installed package can be loaded from temporary location ** testing if installed package can be loaded from final location ** testing if installed package keeps a record of temporary installation path * DONE (TFARM)
TFARM.Rcheck/TFARM-Ex.timings
| name | user | system | elapsed | |
| DELTA | 0.002 | 0.001 | 0.003 | |
| IComp | 0.008 | 0.002 | 0.010 | |
| IMP | 0.000 | 0.001 | 0.001 | |
| IMP_Z | 0.000 | 0.000 | 0.001 | |
| IPCA | 0.005 | 0.001 | 0.005 | |
| I_c_2 | 0 | 0 | 0 | |
| MCF7_chr1 | 0.014 | 0.001 | 0.015 | |
| TF_Imp | 0.001 | 0.000 | 0.001 | |
| distribViz | 0.004 | 0.001 | 0.005 | |
| heatI | 0.062 | 0.003 | 0.065 | |
| imp_FOSL2 | 0.000 | 0.000 | 0.001 | |
| items | 0 | 0 | 0 | |
| itemset | 0 | 0 | 0 | |
| p_TFs | 0.000 | 0.001 | 0.001 | |
| presAbs | 0.025 | 0.003 | 0.029 | |
| r_FOSL2 | 0.000 | 0.001 | 0.000 | |
| r_TEAD4 | 0.001 | 0.000 | 0.001 | |
| r_noFOSL2 | 0.000 | 0.001 | 0.001 | |
| rulesGen | 0.132 | 0.003 | 0.136 | |
| rulesTF | 0.028 | 0.000 | 0.029 | |
| rulesTF0 | 1.414 | 0.035 | 1.450 | |