| Back to Multiple platform build/check report for BioC 3.22: simplified long |
|
This page was generated on 2025-10-24 12:07 -0400 (Fri, 24 Oct 2025).
| Hostname | OS | Arch (*) | R version | Installed pkgs |
|---|---|---|---|---|
| nebbiolo2 | Linux (Ubuntu 24.04.3 LTS) | x86_64 | 4.5.1 Patched (2025-08-23 r88802) -- "Great Square Root" | 4898 |
| lconway | macOS 12.7.6 Monterey | x86_64 | 4.5.1 Patched (2025-09-10 r88807) -- "Great Square Root" | 4688 |
| kjohnson3 | macOS 13.7.7 Ventura | arm64 | 4.5.1 Patched (2025-09-10 r88807) -- "Great Square Root" | 4634 |
| taishan | Linux (openEuler 24.03 LTS) | aarch64 | 4.5.0 (2025-04-11) -- "How About a Twenty-Six" | 4658 |
| Click on any hostname to see more info about the system (e.g. compilers) (*) as reported by 'uname -p', except on Windows and Mac OS X | ||||
| Package 2089/2359 | Hostname | OS / Arch | INSTALL | BUILD | CHECK | BUILD BIN | ||||||||
| Spectra 1.19.11 (landing page) RforMassSpectrometry Package Maintainer
| nebbiolo2 | Linux (Ubuntu 24.04.3 LTS) / x86_64 | OK | OK | OK | |||||||||
| lconway | macOS 12.7.6 Monterey / x86_64 | OK | OK | OK | OK | |||||||||
| kjohnson3 | macOS 13.7.7 Ventura / arm64 | OK | OK | OK | OK | |||||||||
| taishan | Linux (openEuler 24.03 LTS) / aarch64 | OK | OK | NA | ||||||||||
|
To the developers/maintainers of the Spectra package: - Allow up to 24 hours (and sometimes 48 hours) for your latest push to git@git.bioconductor.org:packages/Spectra.git to reflect on this report. See Troubleshooting Build Report for more information. - Use the following Renviron settings to reproduce errors and warnings. - If 'R CMD check' started to fail recently on the Linux builder(s) over a missing dependency, add the missing dependency to 'Suggests:' in your DESCRIPTION file. See Renviron.bioc for more information. |
| Package: Spectra |
| Version: 1.19.11 |
| Command: /Library/Frameworks/R.framework/Resources/bin/R CMD check --install=check:Spectra.install-out.txt --library=/Library/Frameworks/R.framework/Resources/library --no-vignettes --timings Spectra_1.19.11.tar.gz |
| StartedAt: 2025-10-23 22:22:26 -0400 (Thu, 23 Oct 2025) |
| EndedAt: 2025-10-23 22:25:47 -0400 (Thu, 23 Oct 2025) |
| EllapsedTime: 201.4 seconds |
| RetCode: 0 |
| Status: OK |
| CheckDir: Spectra.Rcheck |
| Warnings: 0 |
##############################################################################
##############################################################################
###
### Running command:
###
### /Library/Frameworks/R.framework/Resources/bin/R CMD check --install=check:Spectra.install-out.txt --library=/Library/Frameworks/R.framework/Resources/library --no-vignettes --timings Spectra_1.19.11.tar.gz
###
##############################################################################
##############################################################################
* using log directory ‘/Users/biocbuild/bbs-3.22-bioc/meat/Spectra.Rcheck’
* using R version 4.5.1 Patched (2025-09-10 r88807)
* using platform: aarch64-apple-darwin20
* R was compiled by
Apple clang version 16.0.0 (clang-1600.0.26.6)
GNU Fortran (GCC) 14.2.0
* running under: macOS Ventura 13.7.7
* using session charset: UTF-8
* using option ‘--no-vignettes’
* checking for file ‘Spectra/DESCRIPTION’ ... OK
* this is package ‘Spectra’ version ‘1.19.11’
* package encoding: UTF-8
* checking package namespace information ... OK
* checking package dependencies ... OK
* checking if this is a source package ... OK
* checking if there is a namespace ... OK
* checking for hidden files and directories ... OK
* checking for portable file names ... OK
* checking for sufficient/correct file permissions ... OK
* checking whether package ‘Spectra’ can be installed ... OK
* checking installed package size ... OK
* checking package directory ... OK
* checking ‘build’ directory ... OK
* checking DESCRIPTION meta-information ... OK
* checking top-level files ... OK
* checking for left-over files ... OK
* checking index information ... OK
* checking package subdirectories ... OK
* checking code files for non-ASCII characters ... OK
* checking R files for syntax errors ... OK
* checking whether the package can be loaded ... OK
* checking whether the package can be loaded with stated dependencies ... OK
* checking whether the package can be unloaded cleanly ... OK
* checking whether the namespace can be loaded with stated dependencies ... OK
* checking whether the namespace can be unloaded cleanly ... OK
* checking whether startup messages can be suppressed ... OK
* checking dependencies in R code ... OK
* checking S3 generic/method consistency ... OK
* checking replacement functions ... OK
* checking foreign function calls ... NOTE
Foreign function calls to a different package:
.Call("_H5Dclose", ..., PACKAGE = "rhdf5")
.Call("_H5Dopen", ..., PACKAGE = "rhdf5")
.Call("_H5Dread", ..., PACKAGE = "rhdf5")
.Call("_H5Fclose", ..., PACKAGE = "rhdf5")
.Call("_H5Fopen", ..., PACKAGE = "rhdf5")
See chapter ‘System and foreign language interfaces’ in the ‘Writing R
Extensions’ manual.
* checking R code for possible problems ... OK
* checking Rd files ... OK
* checking Rd metadata ... OK
* checking Rd cross-references ... NOTE
Non-topic package-anchored link(s) in Rd file 'MsBackend.Rd':
‘[MsCoreUtils:matching]{MsCoreUtils::closest()}’
Non-topic package-anchored link(s) in Rd file 'addProcessing.Rd':
‘[MsCoreUtils:matching]{MsCoreUtils::common()}’
Non-topic package-anchored link(s) in Rd file 'joinPeaks.Rd':
‘[MsCoreUtils:matching]{MsCoreUtils::join()}’
Non-topic package-anchored link(s) in Rd file 'spectra-plotting.Rd':
‘[MsCoreUtils:matching]{MsCoreUtils::common()}’
See section 'Cross-references' in the 'Writing R Extensions' manual.
* checking for missing documentation entries ... OK
* checking for code/documentation mismatches ... OK
* checking Rd \usage sections ... OK
* checking Rd contents ... OK
* checking for unstated dependencies in examples ... OK
* checking contents of ‘data’ directory ... OK
* checking data for non-ASCII characters ... OK
* checking data for ASCII and uncompressed saves ... OK
* checking files in ‘vignettes’ ... OK
* checking examples ... OK
Examples with CPU (user + system) or elapsed time > 5s
user system elapsed
estimatePrecursorMz 27.702 1.340 29.635
plotMzDelta 7.270 0.406 7.436
addProcessing 5.382 0.402 5.808
* checking for unstated dependencies in ‘tests’ ... OK
* checking tests ...
Running ‘testthat.R’
OK
* checking for unstated dependencies in vignettes ... OK
* checking package vignettes ... OK
* checking running R code from vignettes ... SKIPPED
* checking re-building of vignette outputs ... SKIPPED
* checking PDF version of manual ... OK
* DONE
Status: 2 NOTEs
See
‘/Users/biocbuild/bbs-3.22-bioc/meat/Spectra.Rcheck/00check.log’
for details.
Spectra.Rcheck/00install.out
############################################################################## ############################################################################## ### ### Running command: ### ### /Library/Frameworks/R.framework/Resources/bin/R CMD INSTALL Spectra ### ############################################################################## ############################################################################## * installing to library ‘/Library/Frameworks/R.framework/Versions/4.5-arm64/Resources/library’ * installing *source* package ‘Spectra’ ... ** this is package ‘Spectra’ version ‘1.19.11’ ** using staged installation ** R ** data ** inst ** byte-compile and prepare package for lazy loading Creating a new generic function for ‘entropy’ in package ‘Spectra’ ** help *** installing help indices *** copying figures ** building package indices ** installing vignettes ** testing if installed package can be loaded from temporary location ** testing if installed package can be loaded from final location ** testing if installed package keeps a record of temporary installation path * DONE (Spectra)
Spectra.Rcheck/tests/testthat.Rout
R version 4.5.1 Patched (2025-09-10 r88807) -- "Great Square Root"
Copyright (C) 2025 The R Foundation for Statistical Computing
Platform: aarch64-apple-darwin20
R is free software and comes with ABSOLUTELY NO WARRANTY.
You are welcome to redistribute it under certain conditions.
Type 'license()' or 'licence()' for distribution details.
R is a collaborative project with many contributors.
Type 'contributors()' for more information and
'citation()' on how to cite R or R packages in publications.
Type 'demo()' for some demos, 'help()' for on-line help, or
'help.start()' for an HTML browser interface to help.
Type 'q()' to quit R.
> library("testthat")
> library("patrick")
> library("Spectra")
Loading required package: S4Vectors
Loading required package: stats4
Loading required package: BiocGenerics
Loading required package: generics
Attaching package: 'generics'
The following objects are masked from 'package:base':
as.difftime, as.factor, as.ordered, intersect, is.element, setdiff,
setequal, union
Attaching package: 'BiocGenerics'
The following objects are masked from 'package:stats':
IQR, mad, sd, var, xtabs
The following objects are masked from 'package:base':
Filter, Find, Map, Position, Reduce, anyDuplicated, aperm, append,
as.data.frame, basename, cbind, colnames, dirname, do.call,
duplicated, eval, evalq, get, grep, grepl, is.unsorted, lapply,
mapply, match, mget, order, paste, pmax, pmax.int, pmin, pmin.int,
rank, rbind, rownames, sapply, saveRDS, table, tapply, unique,
unsplit, which.max, which.min
Attaching package: 'S4Vectors'
The following object is masked from 'package:utils':
findMatches
The following objects are masked from 'package:base':
I, expand.grid, unname
Loading required package: BiocParallel
>
> register(SerialParam())
>
> sciex_file <- normalizePath(
+ dir(system.file("sciex", package = "msdata"), full.names = TRUE))
> cdf_file <- normalizePath(
+ dir(system.file("cdf", package = "msdata"), full.names = TRUE))
>
> sciex_mzr <- backendInitialize(MsBackendMzR(), files = sciex_file)
> sciex_pks <- peaksData(sciex_mzr)
> fl <- normalizePath(
+ dir(system.file("proteomics", package = "msdata"), full.names = TRUE))
> tmt_mzr <- backendInitialize(MsBackendMzR(), files = fl[5])
>
> fl <- system.file("TripleTOF-SWATH", "PestMix1_SWATH.mzML",
+ package = "msdata")
> sps_dia <- Spectra(fl)
>
> fl <- system.file("TripleTOF-SWATH", "PestMix1_DDA.mzML",
+ package = "msdata")
> sps_dda <- Spectra(fl)
>
> sciex_hd5 <- backendInitialize(MsBackendHdf5Peaks(),
+ data = spectraData(sciex_mzr),
+ hdf5path = tempdir())
>
> test_suite <- system.file("test_backends", "test_MsBackend",
+ package = "Spectra")
> be <- sciex_mzr[1:10]
> test_dir(test_suite, stop_on_failure = TRUE)
✔ | F W S OK | Context
⠏ | 0 | peaks_variables
✔ | 4 | peaks_variables
⠏ | 0 | spectra_subsetting
⠴ | 36 | spectra_subsetting
⠋ | 41 | spectra_subsetting
⠧ | 48 | spectra_subsetting
⠋ | 71 | spectra_subsetting
✔ | 86 | spectra_subsetting
⠏ | 0 | spectra_variables
⠸ | 54 | spectra_variables
✔ | 1 62 | spectra_variables
══ Results ═════════════════════════════════════════════════════════════════════
── Skipped tests (1) ───────────────────────────────────────────────────────────
• empty test (1): 'test_spectra_variables.R:262:1'
[ FAIL 0 | WARN 0 | SKIP 1 | PASS 152 ]
>
> be <- backendInitialize(MsBackendDataFrame(), spectraData(be))
> test_dir(test_suite, stop_on_failure = TRUE)
✔ | F W S OK | Context
⠏ | 0 | peaks_variables
✔ | 4 | peaks_variables
⠏ | 0 | spectra_subsetting
⠸ | 34 | spectra_subsetting
⠙ | 62 | spectra_subsetting
✔ | 86 | spectra_subsetting
⠏ | 0 | spectra_variables
⠸ | 34 | spectra_variables
⠏ | 70 | spectra_variables
✔ | 78 | spectra_variables
══ Results ═════════════════════════════════════════════════════════════════════
[ FAIL 0 | WARN 0 | SKIP 0 | PASS 168 ]
>
> be <- backendInitialize(MsBackendMemory(), spectraData(be))
> test_dir(test_suite, stop_on_failure = TRUE)
✔ | F W S OK | Context
⠏ | 0 | peaks_variables
✔ | 4 | peaks_variables
⠏ | 0 | spectra_subsetting
⠦ | 47 | spectra_subsetting
✔ | 86 | spectra_subsetting
⠏ | 0 | spectra_variables
⠏ | 70 | spectra_variables
✔ | 80 | spectra_variables
══ Results ═════════════════════════════════════════════════════════════════════
[ FAIL 0 | WARN 0 | SKIP 0 | PASS 170 ]
>
> ## be <- sciex_hd5[1:10]
> ## test_dir(test_suite, stop_on_failure = TRUE)
>
> test_check("Spectra")
Error in .h5_read_bare(fid, "/header/modcount") :
HDF5. Dataset. Can't open object.
Error in try(.Call("_H5Fopen", x, 0L, fapl@ID, PACKAGE = "rhdf5")) :
HDF5. File accessibility. Unable to open file.
Error in try(.Call("_H5Fopen", x, 0L, fapl@ID, PACKAGE = "rhdf5")) :
HDF5. File accessibility. Unable to open file.
Error in try(.Call("_H5Fopen", x, 0L, fapl@ID, PACKAGE = "rhdf5")) :
HDF5. File accessibility. Unable to open file.
Error in try(.Call("_H5Fopen", x, 0L, fapl@ID, PACKAGE = "rhdf5")) :
HDF5. File accessibility. Unable to open file.
MsBackendHdf5Peaks with 3 spectra
msLevel rtime scanIndex
<integer> <numeric> <integer>
1 1 NA 1
2 2 NA 1
3 2 NA 2
... 16 more variables/columns.
file(s):
c
d
MsBackendMzR with 0 spectra
MsBackendMzR with 1862 spectra
msLevel rtime scanIndex
<integer> <numeric> <integer>
1 1 0.280 1
2 1 0.559 2
3 1 0.838 3
4 1 1.117 4
5 1 1.396 5
... ... ... ...
1858 1 258.636 927
1859 1 258.915 928
1860 1 259.194 929
1861 1 259.473 930
1862 1 259.752 931
... 34 more variables/columns.
file(s):
20171016_POOL_POS_1_105-134.mzML
20171016_POOL_POS_3_105-134.mzML
MSn data (Spectra) with 0 spectra in a MsBackendMemory backend:
Lazy evaluation queue: 2 processing step(s)
MSn data (Spectra) with 1862 spectra in a MsBackendMzR backend:
msLevel rtime scanIndex
<integer> <numeric> <integer>
1 1 0.280 1
2 1 0.559 2
3 1 0.838 3
4 1 1.117 4
5 1 1.396 5
... ... ... ...
1858 1 258.636 927
1859 1 258.915 928
1860 1 259.194 929
1861 1 259.473 930
1862 1 259.752 931
... 34 more variables/columns.
file(s):
20171016_POOL_POS_1_105-134.mzML
20171016_POOL_POS_3_105-134.mzML
NULL
[ FAIL 0 | WARN 11 | SKIP 7 | PASS 2964 ]
══ Skipped tests (7) ═══════════════════════════════════════════════════════════
• On CRAN (6): 'test_plotMzDelta.R:30:5', 'test_plotting-functions.R:17:5',
'test_plotting-functions.R:50:5', 'test_plotting-functions.R:69:5',
'test_plotting-functions.R:99:5', 'test_plotting-functions.R:144:5'
• empty test (1): 'test_MsBackendMzR.R:464:1'
[ FAIL 0 | WARN 11 | SKIP 7 | PASS 2964 ]
Deleting unused snapshots:
• plotting-functions/plot-single-spectrum-labels-ass.svg
• plotting-functions/plot-single-spectrum-labels.svg
• plotting-functions/plot-single-spectrum-xlim.svg
• plotting-functions/plotspectra-asp05.svg
• plotting-functions/plotspectra-asp2.svg
• plotting-functions/plotspectra-color-peaks-label-labelcol.svg
• plotting-functions/plotspectra-color-peaks-label.svg
• plotting-functions/plotspectra-color-peaks.svg
• plotting-functions/plotspectramirror-match-color-labelcol.svg
• plotting-functions/plotspectramirror-match-color.svg
• plotting-functions/plotspectramirror-same.svg
• plotting-functions/plotspectraoverlay-no-axes.svg
• plotting-functions/plotspectraoverlay-xlim.svg
>
> proc.time()
user system elapsed
98.823 7.118 107.669
Spectra.Rcheck/Spectra-Ex.timings
| name | user | system | elapsed | |
| MsBackend | 0.083 | 0.002 | 0.084 | |
| Spectra | 2.165 | 0.564 | 2.033 | |
| addProcessing | 5.382 | 0.402 | 5.808 | |
| chunkapply | 0.219 | 0.063 | 0.300 | |
| combinePeaks | 2.740 | 0.471 | 2.725 | |
| combinePeaksData | 0.009 | 0.008 | 0.019 | |
| combineSpectra | 1.835 | 0.220 | 0.556 | |
| compareSpectra | 2.128 | 0.166 | 2.311 | |
| countIdentifications | 0.016 | 0.027 | 0.042 | |
| estimatePrecursorIntensity | 1.265 | 0.168 | 1.427 | |
| estimatePrecursorMz | 27.702 | 1.340 | 29.635 | |
| fillCoreSpectraVariables | 0.003 | 0.000 | 0.004 | |
| filterFourierTransformArtefacts | 0.040 | 0.002 | 0.047 | |
| filterMsLevel | 2.544 | 0.215 | 2.743 | |
| filterPeaksRanges | 0.012 | 0.001 | 0.014 | |
| fragmentGroupIndex | 0.076 | 0.043 | 0.123 | |
| joinPeaks | 0.001 | 0.001 | 0.002 | |
| neutralLoss | 0.060 | 0.021 | 0.082 | |
| plotMzDelta | 7.270 | 0.406 | 7.436 | |
| precursorPurity | 0.967 | 0.313 | 1.280 | |
| spectra-plotting | 0.069 | 0.025 | 0.094 | |
| spectraData | 1.673 | 0.558 | 1.301 | |