| Back to Multiple platform build/check report for BioC 3.22: simplified long | 
 | 
This page was generated on 2025-10-24 12:07 -0400 (Fri, 24 Oct 2025).
| Hostname | OS | Arch (*) | R version | Installed pkgs | 
|---|---|---|---|---|
| nebbiolo2 | Linux (Ubuntu 24.04.3 LTS) | x86_64 | 4.5.1 Patched (2025-08-23 r88802) -- "Great Square Root" | 4898 | 
| lconway | macOS 12.7.6 Monterey | x86_64 | 4.5.1 Patched (2025-09-10 r88807) -- "Great Square Root" | 4688 | 
| kjohnson3 | macOS 13.7.7 Ventura | arm64 | 4.5.1 Patched (2025-09-10 r88807) -- "Great Square Root" | 4634 | 
| taishan | Linux (openEuler 24.03 LTS) | aarch64 | 4.5.0 (2025-04-11) -- "How About a Twenty-Six" | 4658 | 
| Click on any hostname to see more info about the system (e.g. compilers) (*) as reported by 'uname -p', except on Windows and Mac OS X | ||||
| Package 2079/2359 | Hostname | OS / Arch | INSTALL | BUILD | CHECK | BUILD BIN | ||||||||
| SpatialExperimentIO 1.1.0  (landing page) Yixing E. Dong 
 | nebbiolo2 | Linux (Ubuntu 24.04.3 LTS) / x86_64 | OK | OK | OK |  | ||||||||
| lconway | macOS 12.7.6 Monterey / x86_64 | OK | OK | OK | OK |  | ||||||||
| kjohnson3 | macOS 13.7.7 Ventura / arm64 | OK | OK | OK | OK |  | ||||||||
| taishan | Linux (openEuler 24.03 LTS) / aarch64 | OK | OK | NA | ||||||||||
| To the developers/maintainers of the SpatialExperimentIO package: - Allow up to 24 hours (and sometimes 48 hours) for your latest push to git@git.bioconductor.org:packages/SpatialExperimentIO.git to reflect on this report. See Troubleshooting Build Report for more information. - Use the following Renviron settings to reproduce errors and warnings. - If 'R CMD check' started to fail recently on the Linux builder(s) over a missing dependency, add the missing dependency to 'Suggests:' in your DESCRIPTION file. See Renviron.bioc for more information. | 
| Package: SpatialExperimentIO | 
| Version: 1.1.0 | 
| Command: /Library/Frameworks/R.framework/Resources/bin/R CMD check --install=check:SpatialExperimentIO.install-out.txt --library=/Library/Frameworks/R.framework/Resources/library --no-vignettes --timings SpatialExperimentIO_1.1.0.tar.gz | 
| StartedAt: 2025-10-23 22:20:56 -0400 (Thu, 23 Oct 2025) | 
| EndedAt: 2025-10-23 22:22:26 -0400 (Thu, 23 Oct 2025) | 
| EllapsedTime: 90.1 seconds | 
| RetCode: 0 | 
| Status: OK | 
| CheckDir: SpatialExperimentIO.Rcheck | 
| Warnings: 0 | 
##############################################################################
##############################################################################
###
### Running command:
###
###   /Library/Frameworks/R.framework/Resources/bin/R CMD check --install=check:SpatialExperimentIO.install-out.txt --library=/Library/Frameworks/R.framework/Resources/library --no-vignettes --timings SpatialExperimentIO_1.1.0.tar.gz
###
##############################################################################
##############################################################################
* using log directory ‘/Users/biocbuild/bbs-3.22-bioc/meat/SpatialExperimentIO.Rcheck’
* using R version 4.5.1 Patched (2025-09-10 r88807)
* using platform: aarch64-apple-darwin20
* R was compiled by
    Apple clang version 16.0.0 (clang-1600.0.26.6)
    GNU Fortran (GCC) 14.2.0
* running under: macOS Ventura 13.7.7
* using session charset: UTF-8
* using option ‘--no-vignettes’
* checking for file ‘SpatialExperimentIO/DESCRIPTION’ ... OK
* this is package ‘SpatialExperimentIO’ version ‘1.1.0’
* package encoding: UTF-8
* checking package namespace information ... OK
* checking package dependencies ... OK
* checking if this is a source package ... OK
* checking if there is a namespace ... OK
* checking for hidden files and directories ... OK
* checking for portable file names ... OK
* checking for sufficient/correct file permissions ... OK
* checking whether package ‘SpatialExperimentIO’ can be installed ... OK
* checking installed package size ... OK
* checking package directory ... OK
* checking ‘build’ directory ... OK
* checking DESCRIPTION meta-information ... OK
* checking top-level files ... OK
* checking for left-over files ... OK
* checking index information ... OK
* checking package subdirectories ... OK
* checking code files for non-ASCII characters ... OK
* checking R files for syntax errors ... OK
* checking whether the package can be loaded ... OK
* checking whether the package can be loaded with stated dependencies ... OK
* checking whether the package can be unloaded cleanly ... OK
* checking whether the namespace can be loaded with stated dependencies ... OK
* checking whether the namespace can be unloaded cleanly ... OK
* checking dependencies in R code ... OK
* checking S3 generic/method consistency ... OK
* checking replacement functions ... OK
* checking foreign function calls ... OK
* checking R code for possible problems ... NOTE
readMerscopeSXE: no visible binding for global variable ‘cell’
readSeqfishSXE: no visible binding for global variable ‘cell’
readStarmapplusSXE: no visible binding for global variable ‘GENE’
Undefined global functions or variables:
  GENE cell
* checking Rd files ... OK
* checking Rd metadata ... OK
* checking Rd cross-references ... NOTE
Found the following Rd file(s) with Rd \link{} targets missing package
anchors:
  readCosmxSXE.Rd: SpatialExperiment, SingleCellExperiment
  readMerscopeSXE.Rd: SpatialExperiment, SingleCellExperiment
  readSeqfishSXE.Rd: SpatialExperiment, SingleCellExperiment
  readStarmapplusSXE.Rd: SpatialExperiment, SingleCellExperiment
  readXeniumSXE.Rd: SpatialExperiment, SingleCellExperiment
Please provide package anchors for all Rd \link{} targets not in the
package itself and the base packages.
* checking for missing documentation entries ... OK
* checking for code/documentation mismatches ... OK
* checking Rd \usage sections ... OK
* checking Rd contents ... OK
* checking for unstated dependencies in examples ... OK
* checking files in ‘vignettes’ ... OK
* checking examples ... OK
* checking for unstated dependencies in ‘tests’ ... OK
* checking tests ...
  Running ‘testthat.R’
 OK
* checking for unstated dependencies in vignettes ... OK
* checking package vignettes ... OK
* checking running R code from vignettes ... SKIPPED
* checking re-building of vignette outputs ... SKIPPED
* checking PDF version of manual ... OK
* DONE
Status: 2 NOTEs
See
  ‘/Users/biocbuild/bbs-3.22-bioc/meat/SpatialExperimentIO.Rcheck/00check.log’
for details.
SpatialExperimentIO.Rcheck/00install.out
############################################################################## ############################################################################## ### ### Running command: ### ### /Library/Frameworks/R.framework/Resources/bin/R CMD INSTALL SpatialExperimentIO ### ############################################################################## ############################################################################## * installing to library ‘/Library/Frameworks/R.framework/Versions/4.5-arm64/Resources/library’ * installing *source* package ‘SpatialExperimentIO’ ... ** this is package ‘SpatialExperimentIO’ version ‘1.1.0’ ** using staged installation ** R ** inst ** byte-compile and prepare package for lazy loading ** help *** installing help indices ** building package indices ** installing vignettes ** testing if installed package can be loaded from temporary location ** testing if installed package can be loaded from final location ** testing if installed package keeps a record of temporary installation path * DONE (SpatialExperimentIO)
SpatialExperimentIO.Rcheck/tests/testthat.Rout
R version 4.5.1 Patched (2025-09-10 r88807) -- "Great Square Root"
Copyright (C) 2025 The R Foundation for Statistical Computing
Platform: aarch64-apple-darwin20
R is free software and comes with ABSOLUTELY NO WARRANTY.
You are welcome to redistribute it under certain conditions.
Type 'license()' or 'licence()' for distribution details.
R is a collaborative project with many contributors.
Type 'contributors()' for more information and
'citation()' on how to cite R or R packages in publications.
Type 'demo()' for some demos, 'help()' for on-line help, or
'help.start()' for an HTML browser interface to help.
Type 'q()' to quit R.
> # This file is part of the standard setup for testthat.
> # It is recommended that you do not modify it.
> #
> # Where should you do additional test configuration?
> # Learn more about the roles of various files in:
> # * https://r-pkgs.org/testing-design.html#sec-tests-files-overview
> # * https://testthat.r-lib.org/articles/special-files.html
> 
> library(testthat)
> library(SpatialExperimentIO)
> 
> test_check("SpatialExperimentIO")
[ FAIL 0 | WARN 0 | SKIP 0 | PASS 135 ]
> 
> proc.time()
   user  system elapsed 
  5.149   0.253   5.594 
SpatialExperimentIO.Rcheck/SpatialExperimentIO-Ex.timings
| name | user | system | elapsed | |
| addParquetPathToMeta | 0.077 | 0.002 | 0.080 | |
| addParquetPathsCosMx | 0.033 | 0.001 | 0.033 | |
| addParquetPathsXenium | 0.125 | 0.010 | 0.135 | |
| csvToParquetPaths | 0 | 0 | 0 | |
| dot-sanityCheck | 0 | 0 | 0 | |
| readCosmxSXE | 0.069 | 0.002 | 0.071 | |
| readMerscopeSXE | 0.037 | 0.001 | 0.039 | |
| readSeqfishSXE | 0.039 | 0.003 | 0.043 | |
| readStarmapplusSXE | 0.040 | 0.003 | 0.044 | |
| readXeniumSXE | 0.314 | 0.024 | 0.351 | |