| Back to Multiple platform build/check report for BioC 3.22: simplified long |
|
This page was generated on 2025-10-24 12:04 -0400 (Fri, 24 Oct 2025).
| Hostname | OS | Arch (*) | R version | Installed pkgs |
|---|---|---|---|---|
| nebbiolo2 | Linux (Ubuntu 24.04.3 LTS) | x86_64 | 4.5.1 Patched (2025-08-23 r88802) -- "Great Square Root" | 4898 |
| lconway | macOS 12.7.6 Monterey | x86_64 | 4.5.1 Patched (2025-09-10 r88807) -- "Great Square Root" | 4688 |
| kjohnson3 | macOS 13.7.7 Ventura | arm64 | 4.5.1 Patched (2025-09-10 r88807) -- "Great Square Root" | 4634 |
| taishan | Linux (openEuler 24.03 LTS) | aarch64 | 4.5.0 (2025-04-11) -- "How About a Twenty-Six" | 4658 |
| Click on any hostname to see more info about the system (e.g. compilers) (*) as reported by 'uname -p', except on Windows and Mac OS X | ||||
| Package 2032/2359 | Hostname | OS / Arch | INSTALL | BUILD | CHECK | BUILD BIN | ||||||||
| SingleMoleculeFootprinting 2.3.2 (landing page) Guido Barzaghi
| nebbiolo2 | Linux (Ubuntu 24.04.3 LTS) / x86_64 | OK | OK | OK | |||||||||
| lconway | macOS 12.7.6 Monterey / x86_64 | OK | OK | OK | OK | |||||||||
| kjohnson3 | macOS 13.7.7 Ventura / arm64 | OK | OK | OK | OK | |||||||||
| taishan | Linux (openEuler 24.03 LTS) / aarch64 | OK | ERROR | skipped | ||||||||||
|
To the developers/maintainers of the SingleMoleculeFootprinting package: - Allow up to 24 hours (and sometimes 48 hours) for your latest push to git@git.bioconductor.org:packages/SingleMoleculeFootprinting.git to reflect on this report. See Troubleshooting Build Report for more information. - Use the following Renviron settings to reproduce errors and warnings. - If 'R CMD check' started to fail recently on the Linux builder(s) over a missing dependency, add the missing dependency to 'Suggests:' in your DESCRIPTION file. See Renviron.bioc for more information. |
| Package: SingleMoleculeFootprinting |
| Version: 2.3.2 |
| Command: /home/biocbuild/bbs-3.22-bioc/R/bin/R CMD check --install=check:SingleMoleculeFootprinting.install-out.txt --library=/home/biocbuild/bbs-3.22-bioc/R/site-library --timings SingleMoleculeFootprinting_2.3.2.tar.gz |
| StartedAt: 2025-10-24 04:03:32 -0400 (Fri, 24 Oct 2025) |
| EndedAt: 2025-10-24 04:12:33 -0400 (Fri, 24 Oct 2025) |
| EllapsedTime: 541.5 seconds |
| RetCode: 0 |
| Status: OK |
| CheckDir: SingleMoleculeFootprinting.Rcheck |
| Warnings: 0 |
##############################################################################
##############################################################################
###
### Running command:
###
### /home/biocbuild/bbs-3.22-bioc/R/bin/R CMD check --install=check:SingleMoleculeFootprinting.install-out.txt --library=/home/biocbuild/bbs-3.22-bioc/R/site-library --timings SingleMoleculeFootprinting_2.3.2.tar.gz
###
##############################################################################
##############################################################################
* using log directory ‘/home/biocbuild/bbs-3.22-bioc/meat/SingleMoleculeFootprinting.Rcheck’
* using R version 4.5.1 Patched (2025-08-23 r88802)
* using platform: x86_64-pc-linux-gnu
* R was compiled by
gcc (Ubuntu 13.3.0-6ubuntu2~24.04) 13.3.0
GNU Fortran (Ubuntu 13.3.0-6ubuntu2~24.04) 13.3.0
* running under: Ubuntu 24.04.3 LTS
* using session charset: UTF-8
* checking for file ‘SingleMoleculeFootprinting/DESCRIPTION’ ... OK
* this is package ‘SingleMoleculeFootprinting’ version ‘2.3.2’
* package encoding: UTF-8
* checking package namespace information ... OK
* checking package dependencies ... INFO
Imports includes 26 non-default packages.
Importing from so many packages makes the package vulnerable to any of
them becoming unavailable. Move as many as possible to Suggests and
use conditionally.
* checking if this is a source package ... OK
* checking if there is a namespace ... OK
* checking for hidden files and directories ... OK
* checking for portable file names ... OK
* checking for sufficient/correct file permissions ... OK
* checking whether package ‘SingleMoleculeFootprinting’ can be installed ... OK
* checking installed package size ... OK
* checking package directory ... OK
* checking ‘build’ directory ... OK
* checking DESCRIPTION meta-information ... NOTE
Package listed in more than one of Depends, Imports, Suggests, Enhances:
‘qs’
A package should be listed in only one of these fields.
* checking top-level files ... OK
* checking for left-over files ... OK
* checking index information ... OK
* checking package subdirectories ... OK
* checking code files for non-ASCII characters ... OK
* checking R files for syntax errors ... OK
* checking whether the package can be loaded ... OK
* checking whether the package can be loaded with stated dependencies ... OK
* checking whether the package can be unloaded cleanly ... OK
* checking whether the namespace can be loaded with stated dependencies ... OK
* checking whether the namespace can be unloaded cleanly ... OK
* checking loading without being on the library search path ... OK
* checking dependencies in R code ... NOTE
Namespace in Imports field not imported from: ‘qs’
All declared Imports should be used.
* checking S3 generic/method consistency ... OK
* checking replacement functions ... OK
* checking foreign function calls ... OK
* checking R code for possible problems ... NOTE
.detect.footprints: no visible binding for global variable ‘occupancy’
.detect.footprints: no visible binding for global variable
‘biological.state’
AggregateFootprints : <anonymous>: no visible binding for global
variable ‘TF’
AggregateFootprints : <anonymous>: no visible binding for global
variable ‘biological.state’
AnnotateFootprints: no visible binding for global variable
‘biological.state’
Create_MethylationCallingWindows: no visible binding for global
variable ‘.’
Create_MethylationCallingWindows: no visible binding for global
variable ‘idx’
DetectFootprints: no visible binding for global variable ‘partition.nr’
DetectFootprints: no visible binding for global variable
‘partition.coverage’
DetectFootprints: no visible binding for global variable ‘nr.cytosines’
DetectFootprints: no visible binding for global variable
‘biological.state’
FootprintCharter: no visible binding for global variable
‘partition.coverage’
FootprintCharter: no visible binding for global variable ‘partition.nr’
FootprintCharter: no visible binding for global variable ‘.’
GRanges_to_DF: no visible global function definition for ‘matches’
GRanges_to_DF: no visible binding for global variable ‘Sample’
GRanges_to_DF: no visible binding for global variable ‘Score’
LowCoverageMethRate_RMSE: no visible binding for global variable
‘Sample’
MethSM.to.dense: no visible binding for global variable ‘.’
PlotAvgSMF: no visible binding for global variable ‘MethRate’
PlotFootprints: no visible binding for global variable ‘partition.nr’
PlotFootprints: no visible binding for global variable
‘biological.state’
PlotFootprints: no visible binding for global variable
‘partition.coverage’
PlotFootprints: no visible binding for global variable ‘TF’
PlotFootprints: no visible binding for global variable ‘coordinate’
PlotFootprints: no visible binding for global variable ‘bulk.SMF’
PlotSingleMoleculeStack : <anonymous>: no visible binding for global
variable ‘Coordinate’
PlotSingleMoleculeStack : <anonymous>: no visible binding for global
variable ‘Methylation’
PlotSingleMoleculeStack: no visible binding for global variable
‘Sample’
Plot_FootprintCharter_SM: no visible binding for global variable
‘biological.state’
Plot_FootprintCharter_SM: no visible binding for global variable
‘partition.nr’
Plot_FootprintCharter_SM: no visible binding for global variable
‘partition.coverage’
Plot_FootprintCharter_SM: no visible binding for global variable
‘partition.coverage.cumsum’
Plot_FootprintCharter_SM: no visible binding for global variable ‘d’
Plot_FootprintCharter_SM: no visible binding for global variable
‘read.idx’
StateQuantificationPlot: no visible binding for global variable ‘State’
StateQuantificationPlot: no visible binding for global variable
‘Pattern’
StateQuantificationPlot: no visible binding for global variable ‘.’
StateQuantificationPlot: no visible binding for global variable ‘Bin’
StateQuantificationPlot: no visible binding for global variable
‘Methylation’
Undefined global functions or variables:
. Bin Coordinate MethRate Methylation Pattern Sample Score State TF
biological.state bulk.SMF coordinate d idx matches nr.cytosines
occupancy partition.coverage partition.coverage.cumsum partition.nr
read.idx
* checking Rd files ... OK
* checking Rd metadata ... OK
* checking Rd cross-references ... OK
* checking for missing documentation entries ... OK
* checking for code/documentation mismatches ... OK
* checking Rd \usage sections ... OK
* checking Rd contents ... OK
* checking for unstated dependencies in examples ... OK
* checking files in ‘vignettes’ ... OK
* checking examples ... OK
Examples with CPU (user + system) or elapsed time > 5s
user system elapsed
PlotFootprints 4.718 0.396 5.115
* checking for unstated dependencies in ‘tests’ ... OK
* checking tests ...
Running ‘testthat.R’
OK
* checking for unstated dependencies in vignettes ... OK
* checking package vignettes ... OK
* checking re-building of vignette outputs ... OK
* checking PDF version of manual ... OK
* DONE
Status: 3 NOTEs
See
‘/home/biocbuild/bbs-3.22-bioc/meat/SingleMoleculeFootprinting.Rcheck/00check.log’
for details.
SingleMoleculeFootprinting.Rcheck/00install.out
############################################################################## ############################################################################## ### ### Running command: ### ### /home/biocbuild/bbs-3.22-bioc/R/bin/R CMD INSTALL SingleMoleculeFootprinting ### ############################################################################## ############################################################################## * installing to library ‘/home/biocbuild/bbs-3.22-bioc/R/site-library’ * installing *source* package ‘SingleMoleculeFootprinting’ ... ** this is package ‘SingleMoleculeFootprinting’ version ‘2.3.2’ ** using staged installation ** R ** inst ** byte-compile and prepare package for lazy loading ** help *** installing help indices ** building package indices ** installing vignettes ** testing if installed package can be loaded from temporary location ** testing if installed package can be loaded from final location ** testing if installed package keeps a record of temporary installation path * DONE (SingleMoleculeFootprinting)
SingleMoleculeFootprinting.Rcheck/tests/testthat.Rout
R version 4.5.1 Patched (2025-08-23 r88802) -- "Great Square Root"
Copyright (C) 2025 The R Foundation for Statistical Computing
Platform: x86_64-pc-linux-gnu
R is free software and comes with ABSOLUTELY NO WARRANTY.
You are welcome to redistribute it under certain conditions.
Type 'license()' or 'licence()' for distribution details.
R is a collaborative project with many contributors.
Type 'contributors()' for more information and
'citation()' on how to cite R or R packages in publications.
Type 'demo()' for some demos, 'help()' for on-line help, or
'help.start()' for an HTML browser interface to help.
Type 'q()' to quit R.
> library(testthat)
> library(SingleMoleculeFootprinting)
>
> test_check("SingleMoleculeFootprinting")
Loading required package: BSgenome
Loading required package: BiocGenerics
Loading required package: generics
Attaching package: 'generics'
The following objects are masked from 'package:base':
as.difftime, as.factor, as.ordered, intersect, is.element, setdiff,
setequal, union
Attaching package: 'BiocGenerics'
The following objects are masked from 'package:stats':
IQR, mad, sd, var, xtabs
The following objects are masked from 'package:base':
Filter, Find, Map, Position, Reduce, anyDuplicated, aperm, append,
as.data.frame, basename, cbind, colnames, dirname, do.call,
duplicated, eval, evalq, get, grep, grepl, is.unsorted, lapply,
mapply, match, mget, order, paste, pmax, pmax.int, pmin, pmin.int,
rank, rbind, rownames, sapply, saveRDS, table, tapply, unique,
unsplit, which.max, which.min
Loading required package: S4Vectors
Loading required package: stats4
Attaching package: 'S4Vectors'
The following object is masked from 'package:utils':
findMatches
The following objects are masked from 'package:base':
I, expand.grid, unname
Loading required package: IRanges
Loading required package: Seqinfo
Loading required package: GenomicRanges
Loading required package: Biostrings
Loading required package: XVector
Attaching package: 'Biostrings'
The following object is masked from 'package:base':
strsplit
Loading required package: BiocIO
Loading required package: rtracklayer
all necessary alignment files found
Detected experiment type: DE
all necessary alignment files found
see ?SingleMoleculeFootprintingData and browseVignettes('SingleMoleculeFootprintingData') for documentation
loading from cache
counting alignments...done
counting alignments...done
all necessary alignment files found
5334 reads found mapping to the - strand, collapsing to +
5334 reads found mapping to the - strand, collapsing to +
Detected experiment type: DE
Collecting summarized methylation for bins
Subsetting those reads that cover all bins
Summarizing reads into patterns
Splitting reads by pattern
[ FAIL 0 | WARN 0 | SKIP 0 | PASS 6 ]
>
> proc.time()
user system elapsed
25.996 1.711 28.010
SingleMoleculeFootprinting.Rcheck/SingleMoleculeFootprinting-Ex.timings
| name | user | system | elapsed | |
| Arrange_TFBSs_clusters | 0.538 | 0.010 | 0.548 | |
| BaitCapture | 0 | 0 | 0 | |
| BinMethylation | 0.183 | 0.001 | 0.185 | |
| CallContextMethylation | 0 | 0 | 0 | |
| CollapseStrands | 0.257 | 0.007 | 0.264 | |
| CollapseStrandsSM | 1.484 | 0.155 | 1.641 | |
| CollectCompositeData | 0 | 0 | 0 | |
| CompositeMethylationCorrelation | 0.000 | 0.000 | 0.001 | |
| CompositePlot | 0 | 0 | 0 | |
| ConversionRate | 0 | 0 | 0 | |
| CoverageFilter | 0.056 | 0.000 | 0.057 | |
| Create_MethylationCallingWindows | 0.053 | 0.000 | 0.053 | |
| DetectExperimentType | 0.408 | 0.014 | 0.421 | |
| FilterByConversionRate | 0.458 | 0.014 | 0.472 | |
| FilterContextCytosines | 0.292 | 0.001 | 0.293 | |
| FootprintCharter | 2.435 | 0.225 | 2.661 | |
| GetQuasRprj | 0.223 | 0.018 | 0.240 | |
| GetSingleMolMethMat | 3.790 | 0.585 | 4.376 | |
| MaskSNPs | 0.109 | 0.002 | 0.110 | |
| PlotAvgSMF | 0.577 | 0.015 | 0.594 | |
| PlotFootprints | 4.718 | 0.396 | 5.115 | |
| PlotSM | 0.771 | 0.055 | 0.826 | |
| PlotSingleMoleculeStack | 0.965 | 0.124 | 1.088 | |
| PlotSingleSiteSMF | 1.835 | 0.100 | 1.935 | |
| Plot_FootprintCharter_SM | 3.226 | 0.177 | 3.405 | |
| RollingMean | 0.019 | 0.004 | 0.024 | |
| SingleTFStates | 0.002 | 0.000 | 0.002 | |
| SortReads | 0.084 | 0.003 | 0.087 | |
| SortReadsBySingleTF | 0.026 | 0.001 | 0.027 | |
| SortReadsBySingleTF_MultiSiteWrapper | 0 | 0 | 0 | |
| SortReadsByTFCluster | 0.022 | 0.001 | 0.024 | |
| SortReadsByTFCluster_MultiSiteWrapper | 0 | 0 | 0 | |
| StateQuantification | 0.078 | 0.011 | 0.089 | |
| StateQuantificationBySingleTF | 0.047 | 0.001 | 0.048 | |
| StateQuantificationByTFPair | 0.048 | 0.002 | 0.049 | |
| StateQuantificationPlot | 0.513 | 0.019 | 0.532 | |
| TFPairStates | 0.01 | 0.00 | 0.01 | |
| cbind_fill_sparseMatrix | 0.240 | 0.075 | 0.315 | |
| rbind_fill_sparseMatrix | 0.234 | 0.078 | 0.312 | |