Back to Multiple platform build/check report for BioC 3.22:   simplified   long
ABCDEFGHIJKLMNOPQR[S]TUVWXYZ

This page was generated on 2025-11-14 11:58 -0500 (Fri, 14 Nov 2025).

HostnameOSArch (*)R versionInstalled pkgs
nebbiolo2Linux (Ubuntu 24.04.3 LTS)x86_644.5.1 Patched (2025-08-23 r88802) -- "Great Square Root" 4903
taishanLinux (openEuler 24.03 LTS)aarch644.5.0 (2025-04-11) -- "How About a Twenty-Six" 4668
Click on any hostname to see more info about the system (e.g. compilers)      (*) as reported by 'uname -p', except on Windows and Mac OS X

Package 2034/2361HostnameOS / ArchINSTALLBUILDCHECKBUILD BIN
SingleMoleculeFootprinting 2.4.0  (landing page)
Guido Barzaghi
Snapshot Date: 2025-11-13 13:45 -0500 (Thu, 13 Nov 2025)
git_url: https://git.bioconductor.org/packages/SingleMoleculeFootprinting
git_branch: RELEASE_3_22
git_last_commit: a905f25
git_last_commit_date: 2025-10-29 11:10:00 -0500 (Wed, 29 Oct 2025)
nebbiolo2Linux (Ubuntu 24.04.3 LTS) / x86_64  ERROR    ERROR  skipped
taishanLinux (openEuler 24.03 LTS) / aarch64  ERROR    ERROR  skipped


BUILD results for SingleMoleculeFootprinting on nebbiolo2

To the developers/maintainers of the SingleMoleculeFootprinting package:
- Allow up to 24 hours (and sometimes 48 hours) for your latest push to git@git.bioconductor.org:packages/SingleMoleculeFootprinting.git to reflect on this report. See Troubleshooting Build Report for more information.
- Use the following Renviron settings to reproduce errors and warnings.
- If 'R CMD check' started to fail recently on the Linux builder(s) over a missing dependency, add the missing dependency to 'Suggests:' in your DESCRIPTION file. See Renviron.bioc for more information.

raw results


Summary

Package: SingleMoleculeFootprinting
Version: 2.4.0
Command: /home/biocbuild/bbs-3.22-bioc/R/bin/R CMD build --keep-empty-dirs --no-resave-data --md5 SingleMoleculeFootprinting
StartedAt: 2025-11-13 20:15:01 -0500 (Thu, 13 Nov 2025)
EndedAt: 2025-11-13 20:15:18 -0500 (Thu, 13 Nov 2025)
EllapsedTime: 17.0 seconds
RetCode: 1
Status:   ERROR  
PackageFile: None
PackageFileSize: NA

Command output

##############################################################################
##############################################################################
###
### Running command:
###
###   /home/biocbuild/bbs-3.22-bioc/R/bin/R CMD build --keep-empty-dirs --no-resave-data --md5 SingleMoleculeFootprinting
###
##############################################################################
##############################################################################


* checking for file ‘SingleMoleculeFootprinting/DESCRIPTION’ ... OK
* preparing ‘SingleMoleculeFootprinting’:
* checking DESCRIPTION meta-information ... OK
* installing the package to build vignettes
      -----------------------------------
* installing *source* package ‘SingleMoleculeFootprinting’ ...
** this is package ‘SingleMoleculeFootprinting’ version ‘2.4.0’
** using staged installation
** R
** inst
** byte-compile and prepare package for lazy loading
Error: object ‘filter’ is not exported by 'namespace:plyranges'
Execution halted
ERROR: lazy loading failed for package ‘SingleMoleculeFootprinting’
* removing ‘/tmp/RtmpjTDCKj/Rinst3491062b4df61/SingleMoleculeFootprinting’
      -----------------------------------
ERROR: package installation failed