| Back to Multiple platform build/check report for BioC 3.22: simplified long |
|
This page was generated on 2025-10-24 12:04 -0400 (Fri, 24 Oct 2025).
| Hostname | OS | Arch (*) | R version | Installed pkgs |
|---|---|---|---|---|
| nebbiolo2 | Linux (Ubuntu 24.04.3 LTS) | x86_64 | 4.5.1 Patched (2025-08-23 r88802) -- "Great Square Root" | 4898 |
| lconway | macOS 12.7.6 Monterey | x86_64 | 4.5.1 Patched (2025-09-10 r88807) -- "Great Square Root" | 4688 |
| kjohnson3 | macOS 13.7.7 Ventura | arm64 | 4.5.1 Patched (2025-09-10 r88807) -- "Great Square Root" | 4634 |
| taishan | Linux (openEuler 24.03 LTS) | aarch64 | 4.5.0 (2025-04-11) -- "How About a Twenty-Six" | 4658 |
| Click on any hostname to see more info about the system (e.g. compilers) (*) as reported by 'uname -p', except on Windows and Mac OS X | ||||
| Package 2162/2359 | Hostname | OS / Arch | INSTALL | BUILD | CHECK | BUILD BIN | ||||||||
| SVP 1.1.1 (landing page) Shuangbin Xu
| nebbiolo2 | Linux (Ubuntu 24.04.3 LTS) / x86_64 | OK | OK | OK | |||||||||
| lconway | macOS 12.7.6 Monterey / x86_64 | OK | OK | OK | OK | |||||||||
| kjohnson3 | macOS 13.7.7 Ventura / arm64 | OK | OK | OK | OK | |||||||||
| taishan | Linux (openEuler 24.03 LTS) / aarch64 | OK | ERROR | skipped | ||||||||||
|
To the developers/maintainers of the SVP package: - Allow up to 24 hours (and sometimes 48 hours) for your latest push to git@git.bioconductor.org:packages/SVP.git to reflect on this report. See Troubleshooting Build Report for more information. - Use the following Renviron settings to reproduce errors and warnings. - If 'R CMD check' started to fail recently on the Linux builder(s) over a missing dependency, add the missing dependency to 'Suggests:' in your DESCRIPTION file. See Renviron.bioc for more information. |
| Package: SVP |
| Version: 1.1.1 |
| Command: /home/biocbuild/bbs-3.22-bioc/R/bin/R CMD check --install=check:SVP.install-out.txt --library=/home/biocbuild/bbs-3.22-bioc/R/site-library --timings SVP_1.1.1.tar.gz |
| StartedAt: 2025-10-24 04:35:05 -0400 (Fri, 24 Oct 2025) |
| EndedAt: 2025-10-24 04:41:24 -0400 (Fri, 24 Oct 2025) |
| EllapsedTime: 378.5 seconds |
| RetCode: 0 |
| Status: OK |
| CheckDir: SVP.Rcheck |
| Warnings: 0 |
##############################################################################
##############################################################################
###
### Running command:
###
### /home/biocbuild/bbs-3.22-bioc/R/bin/R CMD check --install=check:SVP.install-out.txt --library=/home/biocbuild/bbs-3.22-bioc/R/site-library --timings SVP_1.1.1.tar.gz
###
##############################################################################
##############################################################################
* using log directory ‘/home/biocbuild/bbs-3.22-bioc/meat/SVP.Rcheck’
* using R version 4.5.1 Patched (2025-08-23 r88802)
* using platform: x86_64-pc-linux-gnu
* R was compiled by
gcc (Ubuntu 13.3.0-6ubuntu2~24.04) 13.3.0
GNU Fortran (Ubuntu 13.3.0-6ubuntu2~24.04) 13.3.0
* running under: Ubuntu 24.04.3 LTS
* using session charset: UTF-8
* checking for file ‘SVP/DESCRIPTION’ ... OK
* this is package ‘SVP’ version ‘1.1.1’
* package encoding: UTF-8
* checking package namespace information ... OK
* checking package dependencies ... INFO
Imports includes 22 non-default packages.
Importing from so many packages makes the package vulnerable to any of
them becoming unavailable. Move as many as possible to Suggests and
use conditionally.
* checking if this is a source package ... OK
* checking if there is a namespace ... OK
* checking for hidden files and directories ... OK
* checking for portable file names ... OK
* checking for sufficient/correct file permissions ... OK
* checking whether package ‘SVP’ can be installed ... OK
* used C++ compiler: ‘g++ (Ubuntu 13.3.0-6ubuntu2~24.04) 13.3.0’
* checking installed package size ... INFO
installed size is 25.3Mb
sub-directories of 1Mb or more:
R 1.3Mb
data 1.4Mb
libs 22.4Mb
* checking package directory ... OK
* checking ‘build’ directory ... OK
* checking DESCRIPTION meta-information ... OK
* checking top-level files ... OK
* checking for left-over files ... OK
* checking index information ... OK
* checking package subdirectories ... OK
* checking code files for non-ASCII characters ... OK
* checking R files for syntax errors ... OK
* checking whether the package can be loaded ... OK
* checking whether the package can be loaded with stated dependencies ... OK
* checking whether the package can be unloaded cleanly ... OK
* checking whether the namespace can be loaded with stated dependencies ... OK
* checking whether the namespace can be unloaded cleanly ... OK
* checking loading without being on the library search path ... OK
* checking dependencies in R code ... OK
* checking S3 generic/method consistency ... OK
* checking replacement functions ... OK
* checking foreign function calls ... OK
* checking R code for possible problems ... OK
* checking Rd files ... OK
* checking Rd metadata ... OK
* checking Rd cross-references ... NOTE
Found the following Rd file(s) with Rd \link{} targets missing package
anchors:
LISAResult.Rd: SingleCellExperiment-class
LISAsce-method.Rd: SingleCellExperiment-class,
SpatialExperiment-class
SVPExperiment.Rd: SingleCellExperiment, SingleCellExperiment-class
cal_lisa_f1-method.Rd: SingleCellExperiment-class
cluster.assign-method.Rd: SingleCellExperiment-class
data_hpda_spe_cell_dec.Rd: SpatialExperiment-class
data_sceSubPbmc.Rd: SingleCellExperiment-class
extract_weight_adj-method.Rd: SingleCellExperiment-class,
SpatialExperiment-class
fscoreDfs.Rd: SingleCellExperiment-class, DataFrame-class, List-class
gsvaExps.Rd: SingleCellExperiment-class, colData, List-class,
assay<-, Annotated-class, metadata, Vector-class, mcols
mob_sce.Rd: SingleCellExperiment-class
pred.cell.signature-method.Rd: SingleCellExperiment-class
runCORR-method.Rd: SingleCellExperiment-class,
SpatialExperiment-class
runDetectSVG-method.Rd: SingleCellExperiment-class,
SpatialExperiment-class, SimpleList-class, DataFrame-class
runENCODE-method.Rd: SingleCellExperiment-class,
SpatialExperiment-class
runGLOBALBV-method.Rd: SingleCellExperiment-class,
SpatialExperiment-class
runKldSVG-method.Rd: SingleCellExperiment-class,
SpatialExperiment-class, SimpleList-class, DataFrame-class
runLISA-method.Rd: SingleCellExperiment-class,
SpatialExperiment-class, SimpleList-class
runLOCALBV-method.Rd: SingleCellExperiment-class,
SpatialExperiment-class, SimpleList-class
runMCA-method.Rd: SingleCellExperiment-class
runSGSA-method.Rd: SingleCellExperiment-class
runWKDE-method.Rd: SingleCellExperiment-class,
SpatialExperiment-class
svDfs.Rd: SingleCellExperiment-class, DataFrame-class, List-class
Please provide package anchors for all Rd \link{} targets not in the
package itself and the base packages.
* checking for missing documentation entries ... OK
* checking for code/documentation mismatches ... OK
* checking Rd \usage sections ... OK
* checking Rd contents ... OK
* checking for unstated dependencies in examples ... OK
* checking contents of ‘data’ directory ... OK
* checking data for non-ASCII characters ... OK
* checking data for ASCII and uncompressed saves ... OK
* checking line endings in C/C++/Fortran sources/headers ... OK
* checking line endings in Makefiles ... OK
* checking compilation flags in Makevars ... OK
* checking for GNU extensions in Makefiles ... INFO
GNU make is a SystemRequirements.
* checking for portable use of $(BLAS_LIBS) and $(LAPACK_LIBS) ... OK
* checking use of PKG_*FLAGS in Makefiles ... OK
* checking compiled code ... NOTE
Note: information on .o files is not available
* checking files in ‘vignettes’ ... OK
* checking examples ... OK
Examples with CPU (user + system) or elapsed time > 5s
user system elapsed
runKldSVG-method 29.817 0.223 1.243
runSGSA-method 13.809 0.287 13.229
runWKDE-method 8.034 0.159 3.526
* checking for unstated dependencies in ‘tests’ ... OK
* checking tests ...
Running ‘testthat.R’
OK
* checking for unstated dependencies in vignettes ... OK
* checking package vignettes ... OK
* checking re-building of vignette outputs ... OK
* checking PDF version of manual ... OK
* DONE
Status: 2 NOTEs
See
‘/home/biocbuild/bbs-3.22-bioc/meat/SVP.Rcheck/00check.log’
for details.
SVP.Rcheck/00install.out
############################################################################## ############################################################################## ### ### Running command: ### ### /home/biocbuild/bbs-3.22-bioc/R/bin/R CMD INSTALL SVP ### ############################################################################## ############################################################################## * installing to library ‘/home/biocbuild/bbs-3.22-bioc/R/site-library’ * installing *source* package ‘SVP’ ... ** this is package ‘SVP’ version ‘1.1.1’ ** using staged installation ** libs using C++ compiler: ‘g++ (Ubuntu 13.3.0-6ubuntu2~24.04) 13.3.0’ g++ -std=gnu++17 -I"/home/biocbuild/bbs-3.22-bioc/R/include" -DNDEBUG -I'/home/biocbuild/bbs-3.22-bioc/R/site-library/Rcpp/include' -I'/home/biocbuild/bbs-3.22-bioc/R/site-library/RcppArmadillo/include' -I'/home/biocbuild/bbs-3.22-bioc/R/site-library/RcppParallel/include' -I'/home/biocbuild/bbs-3.22-bioc/R/site-library/RcppEigen/include' -I'/home/biocbuild/bbs-3.22-bioc/R/site-library/dqrng/include' -I/usr/local/include -fopenmp -DARMA_64BIT_WORD -DNDEBUG -DEIGEN_DONT_VECTORIZE -fpic -g -O2 -Wall -Werror=format-security -c RcppExports.cpp -o RcppExports.o g++ -std=gnu++17 -I"/home/biocbuild/bbs-3.22-bioc/R/include" -DNDEBUG -I'/home/biocbuild/bbs-3.22-bioc/R/site-library/Rcpp/include' -I'/home/biocbuild/bbs-3.22-bioc/R/site-library/RcppArmadillo/include' -I'/home/biocbuild/bbs-3.22-bioc/R/site-library/RcppParallel/include' -I'/home/biocbuild/bbs-3.22-bioc/R/site-library/RcppEigen/include' -I'/home/biocbuild/bbs-3.22-bioc/R/site-library/dqrng/include' -I/usr/local/include -fopenmp -DARMA_64BIT_WORD -DNDEBUG -DEIGEN_DONT_VECTORIZE -fpic -g -O2 -Wall -Werror=format-security -c autocorutils.cpp -o autocorutils.o g++ -std=gnu++17 -I"/home/biocbuild/bbs-3.22-bioc/R/include" -DNDEBUG -I'/home/biocbuild/bbs-3.22-bioc/R/site-library/Rcpp/include' -I'/home/biocbuild/bbs-3.22-bioc/R/site-library/RcppArmadillo/include' -I'/home/biocbuild/bbs-3.22-bioc/R/site-library/RcppParallel/include' -I'/home/biocbuild/bbs-3.22-bioc/R/site-library/RcppEigen/include' -I'/home/biocbuild/bbs-3.22-bioc/R/site-library/dqrng/include' -I/usr/local/include -fopenmp -DARMA_64BIT_WORD -DNDEBUG -DEIGEN_DONT_VECTORIZE -fpic -g -O2 -Wall -Werror=format-security -c bisp.cpp -o bisp.o g++ -std=gnu++17 -I"/home/biocbuild/bbs-3.22-bioc/R/include" -DNDEBUG -I'/home/biocbuild/bbs-3.22-bioc/R/site-library/Rcpp/include' -I'/home/biocbuild/bbs-3.22-bioc/R/site-library/RcppArmadillo/include' -I'/home/biocbuild/bbs-3.22-bioc/R/site-library/RcppParallel/include' -I'/home/biocbuild/bbs-3.22-bioc/R/site-library/RcppEigen/include' -I'/home/biocbuild/bbs-3.22-bioc/R/site-library/dqrng/include' -I/usr/local/include -fopenmp -DARMA_64BIT_WORD -DNDEBUG -DEIGEN_DONT_VECTORIZE -fpic -g -O2 -Wall -Werror=format-security -c cor.cpp -o cor.o g++ -std=gnu++17 -I"/home/biocbuild/bbs-3.22-bioc/R/include" -DNDEBUG -I'/home/biocbuild/bbs-3.22-bioc/R/site-library/Rcpp/include' -I'/home/biocbuild/bbs-3.22-bioc/R/site-library/RcppArmadillo/include' -I'/home/biocbuild/bbs-3.22-bioc/R/site-library/RcppParallel/include' -I'/home/biocbuild/bbs-3.22-bioc/R/site-library/RcppEigen/include' -I'/home/biocbuild/bbs-3.22-bioc/R/site-library/dqrng/include' -I/usr/local/include -fopenmp -DARMA_64BIT_WORD -DNDEBUG -DEIGEN_DONT_VECTORIZE -fpic -g -O2 -Wall -Werror=format-security -c extract.cpp -o extract.o g++ -std=gnu++17 -I"/home/biocbuild/bbs-3.22-bioc/R/include" -DNDEBUG -I'/home/biocbuild/bbs-3.22-bioc/R/site-library/Rcpp/include' -I'/home/biocbuild/bbs-3.22-bioc/R/site-library/RcppArmadillo/include' -I'/home/biocbuild/bbs-3.22-bioc/R/site-library/RcppParallel/include' -I'/home/biocbuild/bbs-3.22-bioc/R/site-library/RcppEigen/include' -I'/home/biocbuild/bbs-3.22-bioc/R/site-library/dqrng/include' -I/usr/local/include -fopenmp -DARMA_64BIT_WORD -DNDEBUG -DEIGEN_DONT_VECTORIZE -fpic -g -O2 -Wall -Werror=format-security -c gearysc.cpp -o gearysc.o g++ -std=gnu++17 -I"/home/biocbuild/bbs-3.22-bioc/R/include" -DNDEBUG -I'/home/biocbuild/bbs-3.22-bioc/R/site-library/Rcpp/include' -I'/home/biocbuild/bbs-3.22-bioc/R/site-library/RcppArmadillo/include' -I'/home/biocbuild/bbs-3.22-bioc/R/site-library/RcppParallel/include' -I'/home/biocbuild/bbs-3.22-bioc/R/site-library/RcppEigen/include' -I'/home/biocbuild/bbs-3.22-bioc/R/site-library/dqrng/include' -I/usr/local/include -fopenmp -DARMA_64BIT_WORD -DNDEBUG -DEIGEN_DONT_VECTORIZE -fpic -g -O2 -Wall -Werror=format-security -c getisord.cpp -o getisord.o g++ -std=gnu++17 -I"/home/biocbuild/bbs-3.22-bioc/R/include" -DNDEBUG -I'/home/biocbuild/bbs-3.22-bioc/R/site-library/Rcpp/include' -I'/home/biocbuild/bbs-3.22-bioc/R/site-library/RcppArmadillo/include' -I'/home/biocbuild/bbs-3.22-bioc/R/site-library/RcppParallel/include' -I'/home/biocbuild/bbs-3.22-bioc/R/site-library/RcppEigen/include' -I'/home/biocbuild/bbs-3.22-bioc/R/site-library/dqrng/include' -I/usr/local/include -fopenmp -DARMA_64BIT_WORD -DNDEBUG -DEIGEN_DONT_VECTORIZE -fpic -g -O2 -Wall -Werror=format-security -c kld.cpp -o kld.o g++ -std=gnu++17 -I"/home/biocbuild/bbs-3.22-bioc/R/include" -DNDEBUG -I'/home/biocbuild/bbs-3.22-bioc/R/site-library/Rcpp/include' -I'/home/biocbuild/bbs-3.22-bioc/R/site-library/RcppArmadillo/include' -I'/home/biocbuild/bbs-3.22-bioc/R/site-library/RcppParallel/include' -I'/home/biocbuild/bbs-3.22-bioc/R/site-library/RcppEigen/include' -I'/home/biocbuild/bbs-3.22-bioc/R/site-library/dqrng/include' -I/usr/local/include -fopenmp -DARMA_64BIT_WORD -DNDEBUG -DEIGEN_DONT_VECTORIZE -fpic -g -O2 -Wall -Werror=format-security -c lisa.cpp -o lisa.o g++ -std=gnu++17 -I"/home/biocbuild/bbs-3.22-bioc/R/include" -DNDEBUG -I'/home/biocbuild/bbs-3.22-bioc/R/site-library/Rcpp/include' -I'/home/biocbuild/bbs-3.22-bioc/R/site-library/RcppArmadillo/include' -I'/home/biocbuild/bbs-3.22-bioc/R/site-library/RcppParallel/include' -I'/home/biocbuild/bbs-3.22-bioc/R/site-library/RcppEigen/include' -I'/home/biocbuild/bbs-3.22-bioc/R/site-library/dqrng/include' -I/usr/local/include -fopenmp -DARMA_64BIT_WORD -DNDEBUG -DEIGEN_DONT_VECTORIZE -fpic -g -O2 -Wall -Werror=format-security -c mca.cpp -o mca.o g++ -std=gnu++17 -I"/home/biocbuild/bbs-3.22-bioc/R/include" -DNDEBUG -I'/home/biocbuild/bbs-3.22-bioc/R/site-library/Rcpp/include' -I'/home/biocbuild/bbs-3.22-bioc/R/site-library/RcppArmadillo/include' -I'/home/biocbuild/bbs-3.22-bioc/R/site-library/RcppParallel/include' -I'/home/biocbuild/bbs-3.22-bioc/R/site-library/RcppEigen/include' -I'/home/biocbuild/bbs-3.22-bioc/R/site-library/dqrng/include' -I/usr/local/include -fopenmp -DARMA_64BIT_WORD -DNDEBUG -DEIGEN_DONT_VECTORIZE -fpic -g -O2 -Wall -Werror=format-security -c metric.cpp -o metric.o g++ -std=gnu++17 -I"/home/biocbuild/bbs-3.22-bioc/R/include" -DNDEBUG -I'/home/biocbuild/bbs-3.22-bioc/R/site-library/Rcpp/include' -I'/home/biocbuild/bbs-3.22-bioc/R/site-library/RcppArmadillo/include' -I'/home/biocbuild/bbs-3.22-bioc/R/site-library/RcppParallel/include' -I'/home/biocbuild/bbs-3.22-bioc/R/site-library/RcppEigen/include' -I'/home/biocbuild/bbs-3.22-bioc/R/site-library/dqrng/include' -I/usr/local/include -fopenmp -DARMA_64BIT_WORD -DNDEBUG -DEIGEN_DONT_VECTORIZE -fpic -g -O2 -Wall -Werror=format-security -c moransi.cpp -o moransi.o g++ -std=gnu++17 -I"/home/biocbuild/bbs-3.22-bioc/R/include" -DNDEBUG -I'/home/biocbuild/bbs-3.22-bioc/R/site-library/Rcpp/include' -I'/home/biocbuild/bbs-3.22-bioc/R/site-library/RcppArmadillo/include' -I'/home/biocbuild/bbs-3.22-bioc/R/site-library/RcppParallel/include' -I'/home/biocbuild/bbs-3.22-bioc/R/site-library/RcppEigen/include' -I'/home/biocbuild/bbs-3.22-bioc/R/site-library/dqrng/include' -I/usr/local/include -fopenmp -DARMA_64BIT_WORD -DNDEBUG -DEIGEN_DONT_VECTORIZE -fpic -g -O2 -Wall -Werror=format-security -c pairknn.cpp -o pairknn.o g++ -std=gnu++17 -I"/home/biocbuild/bbs-3.22-bioc/R/include" -DNDEBUG -I'/home/biocbuild/bbs-3.22-bioc/R/site-library/Rcpp/include' -I'/home/biocbuild/bbs-3.22-bioc/R/site-library/RcppArmadillo/include' -I'/home/biocbuild/bbs-3.22-bioc/R/site-library/RcppParallel/include' -I'/home/biocbuild/bbs-3.22-bioc/R/site-library/RcppEigen/include' -I'/home/biocbuild/bbs-3.22-bioc/R/site-library/dqrng/include' -I/usr/local/include -fopenmp -DARMA_64BIT_WORD -DNDEBUG -DEIGEN_DONT_VECTORIZE -fpic -g -O2 -Wall -Werror=format-security -c rwr.cpp -o rwr.o g++ -std=gnu++17 -shared -L/home/biocbuild/bbs-3.22-bioc/R/lib -L/usr/local/lib -o SVP.so RcppExports.o autocorutils.o bisp.o cor.o extract.o gearysc.o getisord.o kld.o lisa.o mca.o metric.o moransi.o pairknn.o rwr.o -fopenmp -llapack -L/home/biocbuild/bbs-3.22-bioc/R/lib -lRblas -lgfortran -lm -lquadmath -L/home/biocbuild/bbs-3.22-bioc/R/lib -lR installing to /home/biocbuild/bbs-3.22-bioc/R/site-library/00LOCK-SVP/00new/SVP/libs ** R ** data ** byte-compile and prepare package for lazy loading ** help *** installing help indices ** building package indices ** installing vignettes ** testing if installed package can be loaded from temporary location ** checking absolute paths in shared objects and dynamic libraries ** testing if installed package can be loaded from final location ** testing if installed package keeps a record of temporary installation path * DONE (SVP)
SVP.Rcheck/tests/testthat.Rout
R version 4.5.1 Patched (2025-08-23 r88802) -- "Great Square Root"
Copyright (C) 2025 The R Foundation for Statistical Computing
Platform: x86_64-pc-linux-gnu
R is free software and comes with ABSOLUTELY NO WARRANTY.
You are welcome to redistribute it under certain conditions.
Type 'license()' or 'licence()' for distribution details.
R is a collaborative project with many contributors.
Type 'contributors()' for more information and
'citation()' on how to cite R or R packages in publications.
Type 'demo()' for some demos, 'help()' for on-line help, or
'help.start()' for an HTML browser interface to help.
Type 'q()' to quit R.
> # This file is part of the standard setup for testthat.
> # It is recommended that you do not modify it.
> #
> # Where should you do additional test configuration?
> # Learn more about the roles of various files in:
> # * https://r-pkgs.org/testing-design.html#sec-tests-files-overview
> # * https://testthat.r-lib.org/articles/special-files.html
>
> library(testthat)
> library(SVP)
>
> test_check("SVP")
0% 10 20 30 40 50 60 70 80 90 100%
|----|----|----|----|----|----|----|----|----|----|
***************************************************
0% 10 20 30 40 50 60 70 80 90 100%
|----|----|----|----|----|----|----|----|----|----|
***************************************************
0% 10 20 30 40 50 60 70 80 90 100%
|----|----|----|----|----|----|----|----|----|----|
***************************************************
0% 10 20 30 40 50 60 70 80 90 100%
|----|----|----|----|----|----|----|----|----|----|
***************************************************
0% 10 20 30 40 50 60 70 80 90 100%
|----|----|----|----|----|----|----|----|----|----|
***************************************************
0% 10 20 30 40 50 60 70 80 90 100%
|----|----|----|----|----|----|----|----|----|----|
***************************************************
0% 10 20 30 40 50 60 70 80 90 100%
|----|----|----|----|----|----|----|----|----|----|
***************************************************
elapsed time is 0.031000 seconds
0% 10 20 30 40 50 60 70 80 90 100%
|----|----|----|----|----|----|----|----|----|----|
***************************************************
elapsed time is 0.834000 seconds
0% 10 20 30 40 50 60 70 80 90 100%
|----|----|----|----|----|----|----|----|----|----|
***************************************************
elapsed time is 0.022000 seconds
0% 10 20 30 40 50 60 70 80 90 100%
|----|----|----|----|----|----|----|----|----|----|
***************************************************
elapsed time is 1.075000 seconds
0% 10 20 30 40 50 60 70 80 90 100%
|----|----|----|----|----|----|----|----|----|----|
***************************************************
0% 10 20 30 40 50 60 70 80 90 100%
|----|----|----|----|----|----|----|----|----|----|
***************************************************
0% 10 20 30 40 50 60 70 80 90 100%
|----|----|----|----|----|----|----|----|----|----|
***************************************************
The result is added to the input object, which can be extracted using
`LISAResult()` with `type='localG.SVP'`, and a specified `features`.
[ FAIL 0 | WARN 0 | SKIP 0 | PASS 43 ]
>
> proc.time()
user system elapsed
42.375 1.019 14.451
SVP.Rcheck/SVP-Ex.timings
| name | user | system | elapsed | |
| CellCycle.Hs | 0.001 | 0.001 | 0.002 | |
| LISAResult | 0.417 | 0.012 | 0.418 | |
| LISAsce-method | 0.710 | 0.057 | 0.744 | |
| SVP-accessors | 2.928 | 0.080 | 3.007 | |
| SVPExperiment | 0.346 | 0.057 | 0.402 | |
| as_tbl_df | 3.900 | 0.088 | 3.975 | |
| cal_lisa_f1-method | 0.241 | 0.052 | 0.105 | |
| cluster.assign-method | 0.224 | 0.004 | 0.229 | |
| data_CancerSEA | 0.006 | 0.000 | 0.005 | |
| data_SenMayo | 0.000 | 0.001 | 0.001 | |
| data_hpda_spe_cell_dec | 0.008 | 0.000 | 0.009 | |
| data_sceSubPbmc | 0.029 | 0.004 | 0.033 | |
| extract_weight_adj-method | 0.097 | 0.007 | 0.103 | |
| fast_cor | 0.004 | 0.003 | 0.001 | |
| fscoreDfs | 1.098 | 0.039 | 1.138 | |
| gsvaExps | 0.817 | 0.009 | 0.825 | |
| mob_marker_genes | 0.001 | 0.000 | 0.001 | |
| mob_sce | 0.15 | 0.01 | 0.16 | |
| plot_heatmap_globalbv | 3.456 | 0.051 | 2.543 | |
| pred.cell.signature-method | 4.037 | 0.205 | 4.246 | |
| runCORR-method | 0.098 | 0.001 | 0.082 | |
| runDetectMarker-method | 1.016 | 0.062 | 0.967 | |
| runDetectSVG-method | 0.757 | 0.016 | 0.684 | |
| runENCODE-method | 0.687 | 0.008 | 0.695 | |
| runGLOBALBV-method | 1.050 | 0.030 | 0.243 | |
| runKldSVG-method | 29.817 | 0.223 | 1.243 | |
| runLISA-method | 2.105 | 0.013 | 2.065 | |
| runLOCALBV-method | 0.948 | 0.003 | 0.945 | |
| runMCA-method | 0.850 | 0.029 | 0.857 | |
| runSGSA-method | 13.809 | 0.287 | 13.229 | |
| runWKDE-method | 8.034 | 0.159 | 3.526 | |
| svDfs | 0.452 | 0.002 | 0.454 | |