Back to Multiple platform build/check report for BioC 3.22:   simplified   long
ABCDEFGHIJKLMN[O]PQRSTUVWXYZ

This page was generated on 2025-11-15 11:58 -0500 (Sat, 15 Nov 2025).

HostnameOSArch (*)R versionInstalled pkgs
nebbiolo2Linux (Ubuntu 24.04.3 LTS)x86_644.5.1 Patched (2025-08-23 r88802) -- "Great Square Root" 4903
taishanLinux (openEuler 24.03 LTS)aarch644.5.0 (2025-04-11) -- "How About a Twenty-Six" 4668
Click on any hostname to see more info about the system (e.g. compilers)      (*) as reported by 'uname -p', except on Windows and Mac OS X

Package 1505/2361HostnameOS / ArchINSTALLBUILDCHECKBUILD BIN
OmnipathR 3.18.1  (landing page)
Denes Turei
Snapshot Date: 2025-11-14 13:45 -0500 (Fri, 14 Nov 2025)
git_url: https://git.bioconductor.org/packages/OmnipathR
git_branch: RELEASE_3_22
git_last_commit: e0bcaa2
git_last_commit_date: 2025-11-13 13:50:16 -0500 (Thu, 13 Nov 2025)
nebbiolo2Linux (Ubuntu 24.04.3 LTS) / x86_64  OK    OK    TIMEOUT  
taishanLinux (openEuler 24.03 LTS) / aarch64  OK    OK    OK  


CHECK results for OmnipathR on nebbiolo2

To the developers/maintainers of the OmnipathR package:
- Allow up to 24 hours (and sometimes 48 hours) for your latest push to git@git.bioconductor.org:packages/OmnipathR.git to reflect on this report. See Troubleshooting Build Report for more information.
- Use the following Renviron settings to reproduce errors and warnings.
- If 'R CMD check' started to fail recently on the Linux builder(s) over a missing dependency, add the missing dependency to 'Suggests:' in your DESCRIPTION file. See Renviron.bioc for more information.

raw results


Summary

Package: OmnipathR
Version: 3.18.1
Command: /home/biocbuild/bbs-3.22-bioc/R/bin/R CMD check --install=check:OmnipathR.install-out.txt --library=/home/biocbuild/bbs-3.22-bioc/R/site-library --timings OmnipathR_3.18.1.tar.gz
StartedAt: 2025-11-15 02:34:38 -0500 (Sat, 15 Nov 2025)
EndedAt: 2025-11-15 03:14:39 -0500 (Sat, 15 Nov 2025)
EllapsedTime: 2400.6 seconds
RetCode: None
Status:   TIMEOUT  
CheckDir: OmnipathR.Rcheck
Warnings: NA

Command output

##############################################################################
##############################################################################
###
### Running command:
###
###   /home/biocbuild/bbs-3.22-bioc/R/bin/R CMD check --install=check:OmnipathR.install-out.txt --library=/home/biocbuild/bbs-3.22-bioc/R/site-library --timings OmnipathR_3.18.1.tar.gz
###
##############################################################################
##############################################################################


* using log directory ‘/home/biocbuild/bbs-3.22-bioc/meat/OmnipathR.Rcheck’
* using R version 4.5.1 Patched (2025-08-23 r88802)
* using platform: x86_64-pc-linux-gnu
* R was compiled by
    gcc (Ubuntu 13.3.0-6ubuntu2~24.04) 13.3.0
    GNU Fortran (Ubuntu 13.3.0-6ubuntu2~24.04) 13.3.0
* running under: Ubuntu 24.04.3 LTS
* using session charset: UTF-8
* checking for file ‘OmnipathR/DESCRIPTION’ ... OK
* checking extension type ... Package
* this is package ‘OmnipathR’ version ‘3.18.1’
* package encoding: UTF-8
* checking package namespace information ... OK
* checking package dependencies ... INFO
Imports includes 35 non-default packages.
Importing from so many packages makes the package vulnerable to any of
them becoming unavailable.  Move as many as possible to Suggests and
use conditionally.
* checking if this is a source package ... OK
* checking if there is a namespace ... OK
* checking for hidden files and directories ... OK
* checking for portable file names ... OK
* checking for sufficient/correct file permissions ... OK
* checking whether package ‘OmnipathR’ can be installed ... OK
* checking installed package size ... OK
* checking package directory ... OK
* checking DESCRIPTION meta-information ... OK
* checking top-level files ... OK
* checking for left-over files ... OK
* checking index information ... OK
* checking package subdirectories ... OK
* checking code files for non-ASCII characters ... OK
* checking R files for syntax errors ... OK
* checking whether the package can be loaded ... OK
* checking whether the package can be loaded with stated dependencies ... OK
* checking whether the package can be unloaded cleanly ... OK
* checking whether the namespace can be loaded with stated dependencies ... OK
* checking whether the namespace can be unloaded cleanly ... OK
* checking loading without being on the library search path ... OK
* checking whether startup messages can be suppressed ... NOTE
[2025-11-15 02:35:08] [TRACE]   [OmnipathR] Reading JSON from `/home/biocbuild/.cache/OmnipathR/cache.json` (encoding: UTF-8).
[2025-11-15 02:35:08] [TRACE]   [OmnipathR] JSON validation successful: TRUE
[2025-11-15 02:35:08] [INFO]    [OmnipathR] Initialized cache: `/home/biocbuild/.cache/OmnipathR`.
[2025-11-15 02:35:08] [INFO]    [OmnipathR] Package `OmnipathR` packaged: NA
[2025-11-15 02:35:08] [INFO]    [OmnipathR] Package `OmnipathR` date/publication: 2025-11-14
[2025-11-15 02:35:08] [INFO]    [OmnipathR] Package `OmnipathR` built: R 4.5.1; ; 2025-11-14 20:10:11 UTC; unix
[2025-11-15 02:35:08] [INFO]    [OmnipathR] Package `OmnipathR` version: 3.18.1
[2025-11-15 02:35:08] [INFO]    [OmnipathR] Package `OmnipathR` repository: Bioconductor 3.22
[2025-11-15 02:35:08] [INFO]    [OmnipathR] Session info: [version=R version 4.5.1 Patched (2025-08-23 r88802); os=Ubuntu 24.04.3 LTS; system=x86_64, linux-gnu; ui=X11; language=(EN); collate=C; ctype=en_US.UTF-8; tz=America/New_York; date=2025-11-15; pandoc=2.7.3 @ /usr/bin/ (via rmarkdown); quarto=1.7.32 @ /usr/local/bin/quarto]
[2025-11-15 02:35:08] [INFO]    [OmnipathR] External libraries: [cairo=1.18.0; cairoFT=; pango=1.52.1; png=1.6.43; jpeg=8.0; tiff=LIBTIFF, Version 4.5.1; tcl=8.6.14; curl=8.5.0; zlib=1.3; bzlib=1.0.8, 13-Jul-2019; xz=5.4.5; deflate=1.19; PCRE=10.42 2022-12-11; ICU=74.2; TRE=TRE 0.8.0 R_fixes (BSD); iconv=glibc 2.39; readline=8.2; BLAS=/home/biocbuild/bbs-3.22-bioc/R/lib/libRblas.so; lapack=/usr/lib/x86_64-linux-gnu/lapack/liblapack.so.3.12.0; lapack_version=3.12.0]
[2025-11-15 02:35:09] [INFO]    [OmnipathR] Loaded packages: backports 1.5.0(2024-05-23); bit 4.6.0(2025-03-06); bit64 4.6.0-1(2025-01-16); blob 1.2.4(2023-03-17); cachem 1.1.0(2024-05-16); cellranger 1.1.0(2016-07-27); checkmate 2.3.3(2025-08-18); chromote 0.5.1(2025-04-24); cli 3.6.5(2025-04-23); crayon 1.5.3(2024-06-20); curl 7.0.0(2025-08-19); DBI 1.2.3(2024-06-02); digest 0.6.38(2025-11-12); dplyr 1.1.4(2023-11-17); evaluate 1.0.5(2025-08-27); fastmap 1.2.0(2024-05-15); fs 1.6.6(2025-04-12); generics 0.1.4(2025-05-09); glue 1.8.0(2024-09-30); hms 1.1.4(2025-10-17); htmltools 0.5.8.1(2024-04-04); httr 1.4.7(2023-08-15); httr2 1.2.1(2025-07-22); igraph 2.2.1(2025-10-27); jsonlite 2.0.0(2025-03-27); knitr 1.50(2025-03-16); later 1.4.4(2025-08-27); lifecycle 1.0.4(2023-11-07); logger 0.4.1(2025-09-11); lubridate 1.9.4(2024-12-08); magrittr 2.0.4(2025-09-12); memoise 2.0.1(2021-11-26); OmnipathR 3.18.1(2025-11-14); otel 0.2.0(2025-08-29); pillar 1.11.1(2025-09-17); pkgconfig 2.0.3(2019-09-22); prettyunits 1.2.0(2023-09-24); processx 3.8.6(2025-02-21); progress 1.2.3(2023-12-06); promises 1.5.0(2025-11-01); ps 1.9.1(2025-04-12); purrr 1.2.0(2025-11-04); R.methodsS3 1.8.2(2022-06-13); R.oo 1.27.1(2025-05-02); R.utils 2.13.0(2025-02-24); R6 2.6.1(2025-02-15); rappdirs 0.3.3(2021-01-31); Rcpp 1.1.0(2025-07-02); readr 2.1.5(2024-01-10); readxl 1.4.5(2025-03-07); rlang 1.1.6(2025-04-11); rmarkdown 2.30(2025-09-28); RSQLite 2.4.4(2025-11-10); rvest 1.0.5(2025-08-29); sessioninfo 1.2.3(2025-02-05); stringi 1.8.7(2025-03-27); stringr 1.6.0(2025-11-04); tibble 3.3.0(2025-06-08); tidyr 1.3.1(2024-01-24); tidyselect 1.2.1(2024-03-11); timechange 0.3.0(2024-01-18); tzdb 0.5.0(2025-03-15); vctrs 0.6.5(2023-12-01); websocket 1.4.4(2025-04-10); withr 3.0.2(2024-10-28); xfun 0.54(2025-10-30); XML 3.99-0.20(2025-11-08); xml2 1.4.1(2025-10-27); yaml 2.3.10(2024-07-26); zip 2.3.3(2025-05-13)
[2025-11-15 02:35:09] [INFO]    [OmnipathR] CURL: version: 8.5.0; headers: 8.5.0; ssl_version: GnuTLS/3.8.3; libz_version: 1.3; libssh_version: libssh/0.10.6/openssl/zlib; libidn_version: 2.3.7; host: x86_64-pc-linux-gnu; protocols: dict, file, ftp, ftps, gopher, gophers, http, https, imap, imaps, ldap, ldaps, mqtt, pop3, pop3s, rtmp, rtmpe, rtmps, rtmpt, rtmpte, rtmpts, rtsp, scp, sftp, smb, smbs, smtp, smtps, telnet, tftp; ipv6: TRUE; http2: TRUE; idn: TRUE; url_parser: TRUE
[2025-11-15 02:35:09] [TRACE]   [OmnipathR] Running on a build server, wiping cache.
[2025-11-15 02:35:09] [TRACE]   [OmnipathR] Cache is at `/home/biocbuild/.cache/OmnipathR`.
[2025-11-15 02:35:09] [TRACE]   [OmnipathR] Contains 1 files.
[2025-11-15 02:35:09] [TRACE]   [OmnipathR] Cache is locked: FALSE.
[2025-11-15 02:35:09] [TRACE]   [OmnipathR] Reading JSON from `/home/biocbuild/.cache/OmnipathR/cache.json` (encoding: UTF-8).
[2025-11-15 02:35:09] [TRACE]   [OmnipathR] JSON validation successful: TRUE
[2025-11-15 02:35:09] [SUCCESS] [OmnipathR] Removing all cache contents from `/home/biocbuild/.cache/OmnipathR`.
[2025-11-15 02:35:09] [TRACE]   [OmnipathR] Pandoc version: `2.7.3`.
[2025-11-15 02:35:09] [TRACE]   [OmnipathR] Reading JSON from `/home/biocbuild/bbs-3.22-bioc/R/site-library/OmnipathR/db/db_def.json` (encoding: UTF-8).
[2025-11-15 02:35:09] [TRACE]   [OmnipathR] JSON validation successful: TRUE
[2025-11-15 02:35:09] [TRACE]   [OmnipathR] Reading JSON from `/home/biocbuild/bbs-3.22-bioc/R/site-library/OmnipathR/internal/magic_bytes.json` (encoding: UTF-8).
[2025-11-15 02:35:09] [TRACE]   [OmnipathR] JSON validation successful: TRUE
[2025-11-15 02:35:09] [TRACE]   [OmnipathR] Reading JSON from `/home/biocbuild/bbs-3.22-bioc/R/site-library/OmnipathR/internal/urls.json` (encoding: UTF-8).
[2025-11-15 02:35:09] [TRACE]   [OmnipathR] JSON validation successful: TRUE
[2025-11-15 02:35:09] [TRACE]   [OmnipathR] Reading JSON from `/home/biocbuild/bbs-3.22-bioc/R/site-library/OmnipathR/internal/id_types.json` (encoding: UTF-8).
[2025-11-15 02:35:09] [TRACE]   [OmnipathR] JSON validation successful: TRUE
[2025-11-15 02:35:09] [TRACE]   [OmnipathR] Cache locked: FALSE

It looks like this package (or a package it requires) has a startup
message which cannot be suppressed: see ?packageStartupMessage.
* checking dependencies in R code ... OK
* checking S3 generic/method consistency ... OK
* checking replacement functions ... OK
* checking foreign function calls ... OK
* checking R code for possible problems ... NOTE
[2025-11-15 02:35:24] [TRACE]   [OmnipathR] Reading JSON from `/home/biocbuild/.cache/OmnipathR/cache.json` (encoding: UTF-8).
[2025-11-15 02:35:24] [TRACE]   [OmnipathR] JSON validation successful: TRUE
[2025-11-15 02:35:24] [INFO]    [OmnipathR] Initialized cache: `/home/biocbuild/.cache/OmnipathR`.
[2025-11-15 02:35:24] [INFO]    [OmnipathR] Package `OmnipathR` packaged: NA
[2025-11-15 02:35:24] [INFO]    [OmnipathR] Package `OmnipathR` date/publication: 2025-11-14
[2025-11-15 02:35:24] [INFO]    [OmnipathR] Package `OmnipathR` built: R 4.5.1; ; 2025-11-14 20:10:11 UTC; unix
[2025-11-15 02:35:24] [INFO]    [OmnipathR] Package `OmnipathR` version: 3.18.1
[2025-11-15 02:35:24] [INFO]    [OmnipathR] Package `OmnipathR` repository: Bioconductor 3.22
[2025-11-15 02:35:25] [INFO]    [OmnipathR] Session info: [version=R version 4.5.1 Patched (2025-08-23 r88802); os=Ubuntu 24.04.3 LTS; system=x86_64, linux-gnu; ui=X11; language=(EN); collate=C; ctype=en_US.UTF-8; tz=America/New_York; date=2025-11-15; pandoc=2.7.3 @ /usr/bin/ (via rmarkdown); quarto=1.7.32 @ /usr/local/bin/quarto]
[2025-11-15 02:35:25] [INFO]    [OmnipathR] External libraries: [cairo=1.18.0; cairoFT=; pango=1.52.1; png=1.6.43; jpeg=8.0; tiff=LIBTIFF, Version 4.5.1; tcl=8.6.14; curl=8.5.0; zlib=1.3; bzlib=1.0.8, 13-Jul-2019; xz=5.4.5; deflate=1.19; PCRE=10.42 2022-12-11; ICU=74.2; TRE=TRE 0.8.0 R_fixes (BSD); iconv=glibc 2.39; readline=8.2; BLAS=/home/biocbuild/bbs-3.22-bioc/R/lib/libRblas.so; lapack=/usr/lib/x86_64-linux-gnu/lapack/liblapack.so.3.12.0; lapack_version=3.12.0]
[2025-11-15 02:35:25] [INFO]    [OmnipathR] Loaded packages: backports 1.5.0(2024-05-23); bit 4.6.0(2025-03-06); bit64 4.6.0-1(2025-01-16); blob 1.2.4(2023-03-17); cachem 1.1.0(2024-05-16); cellranger 1.1.0(2016-07-27); checkmate 2.3.3(2025-08-18); chromote 0.5.1(2025-04-24); cli 3.6.5(2025-04-23); crayon 1.5.3(2024-06-20); curl 7.0.0(2025-08-19); DBI 1.2.3(2024-06-02); digest 0.6.38(2025-11-12); dplyr 1.1.4(2023-11-17); evaluate 1.0.5(2025-08-27); fastmap 1.2.0(2024-05-15); fs 1.6.6(2025-04-12); generics 0.1.4(2025-05-09); glue 1.8.0(2024-09-30); hms 1.1.4(2025-10-17); htmltools 0.5.8.1(2024-04-04); httr 1.4.7(2023-08-15); httr2 1.2.1(2025-07-22); igraph 2.2.1(2025-10-27); jsonlite 2.0.0(2025-03-27); knitr 1.50(2025-03-16); later 1.4.4(2025-08-27); lifecycle 1.0.4(2023-11-07); logger 0.4.1(2025-09-11); lubridate 1.9.4(2024-12-08); magrittr 2.0.4(2025-09-12); memoise 2.0.1(2021-11-26); OmnipathR 3.18.1(2025-11-14); otel 0.2.0(2025-08-29); pillar 1.11.1(2025-09-17); pkgconfig 2.0.3(2019-09-22); prettyunits 1.2.0(2023-09-24); processx 3.8.6(2025-02-21); progress 1.2.3(2023-12-06); promises 1.5.0(2025-11-01); ps 1.9.1(2025-04-12); purrr 1.2.0(2025-11-04); R.methodsS3 1.8.2(2022-06-13); R.oo 1.27.1(2025-05-02); R.utils 2.13.0(2025-02-24); R6 2.6.1(2025-02-15); rappdirs 0.3.3(2021-01-31); Rcpp 1.1.0(2025-07-02); readr 2.1.5(2024-01-10); readxl 1.4.5(2025-03-07); rlang 1.1.6(2025-04-11); rmarkdown 2.30(2025-09-28); RSQLite 2.4.4(2025-11-10); rvest 1.0.5(2025-08-29); sessioninfo 1.2.3(2025-02-05); stringi 1.8.7(2025-03-27); stringr 1.6.0(2025-11-04); tibble 3.3.0(2025-06-08); tidyr 1.3.1(2024-01-24); tidyselect 1.2.1(2024-03-11); timechange 0.3.0(2024-01-18); tzdb 0.5.0(2025-03-15); vctrs 0.6.5(2023-12-01); websocket 1.4.4(2025-04-10); withr 3.0.2(2024-10-28); xfun 0.54(2025-10-30); XML 3.99-0.20(2025-11-08); xml2 1.4.1(2025-10-27); yaml 2.3.10(2024-07-26); zip 2.3.3(2025-05-13)
[2025-11-15 02:35:25] [INFO]    [OmnipathR] CURL: version: 8.5.0; headers: 8.5.0; ssl_version: GnuTLS/3.8.3; libz_version: 1.3; libssh_version: libssh/0.10.6/openssl/zlib; libidn_version: 2.3.7; host: x86_64-pc-linux-gnu; protocols: dict, file, ftp, ftps, gopher, gophers, http, https, imap, imaps, ldap, ldaps, mqtt, pop3, pop3s, rtmp, rtmpe, rtmps, rtmpt, rtmpte, rtmpts, rtsp, scp, sftp, smb, smbs, smtp, smtps, telnet, tftp; ipv6: TRUE; http2: TRUE; idn: TRUE; url_parser: TRUE
[2025-11-15 02:35:25] [TRACE]   [OmnipathR] Running on a build server, wiping cache.
[2025-11-15 02:35:25] [TRACE]   [OmnipathR] Cache is at `/home/biocbuild/.cache/OmnipathR`.
[2025-11-15 02:35:25] [TRACE]   [OmnipathR] Contains 1 files.
[2025-11-15 02:35:25] [TRACE]   [OmnipathR] Cache is locked: FALSE.
[2025-11-15 02:35:25] [TRACE]   [OmnipathR] Reading JSON from `/home/biocbuild/.cache/OmnipathR/cache.json` (encoding: UTF-8).
[2025-11-15 02:35:25] [TRACE]   [OmnipathR] JSON validation successful: TRUE
[2025-11-15 02:35:25] [SUCCESS] [OmnipathR] Removing all cache contents from `/home/biocbuild/.cache/OmnipathR`.
[2025-11-15 02:35:25] [TRACE]   [OmnipathR] Pandoc version: `2.7.3`.
[2025-11-15 02:35:25] [TRACE]   [OmnipathR] Reading JSON from `/home/biocbuild/bbs-3.22-bioc/R/site-library/OmnipathR/db/db_def.json` (encoding: UTF-8).
[2025-11-15 02:35:25] [TRACE]   [OmnipathR] JSON validation successful: TRUE
[2025-11-15 02:35:25] [TRACE]   [OmnipathR] Reading JSON from `/home/biocbuild/bbs-3.22-bioc/R/site-library/OmnipathR/internal/magic_bytes.json` (encoding: UTF-8).
[2025-11-15 02:35:25] [TRACE]   [OmnipathR] JSON validation successful: TRUE
[2025-11-15 02:35:25] [TRACE]   [OmnipathR] Reading JSON from `/home/biocbuild/bbs-3.22-bioc/R/site-library/OmnipathR/internal/urls.json` (encoding: UTF-8).
[2025-11-15 02:35:25] [TRACE]   [OmnipathR] JSON validation successful: TRUE
[2025-11-15 02:35:25] [TRACE]   [OmnipathR] Reading JSON from `/home/biocbuild/bbs-3.22-bioc/R/site-library/OmnipathR/internal/id_types.json` (encoding: UTF-8).
[2025-11-15 02:35:25] [TRACE]   [OmnipathR] JSON validation successful: TRUE
[2025-11-15 02:35:25] [TRACE]   [OmnipathR] Cache locked: FALSE
cosmos_ksn: no visible binding for global variable ‘enzyme_genesymbol’
Undefined global functions or variables:
  enzyme_genesymbol
* checking Rd files ... OK
* checking Rd metadata ... OK
* checking Rd cross-references ... OK
* checking for missing documentation entries ... OK
* checking for code/documentation mismatches ... OK
* checking Rd \usage sections ... OK
* checking Rd contents ... OK
* checking for unstated dependencies in examples ... OK
* checking R/sysdata.rda ... OK
* checking files in ‘vignettes’ ... OK
* checking examples ... OK
Examples with CPU (user + system) or elapsed time > 5s
                                       user system elapsed
annotation_categories                81.742  0.063  83.284
curated_ligrec_stats                 66.692  4.592 176.676
omnipath-interactions                29.669  1.667  59.788
filter_extra_attrs                   23.231  4.546  28.584
all_uniprots                         25.159  1.573 293.626
uniprot_organisms                    18.795  1.027  22.997
extra_attrs_to_cols                  13.248  1.365  14.626
nichenet_gr_network_omnipath         14.053  0.491  17.068
curated_ligand_receptor_interactions 12.559  1.059  29.289
with_extra_attrs                     11.962  1.147  15.789
extra_attr_values                    11.288  1.291  15.421
go_annot_download                    11.865  0.690  13.495
nichenet_signaling_network_omnipath  10.267  0.326  13.432
omnipath_for_cosmos                   9.754  0.347  26.770
pivot_annotations                     9.293  0.458  19.216
giant_component                       9.116  0.496  12.878
translate_ids_multi                   8.004  0.301  26.278
has_extra_attrs                       7.126  1.104   8.239
filter_by_resource                    7.728  0.334  10.639
extra_attrs                           6.503  1.133   7.667
filter_intercell                      6.452  0.394  11.659
print_interactions                    5.982  0.210  11.256
static_table                          5.475  0.175   6.518
find_all_paths                        5.130  0.177   5.302
signed_ptms                           4.755  0.070   5.579
ensembl_id_mapping_table              4.031  0.267  19.942
database_summary                      2.985  0.204   6.490
ensembl_organisms                     2.511  0.415 284.447
print_path_vs                         2.608  0.132   6.144
ensembl_organisms_raw                 1.887  0.404 223.687
kegg_conv                             1.406  0.081  10.750
biomart_query                         1.297  0.170   5.762
kegg_picture                          1.175  0.027   5.767
translate_ids                         1.085  0.045  10.720
metalinksdb_sqlite                    0.925  0.158  11.346
kinasephos                            1.003  0.071  17.647
uniprot_full_id_mapping_table         0.941  0.043  12.122
kegg_rm_prefix                        0.745  0.050   5.902
kegg_link                             0.735  0.040   6.017
* checking for unstated dependencies in ‘tests’ ... OK
* checking tests ...
  Running ‘testthat.R’
 OK
* checking for unstated dependencies in vignettes ... OK
* checking package vignettes ... OK
* checking re-building of vignette outputs ...

Installation output

OmnipathR.Rcheck/00install.out

##############################################################################
##############################################################################
###
### Running command:
###
###   /home/biocbuild/bbs-3.22-bioc/R/bin/R CMD INSTALL OmnipathR
###
##############################################################################
##############################################################################


* installing to library ‘/home/biocbuild/bbs-3.22-bioc/R/site-library’
* installing *source* package ‘OmnipathR’ ...
** this is package ‘OmnipathR’ version ‘3.18.1’
** using staged installation
** R
** inst
** byte-compile and prepare package for lazy loading
** help
*** installing help indices
*** copying figures
** building package indices
** installing vignettes
** testing if installed package can be loaded from temporary location
[2025-11-14 15:10:24] [TRACE]   [OmnipathR] Reading JSON from `/home/biocbuild/.cache/OmnipathR/cache.json` (encoding: UTF-8).
[2025-11-14 15:10:24] [TRACE]   [OmnipathR] JSON validation successful: TRUE
[2025-11-14 15:10:24] [INFO]    [OmnipathR] Initialized cache: `/home/biocbuild/.cache/OmnipathR`.
[2025-11-14 15:10:24] [INFO]    [OmnipathR] Package `OmnipathR` packaged: NA
[2025-11-14 15:10:24] [INFO]    [OmnipathR] Package `OmnipathR` date/publication: 2025-11-14
[2025-11-14 15:10:24] [INFO]    [OmnipathR] Package `OmnipathR` built: R 4.5.1; ; 2025-11-14 20:10:11 UTC; unix
[2025-11-14 15:10:24] [INFO]    [OmnipathR] Package `OmnipathR` version: 3.18.1
[2025-11-14 15:10:24] [INFO]    [OmnipathR] Package `OmnipathR` repository: Bioconductor 3.22
[2025-11-14 15:10:24] [INFO]    [OmnipathR] Session info: [version=R version 4.5.1 Patched (2025-08-23 r88802); os=Ubuntu 24.04.3 LTS; system=x86_64, linux-gnu; ui=X11; language=(EN); collate=C; ctype=en_US.UTF-8; tz=America/New_York; date=2025-11-14; pandoc=2.7.3 @ /usr/bin/ (via rmarkdown); quarto=1.7.32 @ /usr/local/bin/quarto]
[2025-11-14 15:10:24] [INFO]    [OmnipathR] External libraries: [cairo=1.18.0; cairoFT=; pango=1.52.1; png=1.6.43; jpeg=8.0; tiff=LIBTIFF, Version 4.5.1; tcl=8.6.14; curl=8.5.0; zlib=1.3; bzlib=1.0.8, 13-Jul-2019; xz=5.4.5; deflate=1.19; PCRE=10.42 2022-12-11; ICU=74.2; TRE=TRE 0.8.0 R_fixes (BSD); iconv=glibc 2.39; readline=8.2; BLAS=/home/biocbuild/bbs-3.22-bioc/R/lib/libRblas.so; lapack=/usr/lib/x86_64-linux-gnu/lapack/liblapack.so.3.12.0; lapack_version=3.12.0]
[2025-11-14 15:10:25] [INFO]    [OmnipathR] Loaded packages: backports 1.5.0(2024-05-23); bit 4.6.0(2025-03-06); bit64 4.6.0-1(2025-01-16); blob 1.2.4(2023-03-17); cachem 1.1.0(2024-05-16); cellranger 1.1.0(2016-07-27); checkmate 2.3.3(2025-08-18); chromote 0.5.1(2025-04-24); cli 3.6.5(2025-04-23); crayon 1.5.3(2024-06-20); curl 7.0.0(2025-08-19); DBI 1.2.3(2024-06-02); digest 0.6.38(2025-11-12); dplyr 1.1.4(2023-11-17); evaluate 1.0.5(2025-08-27); fastmap 1.2.0(2024-05-15); fs 1.6.6(2025-04-12); generics 0.1.4(2025-05-09); glue 1.8.0(2024-09-30); hms 1.1.4(2025-10-17); htmltools 0.5.8.1(2024-04-04); httr 1.4.7(2023-08-15); httr2 1.2.1(2025-07-22); igraph 2.2.1(2025-10-27); jsonlite 2.0.0(2025-03-27); knitr 1.50(2025-03-16); later 1.4.4(2025-08-27); lifecycle 1.0.4(2023-11-07); logger 0.4.1(2025-09-11); lubridate 1.9.4(2024-12-08); magrittr 2.0.4(2025-09-12); memoise 2.0.1(2021-11-26); OmnipathR 3.18.1(2025-11-14); otel 0.2.0(2025-08-29); pillar 1.11.1(2025-09-17); pkgconfig 2.0.3(2019-09-22); prettyunits 1.2.0(2023-09-24); processx 3.8.6(2025-02-21); progress 1.2.3(2023-12-06); promises 1.5.0(2025-11-01); ps 1.9.1(2025-04-12); purrr 1.2.0(2025-11-04); R.methodsS3 1.8.2(2022-06-13); R.oo 1.27.1(2025-05-02); R.utils 2.13.0(2025-02-24); R6 2.6.1(2025-02-15); rappdirs 0.3.3(2021-01-31); Rcpp 1.1.0(2025-07-02); readr 2.1.5(2024-01-10); readxl 1.4.5(2025-03-07); rlang 1.1.6(2025-04-11); rmarkdown 2.30(2025-09-28); RSQLite 2.4.4(2025-11-10); rvest 1.0.5(2025-08-29); sessioninfo 1.2.3(2025-02-05); stringi 1.8.7(2025-03-27); stringr 1.6.0(2025-11-04); tibble 3.3.0(2025-06-08); tidyr 1.3.1(2024-01-24); tidyselect 1.2.1(2024-03-11); timechange 0.3.0(2024-01-18); tzdb 0.5.0(2025-03-15); vctrs 0.6.5(2023-12-01); websocket 1.4.4(2025-04-10); withr 3.0.2(2024-10-28); xfun 0.54(2025-10-30); XML 3.99-0.20(2025-11-08); xml2 1.4.1(2025-10-27); yaml 2.3.10(2024-07-26); zip 2.3.3(2025-05-13)
[2025-11-14 15:10:25] [INFO]    [OmnipathR] CURL: version: 8.5.0; headers: 8.5.0; ssl_version: GnuTLS/3.8.3; libz_version: 1.3; libssh_version: libssh/0.10.6/openssl/zlib; libidn_version: 2.3.7; host: x86_64-pc-linux-gnu; protocols: dict, file, ftp, ftps, gopher, gophers, http, https, imap, imaps, ldap, ldaps, mqtt, pop3, pop3s, rtmp, rtmpe, rtmps, rtmpt, rtmpte, rtmpts, rtsp, scp, sftp, smb, smbs, smtp, smtps, telnet, tftp; ipv6: TRUE; http2: TRUE; idn: TRUE; url_parser: TRUE
[2025-11-14 15:10:25] [TRACE]   [OmnipathR] Running on a build server, wiping cache.
[2025-11-14 15:10:25] [TRACE]   [OmnipathR] Cache is at `/home/biocbuild/.cache/OmnipathR`.
[2025-11-14 15:10:25] [TRACE]   [OmnipathR] Contains 10 files.
[2025-11-14 15:10:25] [TRACE]   [OmnipathR] Cache is locked: FALSE.
[2025-11-14 15:10:25] [TRACE]   [OmnipathR] Reading JSON from `/home/biocbuild/.cache/OmnipathR/cache.json` (encoding: UTF-8).
[2025-11-14 15:10:25] [TRACE]   [OmnipathR] JSON validation successful: TRUE
[2025-11-14 15:10:25] [SUCCESS] [OmnipathR] Removing all cache contents from `/home/biocbuild/.cache/OmnipathR`.
[2025-11-14 15:10:25] [TRACE]   [OmnipathR] Pandoc version: `2.7.3`.
[2025-11-14 15:10:25] [TRACE]   [OmnipathR] Reading JSON from `/home/biocbuild/bbs-3.22-bioc/R/site-library/00LOCK-OmnipathR/00new/OmnipathR/db/db_def.json` (encoding: UTF-8).
[2025-11-14 15:10:25] [TRACE]   [OmnipathR] JSON validation successful: TRUE
[2025-11-14 15:10:25] [TRACE]   [OmnipathR] Reading JSON from `/home/biocbuild/bbs-3.22-bioc/R/site-library/00LOCK-OmnipathR/00new/OmnipathR/internal/magic_bytes.json` (encoding: UTF-8).
[2025-11-14 15:10:25] [TRACE]   [OmnipathR] JSON validation successful: TRUE
[2025-11-14 15:10:25] [TRACE]   [OmnipathR] Reading JSON from `/home/biocbuild/bbs-3.22-bioc/R/site-library/00LOCK-OmnipathR/00new/OmnipathR/internal/urls.json` (encoding: UTF-8).
[2025-11-14 15:10:25] [TRACE]   [OmnipathR] JSON validation successful: TRUE
[2025-11-14 15:10:25] [TRACE]   [OmnipathR] Reading JSON from `/home/biocbuild/bbs-3.22-bioc/R/site-library/00LOCK-OmnipathR/00new/OmnipathR/internal/id_types.json` (encoding: UTF-8).
[2025-11-14 15:10:25] [TRACE]   [OmnipathR] JSON validation successful: TRUE
[2025-11-14 15:10:25] [TRACE]   [OmnipathR] Cache locked: FALSE
** testing if installed package can be loaded from final location
[2025-11-14 15:10:27] [TRACE]   [OmnipathR] Reading JSON from `/home/biocbuild/.cache/OmnipathR/cache.json` (encoding: UTF-8).
[2025-11-14 15:10:27] [TRACE]   [OmnipathR] JSON validation successful: TRUE
[2025-11-14 15:10:27] [INFO]    [OmnipathR] Initialized cache: `/home/biocbuild/.cache/OmnipathR`.
[2025-11-14 15:10:27] [INFO]    [OmnipathR] Package `OmnipathR` packaged: NA
[2025-11-14 15:10:27] [INFO]    [OmnipathR] Package `OmnipathR` date/publication: 2025-11-14
[2025-11-14 15:10:27] [INFO]    [OmnipathR] Package `OmnipathR` built: R 4.5.1; ; 2025-11-14 20:10:11 UTC; unix
[2025-11-14 15:10:27] [INFO]    [OmnipathR] Package `OmnipathR` version: 3.18.1
[2025-11-14 15:10:27] [INFO]    [OmnipathR] Package `OmnipathR` repository: Bioconductor 3.22
[2025-11-14 15:10:27] [INFO]    [OmnipathR] Session info: [version=R version 4.5.1 Patched (2025-08-23 r88802); os=Ubuntu 24.04.3 LTS; system=x86_64, linux-gnu; ui=X11; language=(EN); collate=C; ctype=en_US.UTF-8; tz=America/New_York; date=2025-11-14; pandoc=2.7.3 @ /usr/bin/ (via rmarkdown); quarto=1.7.32 @ /usr/local/bin/quarto]
[2025-11-14 15:10:27] [INFO]    [OmnipathR] External libraries: [cairo=1.18.0; cairoFT=; pango=1.52.1; png=1.6.43; jpeg=8.0; tiff=LIBTIFF, Version 4.5.1; tcl=8.6.14; curl=8.5.0; zlib=1.3; bzlib=1.0.8, 13-Jul-2019; xz=5.4.5; deflate=1.19; PCRE=10.42 2022-12-11; ICU=74.2; TRE=TRE 0.8.0 R_fixes (BSD); iconv=glibc 2.39; readline=8.2; BLAS=/home/biocbuild/bbs-3.22-bioc/R/lib/libRblas.so; lapack=/usr/lib/x86_64-linux-gnu/lapack/liblapack.so.3.12.0; lapack_version=3.12.0]
[2025-11-14 15:10:27] [INFO]    [OmnipathR] Loaded packages: backports 1.5.0(2024-05-23); bit 4.6.0(2025-03-06); bit64 4.6.0-1(2025-01-16); blob 1.2.4(2023-03-17); cachem 1.1.0(2024-05-16); cellranger 1.1.0(2016-07-27); checkmate 2.3.3(2025-08-18); chromote 0.5.1(2025-04-24); cli 3.6.5(2025-04-23); crayon 1.5.3(2024-06-20); curl 7.0.0(2025-08-19); DBI 1.2.3(2024-06-02); digest 0.6.38(2025-11-12); dplyr 1.1.4(2023-11-17); evaluate 1.0.5(2025-08-27); fastmap 1.2.0(2024-05-15); fs 1.6.6(2025-04-12); generics 0.1.4(2025-05-09); glue 1.8.0(2024-09-30); hms 1.1.4(2025-10-17); htmltools 0.5.8.1(2024-04-04); httr 1.4.7(2023-08-15); httr2 1.2.1(2025-07-22); igraph 2.2.1(2025-10-27); jsonlite 2.0.0(2025-03-27); knitr 1.50(2025-03-16); later 1.4.4(2025-08-27); lifecycle 1.0.4(2023-11-07); logger 0.4.1(2025-09-11); lubridate 1.9.4(2024-12-08); magrittr 2.0.4(2025-09-12); memoise 2.0.1(2021-11-26); OmnipathR 3.18.1(2025-11-14); otel 0.2.0(2025-08-29); pillar 1.11.1(2025-09-17); pkgconfig 2.0.3(2019-09-22); prettyunits 1.2.0(2023-09-24); processx 3.8.6(2025-02-21); progress 1.2.3(2023-12-06); promises 1.5.0(2025-11-01); ps 1.9.1(2025-04-12); purrr 1.2.0(2025-11-04); R.methodsS3 1.8.2(2022-06-13); R.oo 1.27.1(2025-05-02); R.utils 2.13.0(2025-02-24); R6 2.6.1(2025-02-15); rappdirs 0.3.3(2021-01-31); Rcpp 1.1.0(2025-07-02); readr 2.1.5(2024-01-10); readxl 1.4.5(2025-03-07); rlang 1.1.6(2025-04-11); rmarkdown 2.30(2025-09-28); RSQLite 2.4.4(2025-11-10); rvest 1.0.5(2025-08-29); sessioninfo 1.2.3(2025-02-05); stringi 1.8.7(2025-03-27); stringr 1.6.0(2025-11-04); tibble 3.3.0(2025-06-08); tidyr 1.3.1(2024-01-24); tidyselect 1.2.1(2024-03-11); timechange 0.3.0(2024-01-18); tzdb 0.5.0(2025-03-15); vctrs 0.6.5(2023-12-01); websocket 1.4.4(2025-04-10); withr 3.0.2(2024-10-28); xfun 0.54(2025-10-30); XML 3.99-0.20(2025-11-08); xml2 1.4.1(2025-10-27); yaml 2.3.10(2024-07-26); zip 2.3.3(2025-05-13)
[2025-11-14 15:10:27] [INFO]    [OmnipathR] CURL: version: 8.5.0; headers: 8.5.0; ssl_version: GnuTLS/3.8.3; libz_version: 1.3; libssh_version: libssh/0.10.6/openssl/zlib; libidn_version: 2.3.7; host: x86_64-pc-linux-gnu; protocols: dict, file, ftp, ftps, gopher, gophers, http, https, imap, imaps, ldap, ldaps, mqtt, pop3, pop3s, rtmp, rtmpe, rtmps, rtmpt, rtmpte, rtmpts, rtsp, scp, sftp, smb, smbs, smtp, smtps, telnet, tftp; ipv6: TRUE; http2: TRUE; idn: TRUE; url_parser: TRUE
[2025-11-14 15:10:27] [TRACE]   [OmnipathR] Running on a build server, wiping cache.
[2025-11-14 15:10:27] [TRACE]   [OmnipathR] Cache is at `/home/biocbuild/.cache/OmnipathR`.
[2025-11-14 15:10:27] [TRACE]   [OmnipathR] Contains 1 files.
[2025-11-14 15:10:27] [TRACE]   [OmnipathR] Cache is locked: FALSE.
[2025-11-14 15:10:27] [TRACE]   [OmnipathR] Reading JSON from `/home/biocbuild/.cache/OmnipathR/cache.json` (encoding: UTF-8).
[2025-11-14 15:10:27] [TRACE]   [OmnipathR] JSON validation successful: TRUE
[2025-11-14 15:10:27] [SUCCESS] [OmnipathR] Removing all cache contents from `/home/biocbuild/.cache/OmnipathR`.
[2025-11-14 15:10:27] [TRACE]   [OmnipathR] Pandoc version: `2.7.3`.
[2025-11-14 15:10:27] [TRACE]   [OmnipathR] Reading JSON from `/home/biocbuild/bbs-3.22-bioc/R/site-library/OmnipathR/db/db_def.json` (encoding: UTF-8).
[2025-11-14 15:10:27] [TRACE]   [OmnipathR] JSON validation successful: TRUE
[2025-11-14 15:10:27] [TRACE]   [OmnipathR] Reading JSON from `/home/biocbuild/bbs-3.22-bioc/R/site-library/OmnipathR/internal/magic_bytes.json` (encoding: UTF-8).
[2025-11-14 15:10:27] [TRACE]   [OmnipathR] JSON validation successful: TRUE
[2025-11-14 15:10:27] [TRACE]   [OmnipathR] Reading JSON from `/home/biocbuild/bbs-3.22-bioc/R/site-library/OmnipathR/internal/urls.json` (encoding: UTF-8).
[2025-11-14 15:10:27] [TRACE]   [OmnipathR] JSON validation successful: TRUE
[2025-11-14 15:10:27] [TRACE]   [OmnipathR] Reading JSON from `/home/biocbuild/bbs-3.22-bioc/R/site-library/OmnipathR/internal/id_types.json` (encoding: UTF-8).
[2025-11-14 15:10:27] [TRACE]   [OmnipathR] JSON validation successful: TRUE
[2025-11-14 15:10:27] [TRACE]   [OmnipathR] Cache locked: FALSE
** testing if installed package keeps a record of temporary installation path
* DONE (OmnipathR)

Tests output

OmnipathR.Rcheck/tests/testthat.Rout


R version 4.5.1 Patched (2025-08-23 r88802) -- "Great Square Root"
Copyright (C) 2025 The R Foundation for Statistical Computing
Platform: x86_64-pc-linux-gnu

R is free software and comes with ABSOLUTELY NO WARRANTY.
You are welcome to redistribute it under certain conditions.
Type 'license()' or 'licence()' for distribution details.

R is a collaborative project with many contributors.
Type 'contributors()' for more information and
'citation()' on how to cite R or R packages in publications.

Type 'demo()' for some demos, 'help()' for on-line help, or
'help.start()' for an HTML browser interface to help.
Type 'q()' to quit R.

> #!/usr/bin/env Rscript
> 
> #
> #  This file is part of the `OmnipathR` R package
> #
> #  Copyright
> #  2018-2024
> #  Saez Lab, Uniklinik RWTH Aachen, Heidelberg University
> #
> #  File author(s): Alberto Valdeolivas
> #                  Dénes Türei (turei.denes@gmail.com)
> #                  Attila Gábor
> #
> #  Distributed under the MIT (Expat) License.
> #  See accompanying file `LICENSE` or find a copy at
> #      https://directory.fsf.org/wiki/License:Expat
> #
> #  Website: https://r.omnipathdb.org/
> #  Git repo: https://github.com/saezlab/OmnipathR
> #
> 
> 
> library(testthat)
> library(OmnipathR)
[2025-11-15 03:03:30] [TRACE]   [OmnipathR] Reading JSON from `/home/biocbuild/.cache/OmnipathR/cache.json` (encoding: UTF-8).
[2025-11-15 03:03:30] [TRACE]   [OmnipathR] JSON validation successful: TRUE
[2025-11-15 03:03:30] [INFO]    [OmnipathR] Initialized cache: `/home/biocbuild/.cache/OmnipathR`.
[2025-11-15 03:03:30] [INFO]    [OmnipathR] Package `OmnipathR` packaged: NA
[2025-11-15 03:03:30] [INFO]    [OmnipathR] Package `OmnipathR` date/publication: 2025-11-14
[2025-11-15 03:03:30] [INFO]    [OmnipathR] Package `OmnipathR` built: R 4.5.1; ; 2025-11-14 20:10:11 UTC; unix
[2025-11-15 03:03:30] [INFO]    [OmnipathR] Package `OmnipathR` version: 3.18.1
[2025-11-15 03:03:30] [INFO]    [OmnipathR] Package `OmnipathR` repository: Bioconductor 3.22
[2025-11-15 03:03:30] [INFO]    [OmnipathR] Session info: [version=R version 4.5.1 Patched (2025-08-23 r88802); os=Ubuntu 24.04.3 LTS; system=x86_64, linux-gnu; ui=X11; language=C; collate=C; ctype=en_US.UTF-8; tz=America/New_York; date=2025-11-15; pandoc=2.7.3 @ /usr/bin/ (via rmarkdown); quarto=1.7.32 @ /usr/local/bin/quarto]
[2025-11-15 03:03:30] [INFO]    [OmnipathR] External libraries: [cairo=1.18.0; cairoFT=; pango=1.52.1; png=1.6.43; jpeg=8.0; tiff=LIBTIFF, Version 4.5.1; tcl=8.6.14; curl=8.5.0; zlib=1.3; bzlib=1.0.8, 13-Jul-2019; xz=5.4.5; deflate=1.19; PCRE=10.42 2022-12-11; ICU=74.2; TRE=TRE 0.8.0 R_fixes (BSD); iconv=glibc 2.39; readline=8.2; BLAS=/home/biocbuild/bbs-3.22-bioc/R/lib/libRblas.so; lapack=/usr/lib/x86_64-linux-gnu/lapack/liblapack.so.3.12.0; lapack_version=3.12.0]
[2025-11-15 03:03:31] [INFO]    [OmnipathR] Loaded packages: backports 1.5.0(2024-05-23); bit 4.6.0(2025-03-06); bit64 4.6.0-1(2025-01-16); blob 1.2.4(2023-03-17); brio 1.1.5(2024-04-24); cachem 1.1.0(2024-05-16); cellranger 1.1.0(2016-07-27); checkmate 2.3.3(2025-08-18); cli 3.6.5(2025-04-23); crayon 1.5.3(2024-06-20); curl 7.0.0(2025-08-19); DBI 1.2.3(2024-06-02); digest 0.6.38(2025-11-12); dplyr 1.1.4(2023-11-17); evaluate 1.0.5(2025-08-27); fastmap 1.2.0(2024-05-15); fs 1.6.6(2025-04-12); generics 0.1.4(2025-05-09); glue 1.8.0(2024-09-30); hms 1.1.4(2025-10-17); htmltools 0.5.8.1(2024-04-04); httr 1.4.7(2023-08-15); httr2 1.2.1(2025-07-22); igraph 2.2.1(2025-10-27); jsonlite 2.0.0(2025-03-27); knitr 1.50(2025-03-16); later 1.4.4(2025-08-27); lifecycle 1.0.4(2023-11-07); logger 0.4.1(2025-09-11); lubridate 1.9.4(2024-12-08); magrittr 2.0.4(2025-09-12); memoise 2.0.1(2021-11-26); OmnipathR 3.18.1(2025-11-14); pillar 1.11.1(2025-09-17); pkgconfig 2.0.3(2019-09-22); prettyunits 1.2.0(2023-09-24); progress 1.2.3(2023-12-06); purrr 1.2.0(2025-11-04); R.methodsS3 1.8.2(2022-06-13); R.oo 1.27.1(2025-05-02); R.utils 2.13.0(2025-02-24); R6 2.6.1(2025-02-15); rappdirs 0.3.3(2021-01-31); Rcpp 1.1.0(2025-07-02); readr 2.1.5(2024-01-10); readxl 1.4.5(2025-03-07); rlang 1.1.6(2025-04-11); rmarkdown 2.30(2025-09-28); RSQLite 2.4.4(2025-11-10); rvest 1.0.5(2025-08-29); sessioninfo 1.2.3(2025-02-05); stringi 1.8.7(2025-03-27); stringr 1.6.0(2025-11-04); testthat 3.3.0(2025-11-13); tibble 3.3.0(2025-06-08); tidyr 1.3.1(2024-01-24); tidyselect 1.2.1(2024-03-11); timechange 0.3.0(2024-01-18); tzdb 0.5.0(2025-03-15); vctrs 0.6.5(2023-12-01); withr 3.0.2(2024-10-28); xfun 0.54(2025-10-30); XML 3.99-0.20(2025-11-08); xml2 1.4.1(2025-10-27); yaml 2.3.10(2024-07-26); zip 2.3.3(2025-05-13)
[2025-11-15 03:03:31] [INFO]    [OmnipathR] CURL: version: 8.5.0; headers: 8.5.0; ssl_version: GnuTLS/3.8.3; libz_version: 1.3; libssh_version: libssh/0.10.6/openssl/zlib; libidn_version: 2.3.7; host: x86_64-pc-linux-gnu; protocols: dict, file, ftp, ftps, gopher, gophers, http, https, imap, imaps, ldap, ldaps, mqtt, pop3, pop3s, rtmp, rtmpe, rtmps, rtmpt, rtmpte, rtmpts, rtsp, scp, sftp, smb, smbs, smtp, smtps, telnet, tftp; ipv6: TRUE; http2: TRUE; idn: TRUE; url_parser: TRUE
[2025-11-15 03:03:31] [TRACE]   [OmnipathR] Running on a build server, wiping cache.
[2025-11-15 03:03:31] [TRACE]   [OmnipathR] Cache is at `/home/biocbuild/.cache/OmnipathR`.
[2025-11-15 03:03:31] [TRACE]   [OmnipathR] Contains 22 files.
[2025-11-15 03:03:31] [TRACE]   [OmnipathR] Cache is locked: FALSE.
[2025-11-15 03:03:31] [TRACE]   [OmnipathR] Reading JSON from `/home/biocbuild/.cache/OmnipathR/cache.json` (encoding: UTF-8).
[2025-11-15 03:03:31] [TRACE]   [OmnipathR] JSON validation successful: TRUE
[2025-11-15 03:03:31] [SUCCESS] [OmnipathR] Removing all cache contents from `/home/biocbuild/.cache/OmnipathR`.
[2025-11-15 03:03:31] [TRACE]   [OmnipathR] Pandoc version: `2.7.3`.
[2025-11-15 03:03:31] [TRACE]   [OmnipathR] Reading JSON from `/home/biocbuild/bbs-3.22-bioc/R/site-library/OmnipathR/db/db_def.json` (encoding: UTF-8).
[2025-11-15 03:03:31] [TRACE]   [OmnipathR] JSON validation successful: TRUE
[2025-11-15 03:03:31] [TRACE]   [OmnipathR] Reading JSON from `/home/biocbuild/bbs-3.22-bioc/R/site-library/OmnipathR/internal/magic_bytes.json` (encoding: UTF-8).
[2025-11-15 03:03:31] [TRACE]   [OmnipathR] JSON validation successful: TRUE
[2025-11-15 03:03:31] [TRACE]   [OmnipathR] Reading JSON from `/home/biocbuild/bbs-3.22-bioc/R/site-library/OmnipathR/internal/urls.json` (encoding: UTF-8).
[2025-11-15 03:03:31] [TRACE]   [OmnipathR] JSON validation successful: TRUE
[2025-11-15 03:03:31] [TRACE]   [OmnipathR] Reading JSON from `/home/biocbuild/bbs-3.22-bioc/R/site-library/OmnipathR/internal/id_types.json` (encoding: UTF-8).
[2025-11-15 03:03:31] [TRACE]   [OmnipathR] JSON validation successful: TRUE
[2025-11-15 03:03:31] [TRACE]   [OmnipathR] Cache locked: FALSE
> 
> test_check('OmnipathR')
[ FAIL 0 | WARN 12 | SKIP 0 | PASS 38 ]

[ FAIL 0 | WARN 12 | SKIP 0 | PASS 38 ]
> 
> proc.time()
   user  system elapsed 
 46.036   2.877 366.087 

Example timings

OmnipathR.Rcheck/OmnipathR-Ex.timings

nameusersystemelapsed
OmnipathR000
all_uniprot_acs0.0140.0030.018
all_uniprots 25.159 1.573293.626
ancestors0.0080.0000.009
annotated_network1.3970.1184.811
annotation_categories81.742 0.06383.284
annotation_resources0.1740.0171.090
annotations0.8250.0941.851
biomart_query1.2970.1705.762
bioplex10.010.000.01
bioplex20.0090.0000.010
bioplex30.0090.0000.008
bioplex_all0.0070.0010.008
bioplex_hct116_10.0070.0000.008
bma_motif_es0.8710.0821.981
bma_motif_vs0.3520.0171.112
chalmers_gem0.0080.0030.011
chalmers_gem_id_mapping_table0.0100.0000.009
chalmers_gem_id_type0.0020.0000.002
chalmers_gem_metabolites0.0080.0010.009
chalmers_gem_network0.0090.0000.009
chalmers_gem_raw0.0060.0020.008
chalmers_gem_reactions0.0080.0000.008
common_name0.1330.0000.133
complex_genes0.8650.0483.173
complex_resources0.1840.0150.946
complexes0.3260.0181.121
consensuspathdb_download000
consensuspathdb_raw_table0.0090.0000.009
cosmos_pkn000
curated_ligand_receptor_interactions12.559 1.05929.289
curated_ligrec_stats 66.692 4.592176.676
database_summary2.9850.2046.490
descendants0.0240.0020.050
ensembl_dataset0.0910.0030.110
ensembl_id_mapping_table 4.031 0.26719.942
ensembl_id_type0.0040.0000.004
ensembl_name0.5100.0260.663
ensembl_organisms 2.511 0.415284.447
ensembl_organisms_raw 1.887 0.404223.687
ensembl_orthology000
enzsub_graph2.2140.1884.949
enzsub_resources0.2090.0140.972
enzyme_substrate1.1320.0361.866
evex_download0.0060.0010.009
evidences000
extra_attr_values11.288 1.29115.421
extra_attrs6.5031.1337.667
extra_attrs_to_cols13.248 1.36514.626
filter_by_resource 7.728 0.33410.639
filter_extra_attrs23.231 4.54628.584
filter_intercell 6.452 0.39411.659
filter_intercell_network0.0160.0020.017
find_all_paths5.1300.1775.302
from_evidences000
get_db0.0000.0000.001
get_ontology_db0.0090.0010.009
giant_component 9.116 0.49612.878
go_annot_download11.865 0.69013.495
go_annot_slim000
go_ontology_download0.0080.0010.009
guide2pharma_download0.0080.0000.007
harmonizome_download0.0070.0000.007
has_extra_attrs7.1261.1048.239
hmdb_id_mapping_table0.0080.0010.008
hmdb_id_type0.0020.0000.002
hmdb_metabolite_fields0.0000.0000.001
hmdb_protein_fields000
hmdb_table0.0090.0000.008
homologene_download0.0080.0000.008
homologene_raw0.0550.0020.058
homologene_uniprot_orthology0.010.000.01
hpo_download2.7110.1253.147
htridb_download0.0070.0010.009
id_translation_resources000
id_types0.0420.0010.042
inbiomap_download0.0010.0000.000
inbiomap_raw000
interaction_datasets0.6690.0320.953
interaction_graph0.5070.0181.478
interaction_resources0.1280.0090.918
interaction_types0.0730.0020.075
intercell0.8610.0701.791
intercell_categories0.6890.0230.961
intercell_consensus_filter1.3710.0733.299
intercell_generic_categories0.0740.0010.076
intercell_network0.0080.0000.008
intercell_resources0.1750.0070.933
intercell_summary0.0920.0020.094
is_ontology_id000
is_swissprot0.0850.0010.086
is_trembl0.0580.0000.058
is_uniprot0.0080.0000.009
kegg_api_templates0.0000.0000.001
kegg_conv 1.406 0.08110.750
kegg_databases000
kegg_ddi0.6780.0342.013
kegg_find0.6620.0242.146
kegg_info0.0090.0000.009
kegg_link0.7350.0406.017
kegg_list0.7180.0321.730
kegg_open0.0080.0010.009
kegg_operations000
kegg_organism_codes0.0080.0140.021
kegg_organisms0.0170.0060.023
kegg_pathway_annotations000
kegg_pathway_download0.0090.0000.009
kegg_pathway_list0.0070.0010.008
kegg_pathways_download000
kegg_picture1.1750.0275.767
kegg_process0.0160.0010.016
kegg_query0.0070.0000.007
kegg_request0.0580.0040.062
kegg_rm_prefix0.7450.0505.902
kinasephos 1.003 0.07117.647
latin_name0.2610.0050.265
load_db0.0660.0120.078
metalinksdb_sqlite 0.925 0.15811.346
metalinksdb_table0.1970.0170.213
metalinksdb_tables0.0160.0000.016
ncbi_taxid0.2490.0020.250
nichenet_build_model000
nichenet_expression_data0.0070.0010.009
nichenet_gr_network0.0210.0020.024
nichenet_gr_network_evex0.0070.0010.008
nichenet_gr_network_harmonizome0.0070.0010.008
nichenet_gr_network_htridb0.0080.0000.007
nichenet_gr_network_omnipath14.053 0.49117.068
nichenet_gr_network_pathwaycommons0.0090.0000.009
nichenet_gr_network_regnetwork0.0060.0020.008
nichenet_gr_network_remap0.0070.0010.007
nichenet_gr_network_trrust0.0440.0010.045
nichenet_ligand_activities000
nichenet_ligand_target_links0.0000.0000.001
nichenet_ligand_target_matrix000
nichenet_lr_network0.0230.0010.024
nichenet_lr_network_guide2pharma0.0050.0020.008
nichenet_lr_network_omnipath0.0210.0010.023
nichenet_lr_network_ramilowski0.0070.0000.008
nichenet_main000
nichenet_networks0.0350.0040.039
nichenet_optimization000
nichenet_remove_orphan_ligands0.0200.0030.024
nichenet_results_dir000
nichenet_signaling_network0.0240.0000.024
nichenet_signaling_network_cpdb0.0060.0020.008
nichenet_signaling_network_evex0.0060.0020.008
nichenet_signaling_network_harmonizome0.0080.0000.008
nichenet_signaling_network_inbiomap000
nichenet_signaling_network_omnipath10.267 0.32613.432
nichenet_signaling_network_pathwaycommons0.0090.0000.009
nichenet_signaling_network_vinayagam0.0080.0000.008
nichenet_test0.0010.0000.000
nichenet_workarounds000
obo_parser0.0950.0060.147
oma_code0.1290.0030.131
oma_organisms0.1160.0090.125
oma_pairwise0.0090.0010.009
oma_pairwise_genesymbols0.0080.0010.009
oma_pairwise_translated0.0080.0010.009
omnipath-interactions29.669 1.66759.788
omnipath_cache_autoclean000
omnipath_cache_clean0.0070.0000.007
omnipath_cache_clean_db0.0870.0110.098
omnipath_cache_download_ready0.5750.0630.822
omnipath_cache_filter_versions0.0840.0070.106
omnipath_cache_get0.0610.0060.066
omnipath_cache_key0.0010.0000.001
omnipath_cache_latest_or_new0.0430.0050.047
omnipath_cache_load0.7500.0354.057
omnipath_cache_move_in0.1760.0100.200
omnipath_cache_remove0.0750.0040.092
omnipath_cache_save0.1910.0130.379
omnipath_cache_search0.0000.0000.001
omnipath_cache_set_ext0.0610.0060.081
omnipath_cache_update_status0.0730.0050.078
omnipath_cache_wipe000
omnipath_config_path0.0000.0010.001
omnipath_for_cosmos 9.754 0.34726.770
omnipath_load_config0.0010.0000.000
omnipath_log000
omnipath_logfile0.0020.0000.001
omnipath_msg0.0040.0010.004
omnipath_query3.4280.0753.500
omnipath_reset_config000
omnipath_save_config000
omnipath_set_cachedir0.0220.0010.022
omnipath_set_console_loglevel0.0040.0000.003
omnipath_set_logfile_loglevel0.0030.0000.003
omnipath_set_loglevel0.0010.0000.002
omnipath_show_db0.0580.0030.061
omnipath_unlock_cache_db000
only_from000
ontology_ensure_id0.0010.0000.001
ontology_ensure_name0.0010.0000.000
ontology_name_id0.0010.0000.001
organism_for0.1800.0020.182
pathwaycommons_download0.0010.0000.000
pivot_annotations 9.293 0.45819.216
preppi_download000
preppi_filter0.0000.0010.001
print_bma_motif_es0.6570.0521.741
print_bma_motif_vs0.2200.0140.984
print_interactions 5.982 0.21011.256
print_path_es0.9380.0522.842
print_path_vs2.6080.1326.144
pubmed_open4.0130.0564.067
query_info0.4730.0070.891
ramilowski_download0.0010.0000.001
ramp_id_mapping_table0.0010.0000.001
ramp_id_type0.0020.0000.002
ramp_sqlite0.0010.0000.001
ramp_table0.0000.0010.000
ramp_tables000
recon3d0.0020.0000.002
recon3d_raw0.0000.0000.001
recon3d_raw_vmh0.0000.0010.000
regnetwork_directions000
regnetwork_download0.0010.0000.001
relations_list_to_table0.0730.0010.122
relations_table_to_graph000
relations_table_to_list0.0500.0100.098
remap_dorothea_download0.0010.0000.001
remap_filtered000
remap_tf_target_download000
resource_info0.5180.0160.781
resources0.1180.0060.827
resources_colname1.1340.0253.691
resources_in3.4270.0663.498
show_network000
signed_ptms4.7550.0705.579
simplify_intercell_network0.0010.0000.001
static_table5.4750.1756.518
static_tables0.0410.0080.057
stitch_actions0.0000.0000.001
stitch_links0.0000.0000.001
stitch_network0.0010.0000.001
stitch_remove_prefixes0.0060.0010.007
swap_relations0.0810.0090.129
swissprots_only0.1680.0020.171
tfcensus_download0.5660.0160.742
translate_ids 1.085 0.04510.720
translate_ids_multi 8.004 0.30126.278
trembls_only0.1280.0010.129
trrust_download0.0000.0000.001
uniprot_full_id_mapping_table 0.941 0.04312.122
uniprot_genesymbol_cleanup000
uniprot_id_mapping_table0.0010.0000.000
uniprot_id_type0.0020.0000.001
uniprot_idmapping_id_types0.5000.0231.007
uniprot_organisms18.795 1.02722.997
unique_intercell_network0.0010.0000.001
unnest_evidences000
uploadlists_id_type0.0020.0000.002
vinayagam_download000
walk_ontology_tree0.0010.0000.001
with_extra_attrs11.962 1.14715.789
with_references0.9610.1422.936
zenodo_download0.0020.0000.001