| Back to Multiple platform build/check report for BioC 3.22: simplified long |
|
This page was generated on 2025-11-20 12:06 -0500 (Thu, 20 Nov 2025).
| Hostname | OS | Arch (*) | R version | Installed pkgs |
|---|---|---|---|---|
| nebbiolo2 | Linux (Ubuntu 24.04.3 LTS) | x86_64 | 4.5.2 (2025-10-31) -- "[Not] Part in a Rumble" | 4615 |
| merida1 | macOS 12.7.6 Monterey | x86_64 | 4.5.2 Patched (2025-11-05 r88990) -- "[Not] Part in a Rumble" | 4610 |
| kjohnson1 | macOS 13.7.5 Ventura | arm64 | 4.5.2 Patched (2025-11-04 r88984) -- "[Not] Part in a Rumble" | 4598 |
| taishan | Linux (openEuler 24.03 LTS) | aarch64 | 4.5.0 (2025-04-11) -- "How About a Twenty-Six" | 4668 |
| Click on any hostname to see more info about the system (e.g. compilers) (*) as reported by 'uname -p', except on Windows and Mac OS X | ||||
| Package 1505/2361 | Hostname | OS / Arch | INSTALL | BUILD | CHECK | BUILD BIN | ||||||||
| OmnipathR 3.18.2 (landing page) Denes Turei
| nebbiolo2 | Linux (Ubuntu 24.04.3 LTS) / x86_64 | OK | OK | ERROR | |||||||||
| merida1 | macOS 12.7.6 Monterey / x86_64 | OK | OK | OK | OK | |||||||||
| kjohnson1 | macOS 13.7.5 Ventura / arm64 | OK | OK | OK | OK | |||||||||
| taishan | Linux (openEuler 24.03 LTS) / aarch64 | OK | OK | ERROR | ||||||||||
|
To the developers/maintainers of the OmnipathR package: - Allow up to 24 hours (and sometimes 48 hours) for your latest push to git@git.bioconductor.org:packages/OmnipathR.git to reflect on this report. See Troubleshooting Build Report for more information. - Use the following Renviron settings to reproduce errors and warnings. - If 'R CMD check' started to fail recently on the Linux builder(s) over a missing dependency, add the missing dependency to 'Suggests:' in your DESCRIPTION file. See Renviron.bioc for more information. |
| Package: OmnipathR |
| Version: 3.18.2 |
| Command: /Library/Frameworks/R.framework/Resources/bin/R CMD check --install=check:OmnipathR.install-out.txt --library=/Library/Frameworks/R.framework/Resources/library --no-vignettes --timings OmnipathR_3.18.2.tar.gz |
| StartedAt: 2025-11-18 10:23:01 -0500 (Tue, 18 Nov 2025) |
| EndedAt: 2025-11-18 10:38:05 -0500 (Tue, 18 Nov 2025) |
| EllapsedTime: 903.7 seconds |
| RetCode: 0 |
| Status: OK |
| CheckDir: OmnipathR.Rcheck |
| Warnings: 0 |
##############################################################################
##############################################################################
###
### Running command:
###
### /Library/Frameworks/R.framework/Resources/bin/R CMD check --install=check:OmnipathR.install-out.txt --library=/Library/Frameworks/R.framework/Resources/library --no-vignettes --timings OmnipathR_3.18.2.tar.gz
###
##############################################################################
##############################################################################
* using log directory ‘/Users/biocbuild/bbs-3.22-bioc/meat/OmnipathR.Rcheck’
* using R version 4.5.2 Patched (2025-11-04 r88984)
* using platform: aarch64-apple-darwin20
* R was compiled by
Apple clang version 16.0.0 (clang-1600.0.26.6)
GNU Fortran (GCC) 14.2.0
* running under: macOS Ventura 13.7.8
* using session charset: UTF-8
* using option ‘--no-vignettes’
* checking for file ‘OmnipathR/DESCRIPTION’ ... OK
* checking extension type ... Package
* this is package ‘OmnipathR’ version ‘3.18.2’
* package encoding: UTF-8
* checking package namespace information ... OK
* checking package dependencies ... INFO
Imports includes 35 non-default packages.
Importing from so many packages makes the package vulnerable to any of
them becoming unavailable. Move as many as possible to Suggests and
use conditionally.
* checking if this is a source package ... OK
* checking if there is a namespace ... OK
* checking for hidden files and directories ... OK
* checking for portable file names ... OK
* checking for sufficient/correct file permissions ... OK
* checking whether package ‘OmnipathR’ can be installed ... OK
* checking installed package size ... OK
* checking package directory ... OK
* checking DESCRIPTION meta-information ... OK
* checking top-level files ... OK
* checking for left-over files ... OK
* checking index information ... OK
* checking package subdirectories ... OK
* checking code files for non-ASCII characters ... OK
* checking R files for syntax errors ... OK
* checking whether the package can be loaded ... OK
* checking whether the package can be loaded with stated dependencies ... OK
* checking whether the package can be unloaded cleanly ... OK
* checking whether the namespace can be loaded with stated dependencies ... OK
* checking whether the namespace can be unloaded cleanly ... OK
* checking whether startup messages can be suppressed ... NOTE
[2025-11-18 10:23:20] [TRACE] [OmnipathR] Reading JSON from `/Users/biocbuild/Library/Caches/OmnipathR/cache.json` (encoding: UTF-8).
[2025-11-18 10:23:20] [TRACE] [OmnipathR] JSON validation successful: TRUE
[2025-11-18 10:23:20] [INFO] [OmnipathR] Initialized cache: `/Users/biocbuild/Library/Caches/OmnipathR`.
[2025-11-18 10:23:20] [INFO] [OmnipathR] Package `OmnipathR` packaged: NA
[2025-11-18 10:23:20] [INFO] [OmnipathR] Package `OmnipathR` date/publication: 2025-11-17
[2025-11-18 10:23:20] [INFO] [OmnipathR] Package `OmnipathR` built: R 4.5.2; ; 2025-11-17 22:04:47 UTC; unix
[2025-11-18 10:23:20] [INFO] [OmnipathR] Package `OmnipathR` version: 3.18.2
[2025-11-18 10:23:20] [INFO] [OmnipathR] Package `OmnipathR` repository: Bioconductor 3.22
[2025-11-18 10:23:20] [INFO] [OmnipathR] Session info: [version=R version 4.5.2 Patched (2025-11-04 r88984); os=macOS Ventura 13.7.8; system=aarch64, darwin20; ui=X11; language=(EN); collate=C; ctype=en_US.UTF-8; tz=America/New_York; date=2025-11-18; pandoc=3.6.4 @ /opt/homebrew/bin/ (via rmarkdown); quarto=1.4.553 @ /usr/local/bin/quarto]
[2025-11-18 10:23:20] [INFO] [OmnipathR] External libraries: [cairo=1.17.6; cairoFT=; pango=1.50.14; png=1.6.44; jpeg=9.5; tiff=LIBTIFF, Version 4.5.0; tcl=8.6.13; curl=8.7.1; zlib=1.2.11; bzlib=1.0.8, 13-Jul-2019; xz=5.6.3; deflate=1.23; PCRE=10.44 2024-06-07; ICU=70.2; TRE=TRE 0.8.0 R_fixes (BSD); iconv=Apple or GNU libiconv 1.11 /Library/Frameworks/R.framework/Versions/4.5-arm64/Resources/lib/libR.dylib; readline=5.2; BLAS=/System/Library/Frameworks/Accelerate.framework/Versions/A/Frameworks/vecLib.framework/Versions/A/libBLAS.dylib; lapack=/Library/Frameworks/R.framework/Versions/4.5-arm64/Resources/lib/libRlapack.dylib; lapack_version=3.12.1]
[2025-11-18 10:23:21] [INFO] [OmnipathR] Loaded packages: backports 1.5.0(2024-05-23); bit 4.6.0(2025-03-06); bit64 4.6.0-1(2025-01-16); blob 1.2.4(2023-03-17); cachem 1.1.0(2024-05-16); cellranger 1.1.0(2016-07-27); checkmate 2.3.3(2025-08-18); chromote 0.5.1(2025-04-24); cli 3.6.5(2025-04-23); crayon 1.5.3(2024-06-20); curl 7.0.0(2025-08-19); DBI 1.2.3(2024-06-02); digest 0.6.38(2025-11-12); dplyr 1.1.4(2023-11-17); evaluate 1.0.5(2025-08-27); fastmap 1.2.0(2024-05-15); fs 1.6.6(2025-04-12); generics 0.1.4(2025-05-09); glue 1.8.0(2024-09-30); hms 1.1.4(2025-10-17); htmltools 0.5.8.1(2024-04-04); httr 1.4.7(2023-08-15); httr2 1.2.1(2025-07-22); igraph 2.2.1(2025-10-27); jsonlite 2.0.0(2025-03-27); knitr 1.50(2025-03-16); later 1.4.4(2025-08-27); lifecycle 1.0.4(2023-11-07); logger 0.4.1(2025-09-11); lubridate 1.9.4(2024-12-08); magrittr 2.0.4(2025-09-12); memoise 2.0.1(2021-11-26); OmnipathR 3.18.2(2025-11-17); otel 0.2.0(2025-08-29); pillar 1.11.1(2025-09-17); pkgconfig 2.0.3(2019-09-22); prettyunits 1.2.0(2023-09-24); processx 3.8.6(2025-02-21); progress 1.2.3(2023-12-06); promises 1.5.0(2025-11-01); ps 1.9.1(2025-04-12); purrr 1.2.0(2025-11-04); R.methodsS3 1.8.2(2022-06-13); R.oo 1.27.1(2025-05-02); R.utils 2.13.0(2025-02-24); R6 2.6.1(2025-02-15); rappdirs 0.3.3(2021-01-31); Rcpp 1.1.0(2025-07-02); readr 2.1.6(2025-11-14); readxl 1.4.5(2025-03-07); rlang 1.1.6(2025-04-11); rmarkdown 2.30(2025-09-28); RSQLite 2.4.4(2025-11-10); rvest 1.0.5(2025-08-29); sessioninfo 1.2.3(2025-02-05); stringi 1.8.7(2025-03-27); stringr 1.6.0(2025-11-04); tibble 3.3.0(2025-06-08); tidyr 1.3.1(2024-01-24); tidyselect 1.2.1(2024-03-11); timechange 0.3.0(2024-01-18); tzdb 0.5.0(2025-03-15); vctrs 0.6.5(2023-12-01); websocket 1.4.4(2025-04-10); withr 3.0.2(2024-10-28); xfun 0.54(2025-10-30); XML 3.99-0.20(2025-11-08); xml2 1.5.0(2025-11-17); yaml 2.3.10(2024-07-26); zip 2.3.3(2025-05-13)
[2025-11-18 10:23:21] [INFO] [OmnipathR] CURL: version: 8.14.1; headers: 8.14.1; ssl_version: LibreSSL/3.3.6 (SecureTransport); libz_version: 1.2.11; libssh_version: NA; libidn_version: NA; host: aarch64-apple-darwin23.6.0; protocols: dict, file, ftp, ftps, gopher, gophers, http, https, imap, imaps, ldap, ldaps, mqtt, pop3, pop3s, rtsp, smb, smbs, smtp, smtps, telnet, tftp, ws, wss; ipv6: TRUE; http2: TRUE; idn: FALSE; url_parser: TRUE
[2025-11-18 10:23:21] [TRACE] [OmnipathR] Running on a build server, wiping cache.
[2025-11-18 10:23:21] [TRACE] [OmnipathR] Cache is at `/Users/biocbuild/Library/Caches/OmnipathR`.
[2025-11-18 10:23:21] [TRACE] [OmnipathR] Contains 1 files.
[2025-11-18 10:23:21] [TRACE] [OmnipathR] Cache is locked: FALSE.
[2025-11-18 10:23:21] [TRACE] [OmnipathR] Reading JSON from `/Users/biocbuild/Library/Caches/OmnipathR/cache.json` (encoding: UTF-8).
[2025-11-18 10:23:21] [TRACE] [OmnipathR] JSON validation successful: TRUE
[2025-11-18 10:23:21] [SUCCESS] [OmnipathR] Removing all cache contents from `/Users/biocbuild/Library/Caches/OmnipathR`.
[2025-11-18 10:23:21] [TRACE] [OmnipathR] Pandoc version: `3.6.4`.
[2025-11-18 10:23:21] [TRACE] [OmnipathR] Reading JSON from `/Library/Frameworks/R.framework/Versions/4.5-arm64/Resources/library/OmnipathR/db/db_def.json` (encoding: UTF-8).
[2025-11-18 10:23:21] [TRACE] [OmnipathR] JSON validation successful: TRUE
[2025-11-18 10:23:21] [TRACE] [OmnipathR] Reading JSON from `/Library/Frameworks/R.framework/Versions/4.5-arm64/Resources/library/OmnipathR/internal/magic_bytes.json` (encoding: UTF-8).
[2025-11-18 10:23:21] [TRACE] [OmnipathR] JSON validation successful: TRUE
[2025-11-18 10:23:21] [TRACE] [OmnipathR] Reading JSON from `/Library/Frameworks/R.framework/Versions/4.5-arm64/Resources/library/OmnipathR/internal/urls.json` (encoding: UTF-8).
[2025-11-18 10:23:21] [TRACE] [OmnipathR] JSON validation successful: TRUE
[2025-11-18 10:23:21] [TRACE] [OmnipathR] Reading JSON from `/Library/Frameworks/R.framework/Versions/4.5-arm64/Resources/library/OmnipathR/internal/id_types.json` (encoding: UTF-8).
[2025-11-18 10:23:21] [TRACE] [OmnipathR] JSON validation successful: TRUE
[2025-11-18 10:23:21] [TRACE] [OmnipathR] Cache locked: FALSE
It looks like this package (or a package it requires) has a startup
message which cannot be suppressed: see ?packageStartupMessage.
* checking dependencies in R code ... OK
* checking S3 generic/method consistency ... OK
* checking replacement functions ... OK
* checking foreign function calls ... OK
* checking R code for possible problems ... NOTE
[2025-11-18 10:23:37] [TRACE] [OmnipathR] Reading JSON from `/Users/biocbuild/Library/Caches/OmnipathR/cache.json` (encoding: UTF-8).
[2025-11-18 10:23:37] [TRACE] [OmnipathR] JSON validation successful: TRUE
[2025-11-18 10:23:37] [INFO] [OmnipathR] Initialized cache: `/Users/biocbuild/Library/Caches/OmnipathR`.
[2025-11-18 10:23:37] [INFO] [OmnipathR] Package `OmnipathR` packaged: NA
[2025-11-18 10:23:37] [INFO] [OmnipathR] Package `OmnipathR` date/publication: 2025-11-17
[2025-11-18 10:23:37] [INFO] [OmnipathR] Package `OmnipathR` built: R 4.5.2; ; 2025-11-17 22:04:47 UTC; unix
[2025-11-18 10:23:37] [INFO] [OmnipathR] Package `OmnipathR` version: 3.18.2
[2025-11-18 10:23:37] [INFO] [OmnipathR] Package `OmnipathR` repository: Bioconductor 3.22
[2025-11-18 10:23:38] [INFO] [OmnipathR] Session info: [version=R version 4.5.2 Patched (2025-11-04 r88984); os=macOS Ventura 13.7.8; system=aarch64, darwin20; ui=X11; language=(EN); collate=C; ctype=en_US.UTF-8; tz=America/New_York; date=2025-11-18; pandoc=3.6.4 @ /opt/homebrew/bin/ (via rmarkdown); quarto=1.4.553 @ /usr/local/bin/quarto]
[2025-11-18 10:23:38] [INFO] [OmnipathR] External libraries: [cairo=1.17.6; cairoFT=; pango=1.50.14; png=1.6.44; jpeg=9.5; tiff=LIBTIFF, Version 4.5.0; tcl=8.6.13; curl=8.7.1; zlib=1.2.11; bzlib=1.0.8, 13-Jul-2019; xz=5.6.3; deflate=1.23; PCRE=10.44 2024-06-07; ICU=70.2; TRE=TRE 0.8.0 R_fixes (BSD); iconv=Apple or GNU libiconv 1.11 /Library/Frameworks/R.framework/Versions/4.5-arm64/Resources/lib/libR.dylib; readline=5.2; BLAS=/System/Library/Frameworks/Accelerate.framework/Versions/A/Frameworks/vecLib.framework/Versions/A/libBLAS.dylib; lapack=/Library/Frameworks/R.framework/Versions/4.5-arm64/Resources/lib/libRlapack.dylib; lapack_version=3.12.1]
[2025-11-18 10:23:38] [INFO] [OmnipathR] Loaded packages: backports 1.5.0(2024-05-23); bit 4.6.0(2025-03-06); bit64 4.6.0-1(2025-01-16); blob 1.2.4(2023-03-17); cachem 1.1.0(2024-05-16); cellranger 1.1.0(2016-07-27); checkmate 2.3.3(2025-08-18); chromote 0.5.1(2025-04-24); cli 3.6.5(2025-04-23); crayon 1.5.3(2024-06-20); curl 7.0.0(2025-08-19); DBI 1.2.3(2024-06-02); digest 0.6.38(2025-11-12); dplyr 1.1.4(2023-11-17); evaluate 1.0.5(2025-08-27); fastmap 1.2.0(2024-05-15); fs 1.6.6(2025-04-12); generics 0.1.4(2025-05-09); glue 1.8.0(2024-09-30); hms 1.1.4(2025-10-17); htmltools 0.5.8.1(2024-04-04); httr 1.4.7(2023-08-15); httr2 1.2.1(2025-07-22); igraph 2.2.1(2025-10-27); jsonlite 2.0.0(2025-03-27); knitr 1.50(2025-03-16); later 1.4.4(2025-08-27); lifecycle 1.0.4(2023-11-07); logger 0.4.1(2025-09-11); lubridate 1.9.4(2024-12-08); magrittr 2.0.4(2025-09-12); memoise 2.0.1(2021-11-26); OmnipathR 3.18.2(2025-11-17); otel 0.2.0(2025-08-29); pillar 1.11.1(2025-09-17); pkgconfig 2.0.3(2019-09-22); prettyunits 1.2.0(2023-09-24); processx 3.8.6(2025-02-21); progress 1.2.3(2023-12-06); promises 1.5.0(2025-11-01); ps 1.9.1(2025-04-12); purrr 1.2.0(2025-11-04); R.methodsS3 1.8.2(2022-06-13); R.oo 1.27.1(2025-05-02); R.utils 2.13.0(2025-02-24); R6 2.6.1(2025-02-15); rappdirs 0.3.3(2021-01-31); Rcpp 1.1.0(2025-07-02); readr 2.1.6(2025-11-14); readxl 1.4.5(2025-03-07); rlang 1.1.6(2025-04-11); rmarkdown 2.30(2025-09-28); RSQLite 2.4.4(2025-11-10); rvest 1.0.5(2025-08-29); sessioninfo 1.2.3(2025-02-05); stringi 1.8.7(2025-03-27); stringr 1.6.0(2025-11-04); tibble 3.3.0(2025-06-08); tidyr 1.3.1(2024-01-24); tidyselect 1.2.1(2024-03-11); timechange 0.3.0(2024-01-18); tzdb 0.5.0(2025-03-15); vctrs 0.6.5(2023-12-01); websocket 1.4.4(2025-04-10); withr 3.0.2(2024-10-28); xfun 0.54(2025-10-30); XML 3.99-0.20(2025-11-08); xml2 1.5.0(2025-11-17); yaml 2.3.10(2024-07-26); zip 2.3.3(2025-05-13)
[2025-11-18 10:23:38] [INFO] [OmnipathR] CURL: version: 8.14.1; headers: 8.14.1; ssl_version: LibreSSL/3.3.6 (SecureTransport); libz_version: 1.2.11; libssh_version: NA; libidn_version: NA; host: aarch64-apple-darwin23.6.0; protocols: dict, file, ftp, ftps, gopher, gophers, http, https, imap, imaps, ldap, ldaps, mqtt, pop3, pop3s, rtsp, smb, smbs, smtp, smtps, telnet, tftp, ws, wss; ipv6: TRUE; http2: TRUE; idn: FALSE; url_parser: TRUE
[2025-11-18 10:23:38] [TRACE] [OmnipathR] Running on a build server, wiping cache.
[2025-11-18 10:23:38] [TRACE] [OmnipathR] Cache is at `/Users/biocbuild/Library/Caches/OmnipathR`.
[2025-11-18 10:23:38] [TRACE] [OmnipathR] Contains 1 files.
[2025-11-18 10:23:38] [TRACE] [OmnipathR] Cache is locked: FALSE.
[2025-11-18 10:23:38] [TRACE] [OmnipathR] Reading JSON from `/Users/biocbuild/Library/Caches/OmnipathR/cache.json` (encoding: UTF-8).
[2025-11-18 10:23:38] [TRACE] [OmnipathR] JSON validation successful: TRUE
[2025-11-18 10:23:38] [SUCCESS] [OmnipathR] Removing all cache contents from `/Users/biocbuild/Library/Caches/OmnipathR`.
[2025-11-18 10:23:38] [TRACE] [OmnipathR] Pandoc version: `3.6.4`.
[2025-11-18 10:23:38] [TRACE] [OmnipathR] Reading JSON from `/Library/Frameworks/R.framework/Versions/4.5-arm64/Resources/library/OmnipathR/db/db_def.json` (encoding: UTF-8).
[2025-11-18 10:23:38] [TRACE] [OmnipathR] JSON validation successful: TRUE
[2025-11-18 10:23:38] [TRACE] [OmnipathR] Reading JSON from `/Library/Frameworks/R.framework/Versions/4.5-arm64/Resources/library/OmnipathR/internal/magic_bytes.json` (encoding: UTF-8).
[2025-11-18 10:23:38] [TRACE] [OmnipathR] JSON validation successful: TRUE
[2025-11-18 10:23:38] [TRACE] [OmnipathR] Reading JSON from `/Library/Frameworks/R.framework/Versions/4.5-arm64/Resources/library/OmnipathR/internal/urls.json` (encoding: UTF-8).
[2025-11-18 10:23:38] [TRACE] [OmnipathR] JSON validation successful: TRUE
[2025-11-18 10:23:38] [TRACE] [OmnipathR] Reading JSON from `/Library/Frameworks/R.framework/Versions/4.5-arm64/Resources/library/OmnipathR/internal/id_types.json` (encoding: UTF-8).
[2025-11-18 10:23:38] [TRACE] [OmnipathR] JSON validation successful: TRUE
[2025-11-18 10:23:38] [TRACE] [OmnipathR] Cache locked: FALSE
cosmos_ksn: no visible binding for global variable ‘enzyme_genesymbol’
Undefined global functions or variables:
enzyme_genesymbol
* checking Rd files ... OK
* checking Rd metadata ... OK
* checking Rd cross-references ... OK
* checking for missing documentation entries ... OK
* checking for code/documentation mismatches ... OK
* checking Rd \usage sections ... OK
* checking Rd contents ... OK
* checking for unstated dependencies in examples ... OK
* checking R/sysdata.rda ... OK
* checking files in ‘vignettes’ ... OK
* checking examples ... OK
Examples with CPU (user + system) or elapsed time > 5s
user system elapsed
annotation_categories 41.944 0.132 48.997
filter_extra_attrs 19.412 7.492 91.252
curated_ligrec_stats 19.987 2.816 50.164
omnipath-interactions 17.448 1.598 44.637
all_uniprots 12.975 1.755 47.494
extra_attrs_to_cols 9.822 2.447 27.551
uniprot_organisms 9.949 1.472 35.032
extra_attr_values 8.706 2.383 25.095
with_extra_attrs 7.585 1.715 27.217
nichenet_signaling_network_omnipath 7.574 0.747 17.734
nichenet_gr_network_omnipath 7.328 0.866 19.836
go_annot_download 7.220 0.502 9.151
extra_attrs 5.367 1.984 18.163
omnipath_for_cosmos 6.182 0.542 28.298
pivot_annotations 5.838 0.387 15.360
filter_by_resource 5.566 0.449 9.985
giant_component 5.139 0.555 7.941
has_extra_attrs 3.881 1.500 12.219
translate_ids_multi 4.954 0.418 25.205
print_interactions 3.623 0.280 7.774
curated_ligand_receptor_interactions 3.067 0.650 8.451
find_all_paths 3.247 0.259 5.146
ensembl_id_mapping_table 1.140 0.123 19.112
kegg_conv 0.763 0.098 11.557
uniprot_full_id_mapping_table 0.576 0.117 13.948
translate_ids 0.525 0.081 12.531
kinasephos 0.512 0.064 13.567
kegg_link 0.345 0.044 5.797
* checking for unstated dependencies in ‘tests’ ... OK
* checking tests ...
Running ‘testthat.R’
OK
* checking for unstated dependencies in vignettes ... OK
* checking package vignettes ... OK
* checking running R code from vignettes ... SKIPPED
* checking re-building of vignette outputs ... SKIPPED
* checking PDF version of manual ... OK
* DONE
Status: 2 NOTEs
See
‘/Users/biocbuild/bbs-3.22-bioc/meat/OmnipathR.Rcheck/00check.log’
for details.
OmnipathR.Rcheck/00install.out
############################################################################## ############################################################################## ### ### Running command: ### ### /Library/Frameworks/R.framework/Resources/bin/R CMD INSTALL OmnipathR ### ############################################################################## ############################################################################## * installing to library ‘/Library/Frameworks/R.framework/Versions/4.5-arm64/Resources/library’ * installing *source* package ‘OmnipathR’ ... ** this is package ‘OmnipathR’ version ‘3.18.2’ ** using staged installation ** R ** inst ** byte-compile and prepare package for lazy loading ** help *** installing help indices *** copying figures ** building package indices ** installing vignettes ** testing if installed package can be loaded from temporary location [2025-11-17 17:04:52] [INFO] [OmnipathR] Setting up new cache directory `/Users/biocbuild/Library/Caches/OmnipathR`. [2025-11-17 17:04:52] [TRACE] [OmnipathR] Reading JSON from `/Users/biocbuild/Library/Caches/OmnipathR/cache.json` (encoding: UTF-8). [2025-11-17 17:04:52] [TRACE] [OmnipathR] JSON validation successful: TRUE [2025-11-17 17:04:52] [INFO] [OmnipathR] Initialized cache: `/Users/biocbuild/Library/Caches/OmnipathR`. [2025-11-17 17:04:52] [INFO] [OmnipathR] Package `OmnipathR` packaged: NA [2025-11-17 17:04:52] [INFO] [OmnipathR] Package `OmnipathR` date/publication: 2025-11-17 [2025-11-17 17:04:52] [INFO] [OmnipathR] Package `OmnipathR` built: R 4.5.2; ; 2025-11-17 22:04:47 UTC; unix [2025-11-17 17:04:52] [INFO] [OmnipathR] Package `OmnipathR` version: 3.18.2 [2025-11-17 17:04:52] [INFO] [OmnipathR] Package `OmnipathR` repository: Bioconductor 3.22 [2025-11-17 17:04:55] [INFO] [OmnipathR] Session info: [version=R version 4.5.2 Patched (2025-11-04 r88984); os=macOS Ventura 13.7.8; system=aarch64, darwin20; ui=X11; language=(EN); collate=C; ctype=en_US.UTF-8; tz=America/New_York; date=2025-11-17; pandoc=3.6.4 @ /opt/homebrew/bin/ (via rmarkdown); quarto=1.4.553 @ /usr/local/bin/quarto] [2025-11-17 17:04:56] [INFO] [OmnipathR] External libraries: [cairo=1.17.6; cairoFT=; pango=1.50.14; png=1.6.44; jpeg=9.5; tiff=LIBTIFF, Version 4.5.0; tcl=8.6.13; curl=8.7.1; zlib=1.2.11; bzlib=1.0.8, 13-Jul-2019; xz=5.6.3; deflate=1.23; PCRE=10.44 2024-06-07; ICU=70.2; TRE=TRE 0.8.0 R_fixes (BSD); iconv=Apple or GNU libiconv 1.11 /Library/Frameworks/R.framework/Versions/4.5-arm64/Resources/lib/libR.dylib; readline=5.2; BLAS=/System/Library/Frameworks/Accelerate.framework/Versions/A/Frameworks/vecLib.framework/Versions/A/libBLAS.dylib; lapack=/Library/Frameworks/R.framework/Versions/4.5-arm64/Resources/lib/libRlapack.dylib; lapack_version=3.12.1] [2025-11-17 17:04:56] [INFO] [OmnipathR] Loaded packages: backports 1.5.0(2024-05-23); bit 4.6.0(2025-03-06); bit64 4.6.0-1(2025-01-16); blob 1.2.4(2023-03-17); cachem 1.1.0(2024-05-16); cellranger 1.1.0(2016-07-27); checkmate 2.3.3(2025-08-18); chromote 0.5.1(2025-04-24); cli 3.6.5(2025-04-23); crayon 1.5.3(2024-06-20); curl 7.0.0(2025-08-19); DBI 1.2.3(2024-06-02); digest 0.6.38(2025-11-12); dplyr 1.1.4(2023-11-17); evaluate 1.0.5(2025-08-27); fastmap 1.2.0(2024-05-15); fs 1.6.6(2025-04-12); generics 0.1.4(2025-05-09); glue 1.8.0(2024-09-30); hms 1.1.4(2025-10-17); htmltools 0.5.8.1(2024-04-04); httr 1.4.7(2023-08-15); httr2 1.2.1(2025-07-22); igraph 2.2.1(2025-10-27); jsonlite 2.0.0(2025-03-27); knitr 1.50(2025-03-16); later 1.4.4(2025-08-27); lifecycle 1.0.4(2023-11-07); logger 0.4.1(2025-09-11); lubridate 1.9.4(2024-12-08); magrittr 2.0.4(2025-09-12); memoise 2.0.1(2021-11-26); OmnipathR 3.18.2(2025-11-17); otel 0.2.0(2025-08-29); pillar 1.11.1(2025-09-17); pkgconfig 2.0.3(2019-09-22); prettyunits 1.2.0(2023-09-24); processx 3.8.6(2025-02-21); progress 1.2.3(2023-12-06); promises 1.5.0(2025-11-01); ps 1.9.1(2025-04-12); purrr 1.2.0(2025-11-04); R.methodsS3 1.8.2(2022-06-13); R.oo 1.27.1(2025-05-02); R.utils 2.13.0(2025-02-24); R6 2.6.1(2025-02-15); rappdirs 0.3.3(2021-01-31); Rcpp 1.1.0(2025-07-02); readr 2.1.5(2024-01-10); readxl 1.4.5(2025-03-07); rlang 1.1.6(2025-04-11); rmarkdown 2.30(2025-09-28); RSQLite 2.4.4(2025-11-10); rvest 1.0.5(2025-08-29); sessioninfo 1.2.3(2025-02-05); stringi 1.8.7(2025-03-27); stringr 1.6.0(2025-11-04); tibble 3.3.0(2025-06-08); tidyr 1.3.1(2024-01-24); tidyselect 1.2.1(2024-03-11); timechange 0.3.0(2024-01-18); tzdb 0.5.0(2025-03-15); vctrs 0.6.5(2023-12-01); websocket 1.4.4(2025-04-10); withr 3.0.2(2024-10-28); xfun 0.54(2025-10-30); XML 3.99-0.20(2025-11-08); xml2 1.5.0(2025-11-17); yaml 2.3.10(2024-07-26); zip 2.3.3(2025-05-13) [2025-11-17 17:04:56] [INFO] [OmnipathR] CURL: version: 8.14.1; headers: 8.14.1; ssl_version: LibreSSL/3.3.6 (SecureTransport); libz_version: 1.2.11; libssh_version: NA; libidn_version: NA; host: aarch64-apple-darwin23.6.0; protocols: dict, file, ftp, ftps, gopher, gophers, http, https, imap, imaps, ldap, ldaps, mqtt, pop3, pop3s, rtsp, smb, smbs, smtp, smtps, telnet, tftp, ws, wss; ipv6: TRUE; http2: TRUE; idn: FALSE; url_parser: TRUE [2025-11-17 17:04:56] [TRACE] [OmnipathR] Running on a build server, wiping cache. [2025-11-17 17:04:56] [TRACE] [OmnipathR] Cache is at `/Users/biocbuild/Library/Caches/OmnipathR`. [2025-11-17 17:04:56] [TRACE] [OmnipathR] Contains 1 files. [2025-11-17 17:04:56] [TRACE] [OmnipathR] Cache is locked: FALSE. [2025-11-17 17:04:56] [TRACE] [OmnipathR] Reading JSON from `/Users/biocbuild/Library/Caches/OmnipathR/cache.json` (encoding: UTF-8). [2025-11-17 17:04:56] [TRACE] [OmnipathR] JSON validation successful: TRUE [2025-11-17 17:04:56] [SUCCESS] [OmnipathR] Removing all cache contents from `/Users/biocbuild/Library/Caches/OmnipathR`. [2025-11-17 17:04:56] [TRACE] [OmnipathR] Pandoc version: `3.6.4`. [2025-11-17 17:04:56] [TRACE] [OmnipathR] Reading JSON from `/Library/Frameworks/R.framework/Versions/4.5-arm64/Resources/library/00LOCK-OmnipathR/00new/OmnipathR/db/db_def.json` (encoding: UTF-8). [2025-11-17 17:04:56] [TRACE] [OmnipathR] JSON validation successful: TRUE [2025-11-17 17:04:56] [TRACE] [OmnipathR] Reading JSON from `/Library/Frameworks/R.framework/Versions/4.5-arm64/Resources/library/00LOCK-OmnipathR/00new/OmnipathR/internal/magic_bytes.json` (encoding: UTF-8). [2025-11-17 17:04:56] [TRACE] [OmnipathR] JSON validation successful: TRUE [2025-11-17 17:04:56] [TRACE] [OmnipathR] Reading JSON from `/Library/Frameworks/R.framework/Versions/4.5-arm64/Resources/library/00LOCK-OmnipathR/00new/OmnipathR/internal/urls.json` (encoding: UTF-8). [2025-11-17 17:04:56] [TRACE] [OmnipathR] JSON validation successful: TRUE [2025-11-17 17:04:56] [TRACE] [OmnipathR] Reading JSON from `/Library/Frameworks/R.framework/Versions/4.5-arm64/Resources/library/00LOCK-OmnipathR/00new/OmnipathR/internal/id_types.json` (encoding: UTF-8). [2025-11-17 17:04:56] [TRACE] [OmnipathR] JSON validation successful: TRUE [2025-11-17 17:04:56] [TRACE] [OmnipathR] Cache locked: FALSE ** testing if installed package can be loaded from final location [2025-11-17 17:04:57] [TRACE] [OmnipathR] Reading JSON from `/Users/biocbuild/Library/Caches/OmnipathR/cache.json` (encoding: UTF-8). [2025-11-17 17:04:57] [TRACE] [OmnipathR] JSON validation successful: TRUE [2025-11-17 17:04:57] [INFO] [OmnipathR] Initialized cache: `/Users/biocbuild/Library/Caches/OmnipathR`. [2025-11-17 17:04:57] [INFO] [OmnipathR] Package `OmnipathR` packaged: NA [2025-11-17 17:04:57] [INFO] [OmnipathR] Package `OmnipathR` date/publication: 2025-11-17 [2025-11-17 17:04:57] [INFO] [OmnipathR] Package `OmnipathR` built: R 4.5.2; ; 2025-11-17 22:04:47 UTC; unix [2025-11-17 17:04:57] [INFO] [OmnipathR] Package `OmnipathR` version: 3.18.2 [2025-11-17 17:04:57] [INFO] [OmnipathR] Package `OmnipathR` repository: Bioconductor 3.22 [2025-11-17 17:04:57] [INFO] [OmnipathR] Session info: [version=R version 4.5.2 Patched (2025-11-04 r88984); os=macOS Ventura 13.7.8; system=aarch64, darwin20; ui=X11; language=(EN); collate=C; ctype=en_US.UTF-8; tz=America/New_York; date=2025-11-17; pandoc=3.6.4 @ /opt/homebrew/bin/ (via rmarkdown); quarto=1.4.553 @ /usr/local/bin/quarto] [2025-11-17 17:04:57] [INFO] [OmnipathR] External libraries: [cairo=1.17.6; cairoFT=; pango=1.50.14; png=1.6.44; jpeg=9.5; tiff=LIBTIFF, Version 4.5.0; tcl=8.6.13; curl=8.7.1; zlib=1.2.11; bzlib=1.0.8, 13-Jul-2019; xz=5.6.3; deflate=1.23; PCRE=10.44 2024-06-07; ICU=70.2; TRE=TRE 0.8.0 R_fixes (BSD); iconv=Apple or GNU libiconv 1.11 /Library/Frameworks/R.framework/Versions/4.5-arm64/Resources/lib/libR.dylib; readline=5.2; BLAS=/System/Library/Frameworks/Accelerate.framework/Versions/A/Frameworks/vecLib.framework/Versions/A/libBLAS.dylib; lapack=/Library/Frameworks/R.framework/Versions/4.5-arm64/Resources/lib/libRlapack.dylib; lapack_version=3.12.1] [2025-11-17 17:04:57] [INFO] [OmnipathR] Loaded packages: backports 1.5.0(2024-05-23); bit 4.6.0(2025-03-06); bit64 4.6.0-1(2025-01-16); blob 1.2.4(2023-03-17); cachem 1.1.0(2024-05-16); cellranger 1.1.0(2016-07-27); checkmate 2.3.3(2025-08-18); chromote 0.5.1(2025-04-24); cli 3.6.5(2025-04-23); crayon 1.5.3(2024-06-20); curl 7.0.0(2025-08-19); DBI 1.2.3(2024-06-02); digest 0.6.38(2025-11-12); dplyr 1.1.4(2023-11-17); evaluate 1.0.5(2025-08-27); fastmap 1.2.0(2024-05-15); fs 1.6.6(2025-04-12); generics 0.1.4(2025-05-09); glue 1.8.0(2024-09-30); hms 1.1.4(2025-10-17); htmltools 0.5.8.1(2024-04-04); httr 1.4.7(2023-08-15); httr2 1.2.1(2025-07-22); igraph 2.2.1(2025-10-27); jsonlite 2.0.0(2025-03-27); knitr 1.50(2025-03-16); later 1.4.4(2025-08-27); lifecycle 1.0.4(2023-11-07); logger 0.4.1(2025-09-11); lubridate 1.9.4(2024-12-08); magrittr 2.0.4(2025-09-12); memoise 2.0.1(2021-11-26); OmnipathR 3.18.2(2025-11-17); otel 0.2.0(2025-08-29); pillar 1.11.1(2025-09-17); pkgconfig 2.0.3(2019-09-22); prettyunits 1.2.0(2023-09-24); processx 3.8.6(2025-02-21); progress 1.2.3(2023-12-06); promises 1.5.0(2025-11-01); ps 1.9.1(2025-04-12); purrr 1.2.0(2025-11-04); R.methodsS3 1.8.2(2022-06-13); R.oo 1.27.1(2025-05-02); R.utils 2.13.0(2025-02-24); R6 2.6.1(2025-02-15); rappdirs 0.3.3(2021-01-31); Rcpp 1.1.0(2025-07-02); readr 2.1.5(2024-01-10); readxl 1.4.5(2025-03-07); rlang 1.1.6(2025-04-11); rmarkdown 2.30(2025-09-28); RSQLite 2.4.4(2025-11-10); rvest 1.0.5(2025-08-29); sessioninfo 1.2.3(2025-02-05); stringi 1.8.7(2025-03-27); stringr 1.6.0(2025-11-04); tibble 3.3.0(2025-06-08); tidyr 1.3.1(2024-01-24); tidyselect 1.2.1(2024-03-11); timechange 0.3.0(2024-01-18); tzdb 0.5.0(2025-03-15); vctrs 0.6.5(2023-12-01); websocket 1.4.4(2025-04-10); withr 3.0.2(2024-10-28); xfun 0.54(2025-10-30); XML 3.99-0.20(2025-11-08); xml2 1.5.0(2025-11-17); yaml 2.3.10(2024-07-26); zip 2.3.3(2025-05-13) [2025-11-17 17:04:57] [INFO] [OmnipathR] CURL: version: 8.14.1; headers: 8.14.1; ssl_version: LibreSSL/3.3.6 (SecureTransport); libz_version: 1.2.11; libssh_version: NA; libidn_version: NA; host: aarch64-apple-darwin23.6.0; protocols: dict, file, ftp, ftps, gopher, gophers, http, https, imap, imaps, ldap, ldaps, mqtt, pop3, pop3s, rtsp, smb, smbs, smtp, smtps, telnet, tftp, ws, wss; ipv6: TRUE; http2: TRUE; idn: FALSE; url_parser: TRUE [2025-11-17 17:04:57] [TRACE] [OmnipathR] Running on a build server, wiping cache. [2025-11-17 17:04:57] [TRACE] [OmnipathR] Cache is at `/Users/biocbuild/Library/Caches/OmnipathR`. [2025-11-17 17:04:57] [TRACE] [OmnipathR] Contains 1 files. [2025-11-17 17:04:57] [TRACE] [OmnipathR] Cache is locked: FALSE. [2025-11-17 17:04:57] [TRACE] [OmnipathR] Reading JSON from `/Users/biocbuild/Library/Caches/OmnipathR/cache.json` (encoding: UTF-8). [2025-11-17 17:04:57] [TRACE] [OmnipathR] JSON validation successful: TRUE [2025-11-17 17:04:57] [SUCCESS] [OmnipathR] Removing all cache contents from `/Users/biocbuild/Library/Caches/OmnipathR`. [2025-11-17 17:04:57] [TRACE] [OmnipathR] Pandoc version: `3.6.4`. [2025-11-17 17:04:57] [TRACE] [OmnipathR] Reading JSON from `/Library/Frameworks/R.framework/Versions/4.5-arm64/Resources/library/OmnipathR/db/db_def.json` (encoding: UTF-8). [2025-11-17 17:04:57] [TRACE] [OmnipathR] JSON validation successful: TRUE [2025-11-17 17:04:57] [TRACE] [OmnipathR] Reading JSON from `/Library/Frameworks/R.framework/Versions/4.5-arm64/Resources/library/OmnipathR/internal/magic_bytes.json` (encoding: UTF-8). [2025-11-17 17:04:57] [TRACE] [OmnipathR] JSON validation successful: TRUE [2025-11-17 17:04:57] [TRACE] [OmnipathR] Reading JSON from `/Library/Frameworks/R.framework/Versions/4.5-arm64/Resources/library/OmnipathR/internal/urls.json` (encoding: UTF-8). [2025-11-17 17:04:57] [TRACE] [OmnipathR] JSON validation successful: TRUE [2025-11-17 17:04:57] [TRACE] [OmnipathR] Reading JSON from `/Library/Frameworks/R.framework/Versions/4.5-arm64/Resources/library/OmnipathR/internal/id_types.json` (encoding: UTF-8). [2025-11-17 17:04:57] [TRACE] [OmnipathR] JSON validation successful: TRUE [2025-11-17 17:04:57] [TRACE] [OmnipathR] Cache locked: FALSE ** testing if installed package keeps a record of temporary installation path * DONE (OmnipathR)
OmnipathR.Rcheck/tests/testthat.Rout
R version 4.5.2 Patched (2025-11-04 r88984) -- "[Not] Part in a Rumble"
Copyright (C) 2025 The R Foundation for Statistical Computing
Platform: aarch64-apple-darwin20
R is free software and comes with ABSOLUTELY NO WARRANTY.
You are welcome to redistribute it under certain conditions.
Type 'license()' or 'licence()' for distribution details.
R is a collaborative project with many contributors.
Type 'contributors()' for more information and
'citation()' on how to cite R or R packages in publications.
Type 'demo()' for some demos, 'help()' for on-line help, or
'help.start()' for an HTML browser interface to help.
Type 'q()' to quit R.
> #!/usr/bin/env Rscript
>
> #
> # This file is part of the `OmnipathR` R package
> #
> # Copyright
> # 2018-2024
> # Saez Lab, Uniklinik RWTH Aachen, Heidelberg University
> #
> # File author(s): Alberto Valdeolivas
> # Dénes Türei (turei.denes@gmail.com)
> # Attila Gábor
> #
> # Distributed under the MIT (Expat) License.
> # See accompanying file `LICENSE` or find a copy at
> # https://directory.fsf.org/wiki/License:Expat
> #
> # Website: https://r.omnipathdb.org/
> # Git repo: https://github.com/saezlab/OmnipathR
> #
>
>
> library(testthat)
> library(OmnipathR)
[2025-11-18 10:36:54] [TRACE] [OmnipathR] Reading JSON from `/Users/biocbuild/Library/Caches/OmnipathR/cache.json` (encoding: UTF-8).
[2025-11-18 10:36:54] [TRACE] [OmnipathR] JSON validation successful: TRUE
[2025-11-18 10:36:54] [INFO] [OmnipathR] Initialized cache: `/Users/biocbuild/Library/Caches/OmnipathR`.
[2025-11-18 10:36:54] [INFO] [OmnipathR] Package `OmnipathR` packaged: NA
[2025-11-18 10:36:54] [INFO] [OmnipathR] Package `OmnipathR` date/publication: 2025-11-17
[2025-11-18 10:36:54] [INFO] [OmnipathR] Package `OmnipathR` built: R 4.5.2; ; 2025-11-17 22:04:47 UTC; unix
[2025-11-18 10:36:54] [INFO] [OmnipathR] Package `OmnipathR` version: 3.18.2
[2025-11-18 10:36:54] [INFO] [OmnipathR] Package `OmnipathR` repository: Bioconductor 3.22
[2025-11-18 10:36:55] [INFO] [OmnipathR] Session info: [version=R version 4.5.2 Patched (2025-11-04 r88984); os=macOS Ventura 13.7.8; system=aarch64, darwin20; ui=X11; language=C; collate=C; ctype=en_US.UTF-8; tz=America/New_York; date=2025-11-18; pandoc=3.6.4 @ /opt/homebrew/bin/ (via rmarkdown); quarto=1.4.553 @ /usr/local/bin/quarto]
[2025-11-18 10:36:55] [INFO] [OmnipathR] External libraries: [cairo=1.17.6; cairoFT=; pango=1.50.14; png=1.6.44; jpeg=9.5; tiff=LIBTIFF, Version 4.5.0; tcl=8.6.13; curl=8.7.1; zlib=1.2.11; bzlib=1.0.8, 13-Jul-2019; xz=5.6.3; deflate=1.23; PCRE=10.44 2024-06-07; ICU=70.2; TRE=TRE 0.8.0 R_fixes (BSD); iconv=Apple or GNU libiconv 1.11 /Library/Frameworks/R.framework/Versions/4.5-arm64/Resources/lib/libR.dylib; readline=5.2; BLAS=/System/Library/Frameworks/Accelerate.framework/Versions/A/Frameworks/vecLib.framework/Versions/A/libBLAS.dylib; lapack=/Library/Frameworks/R.framework/Versions/4.5-arm64/Resources/lib/libRlapack.dylib; lapack_version=3.12.1]
[2025-11-18 10:36:55] [INFO] [OmnipathR] Loaded packages: backports 1.5.0(2024-05-23); bit 4.6.0(2025-03-06); bit64 4.6.0-1(2025-01-16); blob 1.2.4(2023-03-17); brio 1.1.5(2024-04-24); cachem 1.1.0(2024-05-16); cellranger 1.1.0(2016-07-27); checkmate 2.3.3(2025-08-18); chromote 0.5.1(2025-04-24); cli 3.6.5(2025-04-23); crayon 1.5.3(2024-06-20); curl 7.0.0(2025-08-19); DBI 1.2.3(2024-06-02); digest 0.6.38(2025-11-12); dplyr 1.1.4(2023-11-17); evaluate 1.0.5(2025-08-27); fastmap 1.2.0(2024-05-15); fs 1.6.6(2025-04-12); generics 0.1.4(2025-05-09); glue 1.8.0(2024-09-30); hms 1.1.4(2025-10-17); htmltools 0.5.8.1(2024-04-04); httr 1.4.7(2023-08-15); httr2 1.2.1(2025-07-22); igraph 2.2.1(2025-10-27); jsonlite 2.0.0(2025-03-27); knitr 1.50(2025-03-16); later 1.4.4(2025-08-27); lifecycle 1.0.4(2023-11-07); logger 0.4.1(2025-09-11); lubridate 1.9.4(2024-12-08); magrittr 2.0.4(2025-09-12); memoise 2.0.1(2021-11-26); OmnipathR 3.18.2(2025-11-17); otel 0.2.0(2025-08-29); pillar 1.11.1(2025-09-17); pkgconfig 2.0.3(2019-09-22); prettyunits 1.2.0(2023-09-24); processx 3.8.6(2025-02-21); progress 1.2.3(2023-12-06); promises 1.5.0(2025-11-01); ps 1.9.1(2025-04-12); purrr 1.2.0(2025-11-04); R.methodsS3 1.8.2(2022-06-13); R.oo 1.27.1(2025-05-02); R.utils 2.13.0(2025-02-24); R6 2.6.1(2025-02-15); rappdirs 0.3.3(2021-01-31); Rcpp 1.1.0(2025-07-02); readr 2.1.6(2025-11-14); readxl 1.4.5(2025-03-07); rlang 1.1.6(2025-04-11); rmarkdown 2.30(2025-09-28); RSQLite 2.4.4(2025-11-10); rvest 1.0.5(2025-08-29); sessioninfo 1.2.3(2025-02-05); stringi 1.8.7(2025-03-27); stringr 1.6.0(2025-11-04); testthat 3.3.0(2025-11-13); tibble 3.3.0(2025-06-08); tidyr 1.3.1(2024-01-24); tidyselect 1.2.1(2024-03-11); timechange 0.3.0(2024-01-18); tzdb 0.5.0(2025-03-15); vctrs 0.6.5(2023-12-01); websocket 1.4.4(2025-04-10); withr 3.0.2(2024-10-28); xfun 0.54(2025-10-30); XML 3.99-0.20(2025-11-08); xml2 1.5.0(2025-11-17); yaml 2.3.10(2024-07-26); zip 2.3.3(2025-05-13)
[2025-11-18 10:36:55] [INFO] [OmnipathR] CURL: version: 8.14.1; headers: 8.14.1; ssl_version: LibreSSL/3.3.6 (SecureTransport); libz_version: 1.2.11; libssh_version: NA; libidn_version: NA; host: aarch64-apple-darwin23.6.0; protocols: dict, file, ftp, ftps, gopher, gophers, http, https, imap, imaps, ldap, ldaps, mqtt, pop3, pop3s, rtsp, smb, smbs, smtp, smtps, telnet, tftp, ws, wss; ipv6: TRUE; http2: TRUE; idn: FALSE; url_parser: TRUE
[2025-11-18 10:36:55] [TRACE] [OmnipathR] Running on a build server, wiping cache.
[2025-11-18 10:36:55] [TRACE] [OmnipathR] Cache is at `/Users/biocbuild/Library/Caches/OmnipathR`.
[2025-11-18 10:36:55] [TRACE] [OmnipathR] Contains 22 files.
[2025-11-18 10:36:55] [TRACE] [OmnipathR] Cache is locked: FALSE.
[2025-11-18 10:36:55] [TRACE] [OmnipathR] Reading JSON from `/Users/biocbuild/Library/Caches/OmnipathR/cache.json` (encoding: UTF-8).
[2025-11-18 10:36:55] [TRACE] [OmnipathR] JSON validation successful: TRUE
[2025-11-18 10:36:55] [SUCCESS] [OmnipathR] Removing all cache contents from `/Users/biocbuild/Library/Caches/OmnipathR`.
[2025-11-18 10:36:55] [TRACE] [OmnipathR] Pandoc version: `3.6.4`.
[2025-11-18 10:36:55] [TRACE] [OmnipathR] Reading JSON from `/Library/Frameworks/R.framework/Versions/4.5-arm64/Resources/library/OmnipathR/db/db_def.json` (encoding: UTF-8).
[2025-11-18 10:36:55] [TRACE] [OmnipathR] JSON validation successful: TRUE
[2025-11-18 10:36:55] [TRACE] [OmnipathR] Reading JSON from `/Library/Frameworks/R.framework/Versions/4.5-arm64/Resources/library/OmnipathR/internal/magic_bytes.json` (encoding: UTF-8).
[2025-11-18 10:36:55] [TRACE] [OmnipathR] JSON validation successful: TRUE
[2025-11-18 10:36:56] [TRACE] [OmnipathR] Reading JSON from `/Library/Frameworks/R.framework/Versions/4.5-arm64/Resources/library/OmnipathR/internal/urls.json` (encoding: UTF-8).
[2025-11-18 10:36:56] [TRACE] [OmnipathR] JSON validation successful: TRUE
[2025-11-18 10:36:56] [TRACE] [OmnipathR] Reading JSON from `/Library/Frameworks/R.framework/Versions/4.5-arm64/Resources/library/OmnipathR/internal/id_types.json` (encoding: UTF-8).
[2025-11-18 10:36:56] [TRACE] [OmnipathR] JSON validation successful: TRUE
[2025-11-18 10:36:56] [TRACE] [OmnipathR] Cache locked: FALSE
>
> test_check('OmnipathR')
[ FAIL 0 | WARN 12 | SKIP 0 | PASS 38 ]
[ FAIL 0 | WARN 12 | SKIP 0 | PASS 38 ]
>
> proc.time()
user system elapsed
23.069 3.113 61.764
OmnipathR.Rcheck/OmnipathR-Ex.timings
| name | user | system | elapsed | |
| OmnipathR | 0 | 0 | 0 | |
| all_uniprot_acs | 0.011 | 0.002 | 0.036 | |
| all_uniprots | 12.975 | 1.755 | 47.494 | |
| ancestors | 0.003 | 0.001 | 0.004 | |
| annotated_network | 0.613 | 0.065 | 1.738 | |
| annotation_categories | 41.944 | 0.132 | 48.997 | |
| annotation_resources | 0.054 | 0.007 | 0.187 | |
| annotations | 0.357 | 0.036 | 0.727 | |
| biomart_query | 0.608 | 0.059 | 2.040 | |
| bioplex1 | 0.004 | 0.000 | 0.007 | |
| bioplex2 | 0.003 | 0.001 | 0.004 | |
| bioplex3 | 0.003 | 0.001 | 0.004 | |
| bioplex_all | 0.006 | 0.001 | 0.010 | |
| bioplex_hct116_1 | 0.005 | 0.001 | 0.014 | |
| bma_motif_es | 0.309 | 0.033 | 0.599 | |
| bma_motif_vs | 0.085 | 0.012 | 0.259 | |
| chalmers_gem | 0.004 | 0.001 | 0.012 | |
| chalmers_gem_id_mapping_table | 0.004 | 0.001 | 0.005 | |
| chalmers_gem_id_type | 0.001 | 0.000 | 0.000 | |
| chalmers_gem_metabolites | 0.004 | 0.001 | 0.022 | |
| chalmers_gem_network | 0.004 | 0.001 | 0.008 | |
| chalmers_gem_raw | 0.003 | 0.001 | 0.004 | |
| chalmers_gem_reactions | 0.004 | 0.001 | 0.019 | |
| common_name | 0.051 | 0.003 | 0.071 | |
| complex_genes | 0.330 | 0.032 | 0.751 | |
| complex_resources | 0.033 | 0.004 | 0.106 | |
| complexes | 0.093 | 0.011 | 0.234 | |
| consensuspathdb_download | 0.001 | 0.001 | 0.001 | |
| consensuspathdb_raw_table | 0.005 | 0.001 | 0.011 | |
| cosmos_pkn | 0 | 0 | 0 | |
| curated_ligand_receptor_interactions | 3.067 | 0.650 | 8.451 | |
| curated_ligrec_stats | 19.987 | 2.816 | 50.164 | |
| database_summary | 0.678 | 0.086 | 1.327 | |
| descendants | 0.004 | 0.001 | 0.006 | |
| ensembl_dataset | 0.024 | 0.001 | 0.027 | |
| ensembl_id_mapping_table | 1.140 | 0.123 | 19.112 | |
| ensembl_id_type | 0.001 | 0.000 | 0.002 | |
| ensembl_name | 0.273 | 0.009 | 0.371 | |
| ensembl_organisms | 0.073 | 0.020 | 0.200 | |
| ensembl_organisms_raw | 0.076 | 0.019 | 0.311 | |
| ensembl_orthology | 0.000 | 0.001 | 0.001 | |
| enzsub_graph | 0.997 | 0.090 | 1.781 | |
| enzsub_resources | 0.024 | 0.004 | 0.155 | |
| enzyme_substrate | 0.508 | 0.037 | 0.943 | |
| evex_download | 0.004 | 0.001 | 0.005 | |
| evidences | 0 | 0 | 0 | |
| extra_attr_values | 8.706 | 2.383 | 25.095 | |
| extra_attrs | 5.367 | 1.984 | 18.163 | |
| extra_attrs_to_cols | 9.822 | 2.447 | 27.551 | |
| filter_by_resource | 5.566 | 0.449 | 9.985 | |
| filter_extra_attrs | 19.412 | 7.492 | 91.252 | |
| filter_intercell | 3.640 | 0.231 | 4.812 | |
| filter_intercell_network | 0.007 | 0.002 | 0.012 | |
| find_all_paths | 3.247 | 0.259 | 5.146 | |
| from_evidences | 0 | 0 | 0 | |
| get_db | 0.000 | 0.000 | 0.001 | |
| get_ontology_db | 0.004 | 0.001 | 0.006 | |
| giant_component | 5.139 | 0.555 | 7.941 | |
| go_annot_download | 7.220 | 0.502 | 9.151 | |
| go_annot_slim | 0 | 0 | 0 | |
| go_ontology_download | 0.003 | 0.001 | 0.004 | |
| guide2pharma_download | 0.003 | 0.001 | 0.004 | |
| harmonizome_download | 0.004 | 0.001 | 0.019 | |
| has_extra_attrs | 3.881 | 1.500 | 12.219 | |
| hmdb_id_mapping_table | 0.008 | 0.001 | 0.019 | |
| hmdb_id_type | 0.000 | 0.001 | 0.001 | |
| hmdb_metabolite_fields | 0.000 | 0.000 | 0.002 | |
| hmdb_protein_fields | 0.001 | 0.000 | 0.001 | |
| hmdb_table | 0.005 | 0.001 | 0.005 | |
| homologene_download | 0.005 | 0.001 | 0.008 | |
| homologene_raw | 0.030 | 0.002 | 0.047 | |
| homologene_uniprot_orthology | 0.003 | 0.000 | 0.004 | |
| hpo_download | 1.561 | 0.166 | 3.176 | |
| htridb_download | 0.007 | 0.003 | 0.015 | |
| id_translation_resources | 0.000 | 0.000 | 0.001 | |
| id_types | 0.038 | 0.009 | 0.070 | |
| inbiomap_download | 0 | 0 | 0 | |
| inbiomap_raw | 0.000 | 0.001 | 0.000 | |
| interaction_datasets | 0.358 | 0.043 | 0.604 | |
| interaction_graph | 0.183 | 0.018 | 0.455 | |
| interaction_resources | 0.024 | 0.004 | 0.133 | |
| interaction_types | 0.033 | 0.004 | 0.099 | |
| intercell | 0.379 | 0.048 | 0.892 | |
| intercell_categories | 0.337 | 0.045 | 0.831 | |
| intercell_consensus_filter | 0.810 | 0.071 | 1.572 | |
| intercell_generic_categories | 0.040 | 0.004 | 0.049 | |
| intercell_network | 0.005 | 0.001 | 0.009 | |
| intercell_resources | 0.037 | 0.005 | 0.240 | |
| intercell_summary | 0.039 | 0.008 | 0.077 | |
| is_ontology_id | 0 | 0 | 0 | |
| is_swissprot | 0.029 | 0.003 | 0.078 | |
| is_trembl | 0.025 | 0.003 | 0.046 | |
| is_uniprot | 0.003 | 0.000 | 0.005 | |
| kegg_api_templates | 0.001 | 0.000 | 0.001 | |
| kegg_conv | 0.763 | 0.098 | 11.557 | |
| kegg_databases | 0 | 0 | 0 | |
| kegg_ddi | 0.428 | 0.060 | 3.038 | |
| kegg_find | 0.441 | 0.059 | 3.189 | |
| kegg_info | 0.006 | 0.001 | 0.021 | |
| kegg_link | 0.345 | 0.044 | 5.797 | |
| kegg_list | 0.283 | 0.031 | 1.521 | |
| kegg_open | 0.004 | 0.000 | 0.004 | |
| kegg_operations | 0.000 | 0.001 | 0.000 | |
| kegg_organism_codes | 0.009 | 0.035 | 0.044 | |
| kegg_organisms | 0.008 | 0.002 | 0.013 | |
| kegg_pathway_annotations | 0 | 0 | 0 | |
| kegg_pathway_download | 0.004 | 0.001 | 0.010 | |
| kegg_pathway_list | 0.004 | 0.001 | 0.005 | |
| kegg_pathways_download | 0 | 0 | 0 | |
| kegg_picture | 0.539 | 0.024 | 3.009 | |
| kegg_process | 0.007 | 0.002 | 0.010 | |
| kegg_query | 0.003 | 0.000 | 0.015 | |
| kegg_request | 0.032 | 0.006 | 0.067 | |
| kegg_rm_prefix | 0.360 | 0.040 | 4.734 | |
| kinasephos | 0.512 | 0.064 | 13.567 | |
| latin_name | 0.101 | 0.005 | 0.147 | |
| load_db | 0.034 | 0.009 | 0.164 | |
| metalinksdb_sqlite | 0.604 | 0.112 | 1.111 | |
| metalinksdb_table | 0.112 | 0.017 | 0.201 | |
| metalinksdb_tables | 0.007 | 0.001 | 0.009 | |
| ncbi_taxid | 0.106 | 0.006 | 0.202 | |
| nichenet_build_model | 0.001 | 0.001 | 0.000 | |
| nichenet_expression_data | 0.004 | 0.001 | 0.014 | |
| nichenet_gr_network | 0.013 | 0.003 | 0.084 | |
| nichenet_gr_network_evex | 0.004 | 0.001 | 0.013 | |
| nichenet_gr_network_harmonizome | 0.004 | 0.001 | 0.008 | |
| nichenet_gr_network_htridb | 0.004 | 0.001 | 0.013 | |
| nichenet_gr_network_omnipath | 7.328 | 0.866 | 19.836 | |
| nichenet_gr_network_pathwaycommons | 0.007 | 0.002 | 0.020 | |
| nichenet_gr_network_regnetwork | 0.004 | 0.001 | 0.008 | |
| nichenet_gr_network_remap | 0.007 | 0.002 | 0.039 | |
| nichenet_gr_network_trrust | 0.004 | 0.001 | 0.005 | |
| nichenet_ligand_activities | 0 | 0 | 0 | |
| nichenet_ligand_target_links | 0 | 0 | 0 | |
| nichenet_ligand_target_matrix | 0 | 0 | 0 | |
| nichenet_lr_network | 0.014 | 0.003 | 0.060 | |
| nichenet_lr_network_guide2pharma | 0.004 | 0.001 | 0.016 | |
| nichenet_lr_network_omnipath | 0.014 | 0.003 | 0.071 | |
| nichenet_lr_network_ramilowski | 0.004 | 0.001 | 0.016 | |
| nichenet_main | 0 | 0 | 0 | |
| nichenet_networks | 0.044 | 0.006 | 0.131 | |
| nichenet_optimization | 0 | 0 | 0 | |
| nichenet_remove_orphan_ligands | 0.016 | 0.003 | 0.040 | |
| nichenet_results_dir | 0.000 | 0.001 | 0.000 | |
| nichenet_signaling_network | 0.014 | 0.002 | 0.051 | |
| nichenet_signaling_network_cpdb | 0.004 | 0.001 | 0.012 | |
| nichenet_signaling_network_evex | 0.007 | 0.001 | 0.015 | |
| nichenet_signaling_network_harmonizome | 0.004 | 0.001 | 0.017 | |
| nichenet_signaling_network_inbiomap | 0 | 0 | 0 | |
| nichenet_signaling_network_omnipath | 7.574 | 0.747 | 17.734 | |
| nichenet_signaling_network_pathwaycommons | 0.004 | 0.001 | 0.008 | |
| nichenet_signaling_network_vinayagam | 0.004 | 0.001 | 0.006 | |
| nichenet_test | 0 | 0 | 0 | |
| nichenet_workarounds | 0.000 | 0.000 | 0.001 | |
| obo_parser | 0.037 | 0.011 | 0.584 | |
| oma_code | 0.056 | 0.002 | 0.088 | |
| oma_organisms | 0.026 | 0.005 | 0.045 | |
| oma_pairwise | 0.003 | 0.001 | 0.004 | |
| oma_pairwise_genesymbols | 0.004 | 0.001 | 0.004 | |
| oma_pairwise_translated | 0.003 | 0.001 | 0.004 | |
| omnipath-interactions | 17.448 | 1.598 | 44.637 | |
| omnipath_cache_autoclean | 0 | 0 | 0 | |
| omnipath_cache_clean | 0.003 | 0.002 | 0.026 | |
| omnipath_cache_clean_db | 0.047 | 0.016 | 0.464 | |
| omnipath_cache_download_ready | 0.326 | 0.082 | 1.567 | |
| omnipath_cache_filter_versions | 0.064 | 0.018 | 0.211 | |
| omnipath_cache_get | 0.074 | 0.014 | 0.139 | |
| omnipath_cache_key | 0.001 | 0.001 | 0.011 | |
| omnipath_cache_latest_or_new | 0.038 | 0.010 | 0.095 | |
| omnipath_cache_load | 0.253 | 0.023 | 0.821 | |
| omnipath_cache_move_in | 0.052 | 0.017 | 0.090 | |
| omnipath_cache_remove | 0.033 | 0.010 | 0.066 | |
| omnipath_cache_save | 0.070 | 0.012 | 0.145 | |
| omnipath_cache_search | 0 | 0 | 0 | |
| omnipath_cache_set_ext | 0.025 | 0.007 | 0.074 | |
| omnipath_cache_update_status | 0.030 | 0.008 | 0.058 | |
| omnipath_cache_wipe | 0.000 | 0.000 | 0.001 | |
| omnipath_config_path | 0 | 0 | 0 | |
| omnipath_for_cosmos | 6.182 | 0.542 | 28.298 | |
| omnipath_load_config | 0 | 0 | 0 | |
| omnipath_log | 0 | 0 | 0 | |
| omnipath_logfile | 0.001 | 0.000 | 0.000 | |
| omnipath_msg | 0.005 | 0.001 | 0.018 | |
| omnipath_query | 1.993 | 0.157 | 4.666 | |
| omnipath_reset_config | 0.000 | 0.001 | 0.000 | |
| omnipath_save_config | 0 | 0 | 0 | |
| omnipath_set_cachedir | 0.011 | 0.003 | 0.039 | |
| omnipath_set_console_loglevel | 0.002 | 0.000 | 0.001 | |
| omnipath_set_logfile_loglevel | 0.001 | 0.000 | 0.013 | |
| omnipath_set_loglevel | 0.001 | 0.001 | 0.003 | |
| omnipath_show_db | 0.035 | 0.009 | 0.249 | |
| omnipath_unlock_cache_db | 0 | 0 | 0 | |
| only_from | 0 | 0 | 0 | |
| ontology_ensure_id | 0.000 | 0.000 | 0.001 | |
| ontology_ensure_name | 0.001 | 0.000 | 0.001 | |
| ontology_name_id | 0.000 | 0.000 | 0.003 | |
| organism_for | 0.078 | 0.004 | 0.137 | |
| pathwaycommons_download | 0.000 | 0.000 | 0.001 | |
| pivot_annotations | 5.838 | 0.387 | 15.360 | |
| preppi_download | 0.000 | 0.001 | 0.001 | |
| preppi_filter | 0.000 | 0.000 | 0.001 | |
| print_bma_motif_es | 0.322 | 0.039 | 0.768 | |
| print_bma_motif_vs | 0.065 | 0.010 | 0.376 | |
| print_interactions | 3.623 | 0.280 | 7.774 | |
| print_path_es | 0.478 | 0.034 | 0.858 | |
| print_path_vs | 1.291 | 0.165 | 2.559 | |
| pubmed_open | 1.938 | 0.153 | 4.832 | |
| query_info | 0.245 | 0.019 | 0.511 | |
| ramilowski_download | 0.001 | 0.000 | 0.000 | |
| ramp_id_mapping_table | 0.000 | 0.000 | 0.001 | |
| ramp_id_type | 0.002 | 0.001 | 0.002 | |
| ramp_sqlite | 0 | 0 | 0 | |
| ramp_table | 0.000 | 0.001 | 0.000 | |
| ramp_tables | 0.000 | 0.000 | 0.001 | |
| recon3d | 0.000 | 0.000 | 0.001 | |
| recon3d_raw | 0 | 0 | 0 | |
| recon3d_raw_vmh | 0.001 | 0.000 | 0.000 | |
| regnetwork_directions | 0.001 | 0.000 | 0.001 | |
| regnetwork_download | 0.001 | 0.000 | 0.002 | |
| relations_list_to_table | 0.046 | 0.017 | 0.219 | |
| relations_table_to_graph | 0 | 0 | 0 | |
| relations_table_to_list | 0.033 | 0.012 | 0.220 | |
| remap_dorothea_download | 0.001 | 0.000 | 0.001 | |
| remap_filtered | 0.000 | 0.001 | 0.000 | |
| remap_tf_target_download | 0 | 0 | 0 | |
| resource_info | 0.289 | 0.059 | 0.683 | |
| resources | 0.020 | 0.003 | 0.129 | |
| resources_colname | 0.680 | 0.037 | 0.903 | |
| resources_in | 1.977 | 0.143 | 4.608 | |
| show_network | 0 | 0 | 0 | |
| signed_ptms | 2.380 | 0.156 | 4.995 | |
| simplify_intercell_network | 0.000 | 0.000 | 0.001 | |
| static_table | 3.481 | 0.185 | 4.836 | |
| static_tables | 0.042 | 0.011 | 0.085 | |
| stitch_actions | 0.001 | 0.000 | 0.000 | |
| stitch_links | 0.000 | 0.000 | 0.004 | |
| stitch_network | 0.001 | 0.000 | 0.001 | |
| stitch_remove_prefixes | 0.006 | 0.001 | 0.011 | |
| swap_relations | 0.052 | 0.018 | 0.097 | |
| swissprots_only | 0.070 | 0.006 | 0.097 | |
| tfcensus_download | 0.337 | 0.045 | 0.573 | |
| translate_ids | 0.525 | 0.081 | 12.531 | |
| translate_ids_multi | 4.954 | 0.418 | 25.205 | |
| trembls_only | 0.054 | 0.003 | 0.058 | |
| trrust_download | 0.000 | 0.001 | 0.000 | |
| uniprot_full_id_mapping_table | 0.576 | 0.117 | 13.948 | |
| uniprot_genesymbol_cleanup | 0 | 0 | 0 | |
| uniprot_id_mapping_table | 0.000 | 0.000 | 0.001 | |
| uniprot_id_type | 0.001 | 0.001 | 0.003 | |
| uniprot_idmapping_id_types | 0.256 | 0.026 | 0.969 | |
| uniprot_organisms | 9.949 | 1.472 | 35.032 | |
| unique_intercell_network | 0.001 | 0.000 | 0.001 | |
| unnest_evidences | 0 | 0 | 0 | |
| uploadlists_id_type | 0.001 | 0.001 | 0.012 | |
| vinayagam_download | 0.000 | 0.000 | 0.004 | |
| walk_ontology_tree | 0.001 | 0.000 | 0.001 | |
| with_extra_attrs | 7.585 | 1.715 | 27.217 | |
| with_references | 0.500 | 0.052 | 1.419 | |
| zenodo_download | 0.001 | 0.000 | 0.001 | |