| Back to Multiple platform build/check report for BioC 3.22: simplified long |
|
This page was generated on 2025-10-24 12:06 -0400 (Fri, 24 Oct 2025).
| Hostname | OS | Arch (*) | R version | Installed pkgs |
|---|---|---|---|---|
| nebbiolo2 | Linux (Ubuntu 24.04.3 LTS) | x86_64 | 4.5.1 Patched (2025-08-23 r88802) -- "Great Square Root" | 4898 |
| lconway | macOS 12.7.6 Monterey | x86_64 | 4.5.1 Patched (2025-09-10 r88807) -- "Great Square Root" | 4688 |
| kjohnson3 | macOS 13.7.7 Ventura | arm64 | 4.5.1 Patched (2025-09-10 r88807) -- "Great Square Root" | 4634 |
| taishan | Linux (openEuler 24.03 LTS) | aarch64 | 4.5.0 (2025-04-11) -- "How About a Twenty-Six" | 4658 |
| Click on any hostname to see more info about the system (e.g. compilers) (*) as reported by 'uname -p', except on Windows and Mac OS X | ||||
| Package 1243/2359 | Hostname | OS / Arch | INSTALL | BUILD | CHECK | BUILD BIN | ||||||||
| MetaboSignal 1.39.0 (landing page) Andrea Rodriguez-Martinez
| nebbiolo2 | Linux (Ubuntu 24.04.3 LTS) / x86_64 | OK | OK | OK | |||||||||
| lconway | macOS 12.7.6 Monterey / x86_64 | OK | OK | OK | OK | |||||||||
| kjohnson3 | macOS 13.7.7 Ventura / arm64 | OK | OK | OK | OK | |||||||||
| taishan | Linux (openEuler 24.03 LTS) / aarch64 | OK | OK | NA | ||||||||||
|
To the developers/maintainers of the MetaboSignal package: - Allow up to 24 hours (and sometimes 48 hours) for your latest push to git@git.bioconductor.org:packages/MetaboSignal.git to reflect on this report. See Troubleshooting Build Report for more information. - Use the following Renviron settings to reproduce errors and warnings. - If 'R CMD check' started to fail recently on the Linux builder(s) over a missing dependency, add the missing dependency to 'Suggests:' in your DESCRIPTION file. See Renviron.bioc for more information. |
| Package: MetaboSignal |
| Version: 1.39.0 |
| Command: /Library/Frameworks/R.framework/Resources/bin/R CMD check --install=check:MetaboSignal.install-out.txt --library=/Library/Frameworks/R.framework/Resources/library --no-vignettes --timings MetaboSignal_1.39.0.tar.gz |
| StartedAt: 2025-10-23 20:42:10 -0400 (Thu, 23 Oct 2025) |
| EndedAt: 2025-10-23 20:44:45 -0400 (Thu, 23 Oct 2025) |
| EllapsedTime: 155.0 seconds |
| RetCode: 0 |
| Status: OK |
| CheckDir: MetaboSignal.Rcheck |
| Warnings: 0 |
##############################################################################
##############################################################################
###
### Running command:
###
### /Library/Frameworks/R.framework/Resources/bin/R CMD check --install=check:MetaboSignal.install-out.txt --library=/Library/Frameworks/R.framework/Resources/library --no-vignettes --timings MetaboSignal_1.39.0.tar.gz
###
##############################################################################
##############################################################################
* using log directory ‘/Users/biocbuild/bbs-3.22-bioc/meat/MetaboSignal.Rcheck’
* using R version 4.5.1 Patched (2025-09-10 r88807)
* using platform: aarch64-apple-darwin20
* R was compiled by
Apple clang version 16.0.0 (clang-1600.0.26.6)
GNU Fortran (GCC) 14.2.0
* running under: macOS Ventura 13.7.7
* using session charset: UTF-8
* using option ‘--no-vignettes’
* checking for file ‘MetaboSignal/DESCRIPTION’ ... OK
* checking extension type ... Package
* this is package ‘MetaboSignal’ version ‘1.39.0’
* package encoding: UTF-8
* checking package namespace information ... OK
* checking package dependencies ... OK
* checking if this is a source package ... OK
* checking if there is a namespace ... OK
* checking for hidden files and directories ... OK
* checking for portable file names ... OK
* checking for sufficient/correct file permissions ... OK
* checking whether package ‘MetaboSignal’ can be installed ... OK
* checking installed package size ... OK
* checking package directory ... OK
* checking ‘build’ directory ... OK
* checking DESCRIPTION meta-information ... OK
* checking top-level files ... OK
* checking for left-over files ... OK
* checking index information ... OK
* checking package subdirectories ... OK
* checking code files for non-ASCII characters ... OK
* checking R files for syntax errors ... OK
* checking whether the package can be loaded ... OK
* checking whether the package can be loaded with stated dependencies ... OK
* checking whether the package can be unloaded cleanly ... OK
* checking whether the namespace can be loaded with stated dependencies ... OK
* checking whether the namespace can be unloaded cleanly ... OK
* checking dependencies in R code ... OK
* checking S3 generic/method consistency ... OK
* checking replacement functions ... OK
* checking foreign function calls ... OK
* checking R code for possible problems ... NOTE
get_molecule_type: no visible binding for global variable
'regulatory_interactions'
Undefined global functions or variables:
regulatory_interactions
* checking Rd files ... OK
* checking Rd metadata ... OK
* checking Rd cross-references ... OK
* checking for missing documentation entries ... OK
* checking for code/documentation mismatches ... OK
* checking Rd \usage sections ... OK
* checking Rd contents ... OK
* checking for unstated dependencies in examples ... OK
* checking contents of ‘data’ directory ... OK
* checking data for non-ASCII characters ... OK
* checking LazyData ... OK
* checking data for ASCII and uncompressed saves ... OK
* checking installed files from ‘inst/doc’ ... OK
* checking files in ‘vignettes’ ... OK
* checking examples ... OK
Examples with CPU (user + system) or elapsed time > 5s
user system elapsed
MS_keggFinder 0.131 0.005 6.427
* checking for unstated dependencies in ‘tests’ ... OK
* checking tests ...
Running ‘runTests.R’
OK
* checking for unstated dependencies in vignettes ... OK
* checking package vignettes ... OK
* checking running R code from vignettes ... SKIPPED
* checking re-building of vignette outputs ... SKIPPED
* checking PDF version of manual ... OK
* DONE
Status: 1 NOTE
See
‘/Users/biocbuild/bbs-3.22-bioc/meat/MetaboSignal.Rcheck/00check.log’
for details.
MetaboSignal.Rcheck/00install.out
############################################################################## ############################################################################## ### ### Running command: ### ### /Library/Frameworks/R.framework/Resources/bin/R CMD INSTALL MetaboSignal ### ############################################################################## ############################################################################## * installing to library ‘/Library/Frameworks/R.framework/Versions/4.5-arm64/Resources/library’ * installing *source* package ‘MetaboSignal’ ... ** this is package ‘MetaboSignal’ version ‘1.39.0’ ** using staged installation ** R ** data *** moving datasets to lazyload DB ** inst ** byte-compile and prepare package for lazy loading ** help *** installing help indices ** building package indices ** installing vignettes ** testing if installed package can be loaded from temporary location ** testing if installed package can be loaded from final location ** testing if installed package keeps a record of temporary installation path * DONE (MetaboSignal)
MetaboSignal.Rcheck/tests/runTests.Rout
R version 4.5.1 Patched (2025-09-10 r88807) -- "Great Square Root"
Copyright (C) 2025 The R Foundation for Statistical Computing
Platform: aarch64-apple-darwin20
R is free software and comes with ABSOLUTELY NO WARRANTY.
You are welcome to redistribute it under certain conditions.
Type 'license()' or 'licence()' for distribution details.
R is a collaborative project with many contributors.
Type 'contributors()' for more information and
'citation()' on how to cite R or R packages in publications.
Type 'demo()' for some demos, 'help()' for on-line help, or
'help.start()' for an HTML browser interface to help.
Type 'q()' to quit R.
> BiocGenerics:::testPackage("MetaboSignal")
Note: some source_nodes or target_nodes were not mapped onto the network
Calculating distances
Building shortest path network
Note that all source_nodes and target_nodes were successfully mapped onto the network
Calculating distances
Building shortest path network
Note that all source_nodes and target_nodes were successfully mapped onto the network
Calculating distances
Building shortest path network
Note that all source_nodes and target_nodes were successfully mapped onto the network
Network features:
Number of nodes:59
Number of edges:100
Network features:
Number of nodes:59
Number of edges:100
RUNIT TEST PROTOCOL -- Thu Oct 23 20:44:40 2025
***********************************************
Number of test functions: 9
Number of errors: 0
Number of failures: 0
1 Test Suite :
MetaboSignal RUnit Tests - 9 test functions, 0 errors, 0 failures
Number of test functions: 9
Number of errors: 0
Number of failures: 0
>
> proc.time()
user system elapsed
6.847 0.275 8.152
MetaboSignal.Rcheck/MetaboSignal-Ex.timings
| name | user | system | elapsed | |
| MS2_mergeNetworks | 0.022 | 0.003 | 0.024 | |
| MS2_ppiNetwork | 0.869 | 0.008 | 0.891 | |
| MS_changeNames | 0 | 0 | 0 | |
| MS_convertGene | 0.016 | 0.003 | 1.983 | |
| MS_distances | 0.021 | 0.001 | 0.022 | |
| MS_exportCytoscape | 0 | 0 | 0 | |
| MS_findMappedNodes | 0.001 | 0.000 | 0.001 | |
| MS_getPathIds | 0 | 0 | 0 | |
| MS_keggFinder | 0.131 | 0.005 | 6.427 | |
| MS_keggNetwork | 0 | 0 | 0 | |
| MS_nodeBW | 0.010 | 0.002 | 0.012 | |
| MS_reactionNetwork | 0 | 0 | 0 | |
| MS_removeDrugs | 0.001 | 0.001 | 0.001 | |
| MS_removeNode | 0.001 | 0.000 | 0.001 | |
| MS_replaceNode | 0.001 | 0.001 | 0.002 | |
| MS_shortestPaths | 0.005 | 0.001 | 0.006 | |
| MS_shortestPathsNetwork | 0 | 0 | 0 | |
| MS_tissueFilter | 0 | 0 | 0 | |
| MS_topologyFilter | 0.062 | 0.006 | 0.068 | |