| Back to Multiple platform build/check report for BioC 3.22: simplified long |
|
This page was generated on 2025-10-24 12:06 -0400 (Fri, 24 Oct 2025).
| Hostname | OS | Arch (*) | R version | Installed pkgs |
|---|---|---|---|---|
| nebbiolo2 | Linux (Ubuntu 24.04.3 LTS) | x86_64 | 4.5.1 Patched (2025-08-23 r88802) -- "Great Square Root" | 4898 |
| lconway | macOS 12.7.6 Monterey | x86_64 | 4.5.1 Patched (2025-09-10 r88807) -- "Great Square Root" | 4688 |
| kjohnson3 | macOS 13.7.7 Ventura | arm64 | 4.5.1 Patched (2025-09-10 r88807) -- "Great Square Root" | 4634 |
| taishan | Linux (openEuler 24.03 LTS) | aarch64 | 4.5.0 (2025-04-11) -- "How About a Twenty-Six" | 4658 |
| Click on any hostname to see more info about the system (e.g. compilers) (*) as reported by 'uname -p', except on Windows and Mac OS X | ||||
| Package 1246/2359 | Hostname | OS / Arch | INSTALL | BUILD | CHECK | BUILD BIN | ||||||||
| MetaDICT 0.99.4 (landing page) Bo Yuan
| nebbiolo2 | Linux (Ubuntu 24.04.3 LTS) / x86_64 | OK | OK | OK | |||||||||
| lconway | macOS 12.7.6 Monterey / x86_64 | OK | OK | OK | OK | |||||||||
| kjohnson3 | macOS 13.7.7 Ventura / arm64 | OK | OK | OK | OK | |||||||||
| taishan | Linux (openEuler 24.03 LTS) / aarch64 | OK | OK | NA | ||||||||||
|
To the developers/maintainers of the MetaDICT package: - Allow up to 24 hours (and sometimes 48 hours) for your latest push to git@git.bioconductor.org:packages/MetaDICT.git to reflect on this report. See Troubleshooting Build Report for more information. - Use the following Renviron settings to reproduce errors and warnings. - If 'R CMD check' started to fail recently on the Linux builder(s) over a missing dependency, add the missing dependency to 'Suggests:' in your DESCRIPTION file. See Renviron.bioc for more information. |
| Package: MetaDICT |
| Version: 0.99.4 |
| Command: /Library/Frameworks/R.framework/Resources/bin/R CMD check --install=check:MetaDICT.install-out.txt --library=/Library/Frameworks/R.framework/Resources/library --no-vignettes --timings MetaDICT_0.99.4.tar.gz |
| StartedAt: 2025-10-23 20:42:14 -0400 (Thu, 23 Oct 2025) |
| EndedAt: 2025-10-23 20:43:58 -0400 (Thu, 23 Oct 2025) |
| EllapsedTime: 104.3 seconds |
| RetCode: 0 |
| Status: OK |
| CheckDir: MetaDICT.Rcheck |
| Warnings: 0 |
##############################################################################
##############################################################################
###
### Running command:
###
### /Library/Frameworks/R.framework/Resources/bin/R CMD check --install=check:MetaDICT.install-out.txt --library=/Library/Frameworks/R.framework/Resources/library --no-vignettes --timings MetaDICT_0.99.4.tar.gz
###
##############################################################################
##############################################################################
* using log directory ‘/Users/biocbuild/bbs-3.22-bioc/meat/MetaDICT.Rcheck’
* using R version 4.5.1 Patched (2025-09-10 r88807)
* using platform: aarch64-apple-darwin20
* R was compiled by
Apple clang version 16.0.0 (clang-1600.0.26.6)
GNU Fortran (GCC) 14.2.0
* running under: macOS Ventura 13.7.7
* using session charset: UTF-8
* using option ‘--no-vignettes’
* checking for file ‘MetaDICT/DESCRIPTION’ ... OK
* this is package ‘MetaDICT’ version ‘0.99.4’
* package encoding: UTF-8
* checking package namespace information ... OK
* checking package dependencies ... OK
* checking if this is a source package ... OK
* checking if there is a namespace ... OK
* checking for hidden files and directories ... OK
* checking for portable file names ... OK
* checking for sufficient/correct file permissions ... OK
* checking whether package ‘MetaDICT’ can be installed ... OK
* checking installed package size ... OK
* checking package directory ... OK
* checking ‘build’ directory ... OK
* checking DESCRIPTION meta-information ... OK
* checking top-level files ... OK
* checking for left-over files ... OK
* checking index information ... OK
* checking package subdirectories ... OK
* checking code files for non-ASCII characters ... OK
* checking R files for syntax errors ... OK
* checking whether the package can be loaded ... OK
* checking whether the package can be loaded with stated dependencies ... OK
* checking whether the package can be unloaded cleanly ... OK
* checking whether the namespace can be loaded with stated dependencies ... OK
* checking whether the namespace can be unloaded cleanly ... OK
* checking dependencies in R code ... OK
* checking S3 generic/method consistency ... OK
* checking replacement functions ... OK
* checking foreign function calls ... OK
* checking R code for possible problems ... OK
* checking Rd files ... OK
* checking Rd metadata ... OK
* checking Rd cross-references ... OK
* checking for missing documentation entries ... OK
* checking for code/documentation mismatches ... OK
* checking Rd \usage sections ... OK
* checking Rd contents ... OK
* checking for unstated dependencies in examples ... OK
* checking contents of ‘data’ directory ... OK
* checking data for non-ASCII characters ... OK
* checking data for ASCII and uncompressed saves ... OK
* checking files in ‘vignettes’ ... OK
* checking examples ... OK
Examples with CPU (user + system) or elapsed time > 5s
user system elapsed
metadict_add_new_data 21.713 1.023 23.786
community_detection 18.294 0.851 19.433
metadict 18.272 0.872 19.389
* checking for unstated dependencies in ‘tests’ ... OK
* checking tests ...
Running ‘testthat.R’
OK
* checking for unstated dependencies in vignettes ... OK
* checking package vignettes ... OK
* checking running R code from vignettes ... SKIPPED
* checking re-building of vignette outputs ... SKIPPED
* checking PDF version of manual ... OK
* DONE
Status: OK
MetaDICT.Rcheck/00install.out
############################################################################## ############################################################################## ### ### Running command: ### ### /Library/Frameworks/R.framework/Resources/bin/R CMD INSTALL MetaDICT ### ############################################################################## ############################################################################## * installing to library ‘/Library/Frameworks/R.framework/Versions/4.5-arm64/Resources/library’ * installing *source* package ‘MetaDICT’ ... ** this is package ‘MetaDICT’ version ‘0.99.4’ ** using staged installation ** R ** data ** inst ** byte-compile and prepare package for lazy loading ** help *** installing help indices ** building package indices ** installing vignettes ** testing if installed package can be loaded from temporary location ** testing if installed package can be loaded from final location ** testing if installed package keeps a record of temporary installation path * DONE (MetaDICT)
MetaDICT.Rcheck/tests/testthat.Rout
R version 4.5.1 Patched (2025-09-10 r88807) -- "Great Square Root"
Copyright (C) 2025 The R Foundation for Statistical Computing
Platform: aarch64-apple-darwin20
R is free software and comes with ABSOLUTELY NO WARRANTY.
You are welcome to redistribute it under certain conditions.
Type 'license()' or 'licence()' for distribution details.
R is a collaborative project with many contributors.
Type 'contributors()' for more information and
'citation()' on how to cite R or R packages in publications.
Type 'demo()' for some demos, 'help()' for on-line help, or
'help.start()' for an HTML browser interface to help.
Type 'q()' to quit R.
> # This file is part of the standard setup for testthat.
> # It is recommended that you do not modify it.
> #
> # Where should you do additional test configuration?
> # Learn more about the roles of various files in:
> # * https://r-pkgs.org/testing-design.html#sec-tests-files-overview
> # * https://testthat.r-lib.org/articles/special-files.html
>
> library(testthat)
> library(MetaDICT)
>
> test_check("MetaDICT")
Checking data input...
PASS
Parameters are set to be: alpha = 0.010000, beta = 0.010000
Normalization starts with method uq
Normalization completed. Beginning model fitting...
Successful convergence.
Maximum relative error: 0.000000
Effective rank of D: 125.000000
Finished.
Checking data input...
PASS
Parameters are set to be: alpha = 0.010000, beta = 0.010000
Normalization starts with method uq
Normalization completed. Beginning model fitting...
Successful convergence.
Maximum relative error: 0.000000
Effective rank of D: 125.000000
Finished.
Checking data input...
PASS
Parameters are set to be: alpha = 0.001000, beta = 0.100000
Normalization starts with method uq
Successful convergence.
Maximum relative error: 0.000000
Finished.
Checking data input...
PASS
Parameters are set to be: alpha = 0.010000, beta = 0.010000
Normalization starts with method uq
Normalization completed. Beginning model fitting...
Successful convergence.
Maximum relative error: 0.000000
Effective rank of D: 125.000000
Finished.
[ FAIL 0 | WARN 12 | SKIP 0 | PASS 9 ]
[ FAIL 0 | WARN 12 | SKIP 0 | PASS 9 ]
>
> proc.time()
user system elapsed
8.376 0.308 9.085
MetaDICT.Rcheck/MetaDICT-Ex.timings
| name | user | system | elapsed | |
| community_detection | 18.294 | 0.851 | 19.433 | |
| metadict | 18.272 | 0.872 | 19.389 | |
| metadict_add_new_data | 21.713 | 1.023 | 23.786 | |
| pcoa_plot_continuous | 1.153 | 0.017 | 1.216 | |
| pcoa_plot_discrete | 1.076 | 0.011 | 1.115 | |
| plot_singular_values | 0.287 | 0.005 | 0.296 | |