| Back to Multiple platform build/check report for BioC 3.22: simplified long |
|
This page was generated on 2025-11-20 12:05 -0500 (Thu, 20 Nov 2025).
| Hostname | OS | Arch (*) | R version | Installed pkgs |
|---|---|---|---|---|
| nebbiolo2 | Linux (Ubuntu 24.04.3 LTS) | x86_64 | 4.5.2 (2025-10-31) -- "[Not] Part in a Rumble" | 4615 |
| merida1 | macOS 12.7.6 Monterey | x86_64 | 4.5.2 Patched (2025-11-05 r88990) -- "[Not] Part in a Rumble" | 4610 |
| kjohnson1 | macOS 13.7.5 Ventura | arm64 | 4.5.2 Patched (2025-11-04 r88984) -- "[Not] Part in a Rumble" | 4598 |
| taishan | Linux (openEuler 24.03 LTS) | aarch64 | 4.5.0 (2025-04-11) -- "How About a Twenty-Six" | 4668 |
| Click on any hostname to see more info about the system (e.g. compilers) (*) as reported by 'uname -p', except on Windows and Mac OS X | ||||
| Package 1231/2361 | Hostname | OS / Arch | INSTALL | BUILD | CHECK | BUILD BIN | ||||||||
| Mergeomics 1.38.0 (landing page) Zeyneb Kurt
| nebbiolo2 | Linux (Ubuntu 24.04.3 LTS) / x86_64 | OK | OK | OK | |||||||||
| merida1 | macOS 12.7.6 Monterey / x86_64 | OK | OK | OK | OK | |||||||||
| kjohnson1 | macOS 13.7.5 Ventura / arm64 | OK | OK | OK | OK | |||||||||
| taishan | Linux (openEuler 24.03 LTS) / aarch64 | OK | OK | OK | ||||||||||
|
To the developers/maintainers of the Mergeomics package: - Allow up to 24 hours (and sometimes 48 hours) for your latest push to git@git.bioconductor.org:packages/Mergeomics.git to reflect on this report. See Troubleshooting Build Report for more information. - Use the following Renviron settings to reproduce errors and warnings. - If 'R CMD check' started to fail recently on the Linux builder(s) over a missing dependency, add the missing dependency to 'Suggests:' in your DESCRIPTION file. See Renviron.bioc for more information. |
| Package: Mergeomics |
| Version: 1.38.0 |
| Command: /Library/Frameworks/R.framework/Resources/bin/R CMD check --install=check:Mergeomics.install-out.txt --library=/Library/Frameworks/R.framework/Resources/library --no-vignettes --timings Mergeomics_1.38.0.tar.gz |
| StartedAt: 2025-11-18 09:56:56 -0500 (Tue, 18 Nov 2025) |
| EndedAt: 2025-11-18 10:17:06 -0500 (Tue, 18 Nov 2025) |
| EllapsedTime: 1209.5 seconds |
| RetCode: 0 |
| Status: OK |
| CheckDir: Mergeomics.Rcheck |
| Warnings: 0 |
##############################################################################
##############################################################################
###
### Running command:
###
### /Library/Frameworks/R.framework/Resources/bin/R CMD check --install=check:Mergeomics.install-out.txt --library=/Library/Frameworks/R.framework/Resources/library --no-vignettes --timings Mergeomics_1.38.0.tar.gz
###
##############################################################################
##############################################################################
* using log directory ‘/Users/biocbuild/bbs-3.22-bioc/meat/Mergeomics.Rcheck’
* using R version 4.5.2 Patched (2025-11-05 r88990)
* using platform: x86_64-apple-darwin20
* R was compiled by
Apple clang version 14.0.0 (clang-1400.0.29.202)
GNU Fortran (GCC) 14.2.0
* running under: macOS Monterey 12.7.6
* using session charset: UTF-8
* using option ‘--no-vignettes’
* checking for file ‘Mergeomics/DESCRIPTION’ ... OK
* checking extension type ... Package
* this is package ‘Mergeomics’ version ‘1.38.0’
* checking package namespace information ... OK
* checking package dependencies ... OK
* checking if this is a source package ... OK
* checking if there is a namespace ... OK
* checking for hidden files and directories ... OK
* checking for portable file names ... OK
* checking for sufficient/correct file permissions ... OK
* checking whether package ‘Mergeomics’ can be installed ... OK
* checking installed package size ... INFO
installed size is 8.3Mb
sub-directories of 1Mb or more:
extdata 7.5Mb
* checking package directory ... OK
* checking ‘build’ directory ... OK
* checking DESCRIPTION meta-information ... OK
* checking top-level files ... OK
* checking for left-over files ... OK
* checking index information ... OK
* checking package subdirectories ... OK
* checking code files for non-ASCII characters ... OK
* checking R files for syntax errors ... OK
* checking whether the package can be loaded ... OK
* checking whether the package can be loaded with stated dependencies ... OK
* checking whether the package can be unloaded cleanly ... OK
* checking whether the namespace can be loaded with stated dependencies ... OK
* checking whether the namespace can be unloaded cleanly ... OK
* checking dependencies in R code ... OK
* checking S3 generic/method consistency ... OK
* checking replacement functions ... OK
* checking foreign function calls ... OK
* checking R code for possible problems ... NOTE
kda.analyze: no visible global function definition for ‘p.adjust’
kda.analyze.exec: no visible global function definition for ‘pnorm’
kda.analyze.simulate: no visible global function definition for ‘rnorm’
kda.prepare: no visible global function definition for ‘quantile’
kda.prepare: no visible global function definition for ‘object.size’
kda.prepare.screen: no visible global function definition for
‘quantile’
kda.prepare.screen: no visible global function definition for ‘median’
kda.start: no visible global function definition for ‘object.size’
kda2cytoscape: no visible global function definition for ‘write.table’
kda2cytoscape.colormap: no visible global function definition for
‘rainbow’
kda2cytoscape.colormap: no visible global function definition for
‘col2rgb’
kda2himmeli: no visible global function definition for ‘quantile’
kda2himmeli: no visible global function definition for ‘write.table’
kda2himmeli.colormap: no visible global function definition for
‘rainbow’
kda2himmeli.colormap: no visible global function definition for
‘col2rgb’
ssea.analyze: no visible global function definition for ‘qnorm’
ssea.analyze: no visible global function definition for ‘approx’
ssea.analyze: no visible global function definition for ‘pnorm’
ssea.analyze.simulate: no visible global function definition for
‘quantile’
ssea.control: no visible global function definition for ‘median’
ssea.control: no visible global function definition for ‘object.size’
ssea.meta: no visible global function definition for ‘qnorm’
ssea.meta: no visible global function definition for ‘quantile’
ssea.meta: no visible global function definition for ‘pnorm’
ssea.meta: no visible global function definition for ‘median’
ssea.meta: no visible global function definition for ‘na.omit’
ssea.prepare: no visible global function definition for ‘median’
ssea.prepare: no visible global function definition for ‘object.size’
ssea.start: no visible global function definition for ‘na.omit’
ssea.start: no visible global function definition for ‘object.size’
ssea.start.configure: no visible global function definition for
‘write.table’
ssea2kda: no visible global function definition for ‘na.omit’
ssea2kda.import: no visible global function definition for ‘na.omit’
tool.aggregate: no visible global function definition for ‘na.omit’
tool.cluster: no visible global function definition for ‘as.dist’
tool.cluster: no visible global function definition for ‘hclust’
tool.fdr.bh: no visible global function definition for ‘qnorm’
tool.fdr.bh: no visible global function definition for ‘p.adjust’
tool.fdr.bh: no visible global function definition for ‘approx’
tool.fdr.empirical: no visible global function definition for ‘qnorm’
tool.fdr.empirical: no visible global function definition for ‘approx’
tool.metap: no visible global function definition for ‘qnorm’
tool.metap: no visible global function definition for ‘pnorm’
tool.normalize: no visible global function definition for ‘sd’
tool.normalize: no visible global function definition for ‘median’
tool.normalize: no visible global function definition for ‘optim’
tool.normalize: no visible global function definition for ‘ks.test’
tool.normalize.quality: no visible global function definition for ‘sd’
tool.normalize.quality: no visible global function definition for
‘ks.test’
tool.overlap: no visible global function definition for ‘phyper’
tool.read: no visible global function definition for ‘read.delim’
tool.read: no visible global function definition for ‘na.omit’
tool.save: no visible global function definition for ‘write.table’
tool.unify: no visible global function definition for ‘sd’
tool.unify: no visible global function definition for ‘quantile’
tool.unify: no visible global function definition for ‘approx’
Undefined global functions or variables:
approx as.dist col2rgb hclust ks.test median na.omit object.size
optim p.adjust phyper pnorm qnorm quantile rainbow read.delim rnorm
sd write.table
Consider adding
importFrom("grDevices", "col2rgb", "rainbow")
importFrom("stats", "approx", "as.dist", "hclust", "ks.test", "median",
"na.omit", "optim", "p.adjust", "phyper", "pnorm", "qnorm",
"quantile", "rnorm", "sd")
importFrom("utils", "object.size", "read.delim", "write.table")
to your NAMESPACE file.
* checking Rd files ... OK
* checking Rd metadata ... OK
* checking Rd cross-references ... OK
* checking for missing documentation entries ... OK
* checking for code/documentation mismatches ... OK
* checking Rd \usage sections ... OK
* checking Rd contents ... OK
* checking for unstated dependencies in examples ... OK
* checking contents of ‘data’ directory ... OK
* checking data for non-ASCII characters ... OK
* checking data for ASCII and uncompressed saves ... OK
* checking sizes of PDF files under ‘inst/doc’ ... OK
* checking files in ‘vignettes’ ... OK
* checking examples ... OK
Examples with CPU (user + system) or elapsed time > 5s
user system elapsed
kda.analyze.exec 18.791 0.603 19.894
kda.analyze.simulate 18.301 0.478 19.108
kda.analyze.test 18.236 0.490 18.900
kda.prepare 18.060 0.473 19.257
ssea2kda.analyze 13.577 0.344 14.153
ssea2kda 13.424 0.370 13.971
ssea2kda.import 11.886 0.211 12.303
ssea.analyze 11.519 0.272 11.962
ssea.finish.fdr 11.447 0.222 11.955
ssea.finish.details 11.371 0.215 11.840
ssea.finish 11.322 0.220 12.247
ssea.finish.genes 11.197 0.251 11.749
ssea.meta 11.259 0.188 11.841
ssea.analyze.simulate 10.873 0.213 11.511
ssea.analyze.randgenes 9.494 0.088 10.022
ssea.analyze.observe 9.183 0.083 9.567
ssea.prepare 9.014 0.081 9.385
ssea.start.relabel 8.961 0.100 9.937
ssea.control 8.964 0.083 9.390
ssea.prepare.counts 8.971 0.071 9.124
ssea.start 8.970 0.070 9.555
ssea.analyze.randloci 8.947 0.075 9.264
ssea.prepare.structure 8.910 0.071 9.204
* checking for unstated dependencies in ‘tests’ ... OK
* checking tests ...
Running ‘runTests.R’
OK
* checking for unstated dependencies in vignettes ... OK
* checking package vignettes ... OK
* checking running R code from vignettes ... SKIPPED
* checking re-building of vignette outputs ... SKIPPED
* checking PDF version of manual ... OK
* DONE
Status: 1 NOTE
See
‘/Users/biocbuild/bbs-3.22-bioc/meat/Mergeomics.Rcheck/00check.log’
for details.
Mergeomics.Rcheck/00install.out
############################################################################## ############################################################################## ### ### Running command: ### ### /Library/Frameworks/R.framework/Resources/bin/R CMD INSTALL Mergeomics ### ############################################################################## ############################################################################## * installing to library ‘/Library/Frameworks/R.framework/Versions/4.5-x86_64/Resources/library’ * installing *source* package ‘Mergeomics’ ... ** this is package ‘Mergeomics’ version ‘1.38.0’ ** using staged installation ** R ** data ** inst ** byte-compile and prepare package for lazy loading ** help *** installing help indices ** building package indices ** installing vignettes ** testing if installed package can be loaded from temporary location ** testing if installed package can be loaded from final location ** testing if installed package keeps a record of temporary installation path * DONE (Mergeomics)
Mergeomics.Rcheck/tests/runTests.Rout
R version 4.5.2 Patched (2025-11-05 r88990) -- "[Not] Part in a Rumble"
Copyright (C) 2025 The R Foundation for Statistical Computing
Platform: x86_64-apple-darwin20
R is free software and comes with ABSOLUTELY NO WARRANTY.
You are welcome to redistribute it under certain conditions.
Type 'license()' or 'licence()' for distribution details.
R is a collaborative project with many contributors.
Type 'contributors()' for more information and
'citation()' on how to cite R or R packages in publications.
Type 'demo()' for some demos, 'help()' for on-line help, or
'help.start()' for an HTML browser interface to help.
Type 'q()' to quit R.
> BiocGenerics:::testPackage("Mergeomics")
KDA Version:12.7.2015
Parameters:
Search depth: 1
Search direction: 1
Maximum overlap: 0.33
Minimum module size: 20
Minimum degree: automatic
Maximum degree: automatic
Edge factor: 0
Random seed: 1
Importing edges...
TAIL HEAD WEIGHT
Length:140663 Length:140663 Min. :1
Class :character Class :character 1st Qu.:1
Mode :character Mode :character Median :1
Mean :1
3rd Qu.:1
Max. :1
Importing modules...
MODULE NODE
Length:1643 Length:1643
Class :character Class :character
Mode :character Mode :character
Graph: 7.694687 Mb
Minimum degree set to 20
Maximum degree set to 278
Collecting hubs...
4876 hubs (25.21%)
Graph: 13.28768 Mb
Analyzing network...
6675: Dhcr7, n=114, p=2.24e-17
6648: Cit, n=20, p=7.89e-01
6643: Pbx4, n=23, p=2.32e-05
5582: Sypl, n=319, p=2.02e-02
4746: Tcf7l2, n=73, p=2.63e-02
4708: Tpte, n=86, p=5.05e-02
4511: Pzp, n=160, p=8.85e-03
4464: Tsc22d3, n=487, p=4.28e-13
4407: Dntt, n=93, p=2.40e-20
4360: Amica1, n=132, p=1.06e-06
4588,..: Lrg1, n=86, p=5.76e-12
MSEA Version:01.04.2016
Parameters:
Permutation type: gene
Permutations: 100
Random seed: 1
Minimum gene count: 10
Maximum gene count: 500
Maximum overlap between genes: 0.33
Importing modules...
MODULE DESCR
Length:20 Length:20
Class :character Class :character
Mode :character Mode :character
MODULE GENE
Length:2906 Length:2906
Class :character Class :character
Mode :character Mode :character
Importing marker values...
MARKER VALUE
Length:76866 Min. : 0.8094
Class :character 1st Qu.: 0.9450
Mode :character Median : 1.1374
Mean : 1.3944
3rd Qu.: 1.4688
Max. :323.0100
Importing mapping data...
GENE MARKER
Length:132705 Length:132705
Class :character Class :character
Mode :character Mode :character
Merging genes containing shared markers...
WARNING! Limited overlap analysis due to large number of groups.
37717/1673535
78781/1673535
121614/1673535
164306/1673535
207556/1673535
253250/1673535
296861/1673535
340377/1673535
384719/1673535
429112/1673535
472531/1673535
517746/1673535
562053/1673535
606897/1673535
652628/1673535
698020/1673535
742335/1673535
786765/1673535
830907/1673535
874701/1673535
919882/1673535
964210/1673535
1009518/1673535
1054042/1673535
1096115/1673535
1141322/1673535
1185948/1673535
1229869/1673535
1274188/1673535
1318430/1673535
1363361/1673535
1408213/1673535
1452120/1673535
1496271/1673535
1540997/1673535
1585677/1673535
1629608/1673535
1673535 comparisons
21115 comparisons
13861 comparisons
12880 comparisons
Job: 11.66892 Mb
Preparing data structures...
Job: 17.11777 Mb
Adding positive controls...
Job: 17.42039 Mb
Estimating enrichment...
100/100 cycles
Normalizing scores...
RUNIT TEST PROTOCOL -- Tue Nov 18 10:16:43 2025
***********************************************
Number of test functions: 2
Number of errors: 0
Number of failures: 0
1 Test Suite :
Mergeomics RUnit Tests - 2 test functions, 0 errors, 0 failures
Number of test functions: 2
Number of errors: 0
Number of failures: 0
>
> proc.time()
user system elapsed
785.202 17.123 833.461
Mergeomics.Rcheck/Mergeomics-Ex.timings
| name | user | system | elapsed | |
| MSEA.KDA.onestep | 0.004 | 0.003 | 0.008 | |
| job.kda | 0.027 | 0.008 | 0.036 | |
| kda.analyze | 0.016 | 0.006 | 0.064 | |
| kda.analyze.exec | 18.791 | 0.603 | 19.894 | |
| kda.analyze.simulate | 18.301 | 0.478 | 19.108 | |
| kda.analyze.test | 18.236 | 0.490 | 18.900 | |
| kda.configure | 0.001 | 0.002 | 0.003 | |
| kda.finish | 0.243 | 0.026 | 0.274 | |
| kda.finish.estimate | 0.131 | 0.006 | 0.141 | |
| kda.finish.save | 0.130 | 0.007 | 0.174 | |
| kda.finish.summarize | 0.127 | 0.006 | 0.133 | |
| kda.finish.trim | 0.130 | 0.007 | 0.139 | |
| kda.prepare | 18.060 | 0.473 | 19.257 | |
| kda.prepare.overlap | 0.001 | 0.003 | 0.003 | |
| kda.prepare.screen | 0.000 | 0.001 | 0.002 | |
| kda.start | 2.369 | 0.091 | 2.672 | |
| kda.start.edges | 0.003 | 0.003 | 0.006 | |
| kda.start.identify | 0.007 | 0.002 | 0.009 | |
| kda.start.modules | 0.003 | 0.003 | 0.006 | |
| kda2cytoscape | 0.698 | 0.020 | 0.731 | |
| kda2cytoscape.colorize | 0.000 | 0.000 | 0.001 | |
| kda2cytoscape.colormap | 0.001 | 0.000 | 0.001 | |
| kda2cytoscape.drivers | 0.245 | 0.017 | 0.270 | |
| kda2cytoscape.edges | 0.236 | 0.012 | 0.249 | |
| kda2cytoscape.exec | 0.271 | 0.013 | 0.287 | |
| kda2cytoscape.identify | 0.007 | 0.002 | 0.008 | |
| kda2himmeli | 0.716 | 0.023 | 0.747 | |
| kda2himmeli.colorize | 0.000 | 0.000 | 0.001 | |
| kda2himmeli.colormap | 0.001 | 0.000 | 0.001 | |
| kda2himmeli.drivers | 0.243 | 0.014 | 0.259 | |
| kda2himmeli.edges | 0.241 | 0.013 | 0.254 | |
| kda2himmeli.exec | 0.391 | 0.018 | 0.412 | |
| kda2himmeli.identify | 0.006 | 0.001 | 0.008 | |
| ssea.analyze | 11.519 | 0.272 | 11.962 | |
| ssea.analyze.observe | 9.183 | 0.083 | 9.567 | |
| ssea.analyze.randgenes | 9.494 | 0.088 | 10.022 | |
| ssea.analyze.randloci | 8.947 | 0.075 | 9.264 | |
| ssea.analyze.simulate | 10.873 | 0.213 | 11.511 | |
| ssea.analyze.statistic | 0.001 | 0.001 | 0.001 | |
| ssea.control | 8.964 | 0.083 | 9.390 | |
| ssea.finish | 11.322 | 0.220 | 12.247 | |
| ssea.finish.details | 11.371 | 0.215 | 11.840 | |
| ssea.finish.fdr | 11.447 | 0.222 | 11.955 | |
| ssea.finish.genes | 11.197 | 0.251 | 11.749 | |
| ssea.meta | 11.259 | 0.188 | 11.841 | |
| ssea.prepare | 9.014 | 0.081 | 9.385 | |
| ssea.prepare.counts | 8.971 | 0.071 | 9.124 | |
| ssea.prepare.structure | 8.910 | 0.071 | 9.204 | |
| ssea.start | 8.970 | 0.070 | 9.555 | |
| ssea.start.configure | 0.580 | 0.025 | 0.706 | |
| ssea.start.identify | 0.007 | 0.002 | 0.012 | |
| ssea.start.relabel | 8.961 | 0.100 | 9.937 | |
| ssea2kda | 13.424 | 0.370 | 13.971 | |
| ssea2kda.analyze | 13.577 | 0.344 | 14.153 | |
| ssea2kda.import | 11.886 | 0.211 | 12.303 | |
| tool.aggregate | 0.002 | 0.002 | 0.005 | |
| tool.cluster | 0.035 | 0.002 | 0.038 | |
| tool.cluster.static | 0.001 | 0.001 | 0.002 | |
| tool.coalesce | 0.083 | 0.002 | 0.090 | |
| tool.coalesce.exec | 0.300 | 0.002 | 0.311 | |
| tool.coalesce.find | 0.304 | 0.002 | 0.315 | |
| tool.coalesce.merge | 0.292 | 0.003 | 0.297 | |
| tool.fdr | 0.001 | 0.001 | 0.002 | |
| tool.fdr.bh | 0.001 | 0.000 | 0.002 | |
| tool.fdr.empirical | 0.001 | 0.001 | 0.001 | |
| tool.graph | 2.202 | 0.056 | 2.277 | |
| tool.graph.degree | 2.174 | 0.075 | 2.266 | |
| tool.graph.list | 2.140 | 0.079 | 2.235 | |
| tool.metap | 0.006 | 0.002 | 0.008 | |
| tool.normalize | 0.025 | 0.001 | 0.026 | |
| tool.normalize.quality | 0.019 | 0.001 | 0.020 | |
| tool.overlap | 0.012 | 0.002 | 0.014 | |
| tool.read | 0.398 | 0.028 | 0.428 | |
| tool.save | 0.002 | 0.002 | 0.004 | |
| tool.subgraph | 0.138 | 0.005 | 0.143 | |
| tool.subgraph.find | 0.129 | 0.006 | 0.136 | |
| tool.subgraph.search | 0.131 | 0.006 | 0.137 | |
| tool.subgraph.stats | 0.161 | 0.007 | 0.168 | |
| tool.translate | 0.054 | 0.002 | 0.057 | |
| tool.unify | 0.002 | 0.001 | 0.003 | |