| Back to Multiple platform build/check report for BioC 3.22: simplified long |
|
This page was generated on 2025-10-25 12:06 -0400 (Sat, 25 Oct 2025).
| Hostname | OS | Arch (*) | R version | Installed pkgs |
|---|---|---|---|---|
| nebbiolo2 | Linux (Ubuntu 24.04.3 LTS) | x86_64 | 4.5.1 Patched (2025-08-23 r88802) -- "Great Square Root" | 4901 |
| lconway | macOS 12.7.6 Monterey | x86_64 | 4.5.1 Patched (2025-09-10 r88807) -- "Great Square Root" | 4691 |
| kjohnson3 | macOS 13.7.7 Ventura | arm64 | 4.5.1 Patched (2025-09-10 r88807) -- "Great Square Root" | 4637 |
| taishan | Linux (openEuler 24.03 LTS) | aarch64 | 4.5.0 (2025-04-11) -- "How About a Twenty-Six" | 4658 |
| Click on any hostname to see more info about the system (e.g. compilers) (*) as reported by 'uname -p', except on Windows and Mac OS X | ||||
| Package 1335/2361 | Hostname | OS / Arch | INSTALL | BUILD | CHECK | BUILD BIN | ||||||||
| MLP 1.57.0 (landing page) Tobias Verbeke
| nebbiolo2 | Linux (Ubuntu 24.04.3 LTS) / x86_64 | OK | OK | OK | |||||||||
| lconway | macOS 12.7.6 Monterey / x86_64 | OK | OK | OK | OK | |||||||||
| kjohnson3 | macOS 13.7.7 Ventura / arm64 | OK | OK | ERROR | OK | |||||||||
| taishan | Linux (openEuler 24.03 LTS) / aarch64 | OK | NA | NA | ||||||||||
|
To the developers/maintainers of the MLP package: - Allow up to 24 hours (and sometimes 48 hours) for your latest push to git@git.bioconductor.org:packages/MLP.git to reflect on this report. See Troubleshooting Build Report for more information. - Use the following Renviron settings to reproduce errors and warnings. - If 'R CMD check' started to fail recently on the Linux builder(s) over a missing dependency, add the missing dependency to 'Suggests:' in your DESCRIPTION file. See Renviron.bioc for more information. |
| Package: MLP |
| Version: 1.57.0 |
| Command: /Library/Frameworks/R.framework/Resources/bin/R CMD check --install=check:MLP.install-out.txt --library=/Library/Frameworks/R.framework/Resources/library --no-vignettes --timings MLP_1.57.0.tar.gz |
| StartedAt: 2025-10-24 20:46:57 -0400 (Fri, 24 Oct 2025) |
| EndedAt: 2025-10-24 20:53:07 -0400 (Fri, 24 Oct 2025) |
| EllapsedTime: 370.1 seconds |
| RetCode: 1 |
| Status: ERROR |
| CheckDir: MLP.Rcheck |
| Warnings: NA |
##############################################################################
##############################################################################
###
### Running command:
###
### /Library/Frameworks/R.framework/Resources/bin/R CMD check --install=check:MLP.install-out.txt --library=/Library/Frameworks/R.framework/Resources/library --no-vignettes --timings MLP_1.57.0.tar.gz
###
##############################################################################
##############################################################################
* using log directory ‘/Users/biocbuild/bbs-3.22-bioc/meat/MLP.Rcheck’
* using R version 4.5.1 Patched (2025-09-10 r88807)
* using platform: aarch64-apple-darwin20
* R was compiled by
Apple clang version 16.0.0 (clang-1600.0.26.6)
GNU Fortran (GCC) 14.2.0
* running under: macOS Ventura 13.7.7
* using session charset: UTF-8
* using option ‘--no-vignettes’
* checking for file ‘MLP/DESCRIPTION’ ... OK
* checking extension type ... Package
* this is package ‘MLP’ version ‘1.57.0’
* checking package namespace information ... OK
* checking package dependencies ... OK
* checking if this is a source package ... OK
* checking if there is a namespace ... OK
* checking for hidden files and directories ... OK
* checking for portable file names ... OK
* checking for sufficient/correct file permissions ... OK
* checking whether package ‘MLP’ can be installed ... OK
* checking installed package size ... OK
* checking package directory ... OK
* checking ‘build’ directory ... OK
* checking DESCRIPTION meta-information ... OK
* checking top-level files ... OK
* checking for left-over files ... OK
* checking index information ... OK
* checking package subdirectories ... OK
* checking code files for non-ASCII characters ... OK
* checking R files for syntax errors ... OK
* checking whether the package can be loaded ... OK
* checking whether the package can be loaded with stated dependencies ... OK
* checking whether the package can be unloaded cleanly ... OK
* checking whether the namespace can be loaded with stated dependencies ... OK
* checking whether the namespace can be unloaded cleanly ... OK
* checking dependencies in R code ... OK
* checking S3 generic/method consistency ... OK
* checking replacement functions ... OK
* checking foreign function calls ... OK
* checking R code for possible problems ... OK
* checking Rd files ... OK
* checking Rd metadata ... OK
* checking Rd cross-references ... OK
* checking for missing documentation entries ... OK
* checking for code/documentation mismatches ... OK
* checking Rd \usage sections ... OK
* checking Rd contents ... OK
* checking for unstated dependencies in examples ... OK
* checking sizes of PDF files under ‘inst/doc’ ... OK
* checking files in ‘vignettes’ ... OK
* checking examples ... OK
Examples with CPU (user + system) or elapsed time > 5s
user system elapsed
addGeneSetDescription 21.897 3.337 25.387
getGeneSets 22.090 1.051 155.486
MLP 7.465 0.909 8.521
* checking for unstated dependencies in ‘tests’ ... OK
* checking tests ...
Running ‘test.KEGG.R’
ERROR
Running the tests in ‘tests/test.KEGG.R’ failed.
Last 13 lines of output:
+ species = "Mouse",
+ geneSetSource = "KEGG",
+ entrezIdentifiers = names(pvalues)
+ ))
user system elapsed
12.937 0.111 142.456
>
> set.seed(111)
> mlpOut <- MLP(
+ geneSet = geneSet,
+ geneStatistic = pvalues
+ )
Error in x[n - 0:19] : only 0's may be mixed with negative subscripts
Calls: MLP ... quantileCurves -> vv -> smdecreasing1 -> lsfit -> as.matrix
Execution halted
* checking for unstated dependencies in vignettes ... OK
* checking package vignettes ... OK
* checking running R code from vignettes ... SKIPPED
* checking re-building of vignette outputs ... SKIPPED
* checking PDF version of manual ... OK
* DONE
Status: 1 ERROR
See
‘/Users/biocbuild/bbs-3.22-bioc/meat/MLP.Rcheck/00check.log’
for details.
MLP.Rcheck/00install.out
############################################################################## ############################################################################## ### ### Running command: ### ### /Library/Frameworks/R.framework/Resources/bin/R CMD INSTALL MLP ### ############################################################################## ############################################################################## * installing to library ‘/Library/Frameworks/R.framework/Versions/4.5-arm64/Resources/library’ * installing *source* package ‘MLP’ ... ** this is package ‘MLP’ version ‘1.57.0’ ** using staged installation ** R ** inst ** byte-compile and prepare package for lazy loading ** help *** installing help indices ** building package indices ** installing vignettes ** testing if installed package can be loaded from temporary location ** testing if installed package can be loaded from final location ** testing if installed package keeps a record of temporary installation path * DONE (MLP)
MLP.Rcheck/tests/test.KEGG.Rout.fail
R version 4.5.1 Patched (2025-09-10 r88807) -- "Great Square Root"
Copyright (C) 2025 The R Foundation for Statistical Computing
Platform: aarch64-apple-darwin20
R is free software and comes with ABSOLUTELY NO WARRANTY.
You are welcome to redistribute it under certain conditions.
Type 'license()' or 'licence()' for distribution details.
R is a collaborative project with many contributors.
Type 'contributors()' for more information and
'citation()' on how to cite R or R packages in publications.
Type 'demo()' for some demos, 'help()' for on-line help, or
'help.start()' for an HTML browser interface to help.
Type 'q()' to quit R.
> library(MLP)
>
> pathPValues <- system.file("exampleFiles", "examplePValues.rda", package = "MLP")
> load(pathPValues)
>
> pvalues <- examplePValues[seq.int(1000)]
>
> system.time(geneSet <- getGeneSets(
+ species = "Mouse",
+ geneSetSource = "KEGG",
+ entrezIdentifiers = names(pvalues)
+ ))
user system elapsed
12.937 0.111 142.456
>
> set.seed(111)
> mlpOut <- MLP(
+ geneSet = geneSet,
+ geneStatistic = pvalues
+ )
Error in x[n - 0:19] : only 0's may be mixed with negative subscripts
Calls: MLP ... quantileCurves -> vv -> smdecreasing1 -> lsfit -> as.matrix
Execution halted
MLP.Rcheck/MLP-Ex.timings
| name | user | system | elapsed | |
| MLP | 7.465 | 0.909 | 8.521 | |
| addGeneSetDescription | 21.897 | 3.337 | 25.387 | |
| getGeneSets | 22.090 | 1.051 | 155.486 | |
| mlpBarplot | 0.009 | 0.001 | 0.010 | |
| plot.MLP | 1.068 | 0.059 | 1.128 | |
| plotGOgraph | 0.172 | 0.008 | 0.181 | |
| plotGeneSetSignificance | 0.234 | 0.012 | 0.250 | |