| Back to Multiple platform build/check report for BioC 3.22: simplified long |
|
This page was generated on 2025-11-20 12:06 -0500 (Thu, 20 Nov 2025).
| Hostname | OS | Arch (*) | R version | Installed pkgs |
|---|---|---|---|---|
| nebbiolo2 | Linux (Ubuntu 24.04.3 LTS) | x86_64 | 4.5.2 (2025-10-31) -- "[Not] Part in a Rumble" | 4615 |
| merida1 | macOS 12.7.6 Monterey | x86_64 | 4.5.2 Patched (2025-11-05 r88990) -- "[Not] Part in a Rumble" | 4610 |
| kjohnson1 | macOS 13.7.5 Ventura | arm64 | 4.5.2 Patched (2025-11-04 r88984) -- "[Not] Part in a Rumble" | 4598 |
| taishan | Linux (openEuler 24.03 LTS) | aarch64 | 4.5.0 (2025-04-11) -- "How About a Twenty-Six" | 4668 |
| Click on any hostname to see more info about the system (e.g. compilers) (*) as reported by 'uname -p', except on Windows and Mac OS X | ||||
| Package 1081/2361 | Hostname | OS / Arch | INSTALL | BUILD | CHECK | BUILD BIN | ||||||||
| ISAnalytics 1.20.0 (landing page) Francesco Gazzo
| nebbiolo2 | Linux (Ubuntu 24.04.3 LTS) / x86_64 | OK | OK | OK | |||||||||
| merida1 | macOS 12.7.6 Monterey / x86_64 | OK | OK | OK | OK | |||||||||
| kjohnson1 | macOS 13.7.5 Ventura / arm64 | OK | OK | OK | OK | |||||||||
| taishan | Linux (openEuler 24.03 LTS) / aarch64 | OK | OK | OK | ||||||||||
|
To the developers/maintainers of the ISAnalytics package: - Allow up to 24 hours (and sometimes 48 hours) for your latest push to git@git.bioconductor.org:packages/ISAnalytics.git to reflect on this report. See Troubleshooting Build Report for more information. - Use the following Renviron settings to reproduce errors and warnings. - If 'R CMD check' started to fail recently on the Linux builder(s) over a missing dependency, add the missing dependency to 'Suggests:' in your DESCRIPTION file. See Renviron.bioc for more information. |
| Package: ISAnalytics |
| Version: 1.20.0 |
| Command: /Library/Frameworks/R.framework/Resources/bin/R CMD check --install=check:ISAnalytics.install-out.txt --library=/Library/Frameworks/R.framework/Resources/library --no-vignettes --timings ISAnalytics_1.20.0.tar.gz |
| StartedAt: 2025-11-18 08:03:37 -0500 (Tue, 18 Nov 2025) |
| EndedAt: 2025-11-18 08:07:59 -0500 (Tue, 18 Nov 2025) |
| EllapsedTime: 262.2 seconds |
| RetCode: 0 |
| Status: OK |
| CheckDir: ISAnalytics.Rcheck |
| Warnings: 0 |
##############################################################################
##############################################################################
###
### Running command:
###
### /Library/Frameworks/R.framework/Resources/bin/R CMD check --install=check:ISAnalytics.install-out.txt --library=/Library/Frameworks/R.framework/Resources/library --no-vignettes --timings ISAnalytics_1.20.0.tar.gz
###
##############################################################################
##############################################################################
* using log directory ‘/Users/biocbuild/bbs-3.22-bioc/meat/ISAnalytics.Rcheck’
* using R version 4.5.2 Patched (2025-11-04 r88984)
* using platform: aarch64-apple-darwin20
* R was compiled by
Apple clang version 16.0.0 (clang-1600.0.26.6)
GNU Fortran (GCC) 14.2.0
* running under: macOS Ventura 13.7.8
* using session charset: UTF-8
* using option ‘--no-vignettes’
* checking for file ‘ISAnalytics/DESCRIPTION’ ... OK
* this is package ‘ISAnalytics’ version ‘1.20.0’
* package encoding: UTF-8
* checking package namespace information ... OK
* checking package dependencies ... INFO
Imports includes 22 non-default packages.
Importing from so many packages makes the package vulnerable to any of
them becoming unavailable. Move as many as possible to Suggests and
use conditionally.
* checking if this is a source package ... OK
* checking if there is a namespace ... OK
* checking for hidden files and directories ... OK
* checking for portable file names ... OK
* checking for sufficient/correct file permissions ... OK
* checking whether package ‘ISAnalytics’ can be installed ... OK
* checking installed package size ... INFO
installed size is 8.2Mb
sub-directories of 1Mb or more:
data 5.8Mb
* checking package directory ... OK
* checking ‘build’ directory ... OK
* checking DESCRIPTION meta-information ... OK
* checking top-level files ... OK
* checking for left-over files ... OK
* checking index information ... OK
* checking package subdirectories ... OK
* checking code files for non-ASCII characters ... OK
* checking R files for syntax errors ... OK
* checking whether the package can be loaded ... OK
* checking whether the package can be loaded with stated dependencies ... OK
* checking whether the package can be unloaded cleanly ... OK
* checking whether the namespace can be loaded with stated dependencies ... OK
* checking whether the namespace can be unloaded cleanly ... OK
* checking whether startup messages can be suppressed ... OK
* checking dependencies in R code ... OK
* checking S3 generic/method consistency ... OK
* checking replacement functions ... OK
* checking foreign function calls ... OK
* checking R code for possible problems ... OK
* checking Rd files ... NOTE
checkRd: (-1) refGenes_hg19.Rd:21: Lost braces; missing escapes or markup?
21 | \item Download from {http://hgdownload.soe.ucsc.edu/goldenPath/hg19/database/}
| ^
* checking Rd metadata ... OK
* checking Rd cross-references ... OK
* checking for missing documentation entries ... OK
* checking for code/documentation mismatches ... OK
* checking Rd \usage sections ... OK
* checking Rd contents ... OK
* checking for unstated dependencies in examples ... OK
* checking contents of ‘data’ directory ... OK
* checking data for non-ASCII characters ... OK
* checking data for ASCII and uncompressed saves ... OK
* checking files in ‘vignettes’ ... OK
* checking examples ... OK
Examples with CPU (user + system) or elapsed time > 5s
user system elapsed
import_parallel_Vispa2Matrices 1.202 0.081 8.081
sharing_venn 1.158 0.050 14.708
* checking for unstated dependencies in ‘tests’ ... OK
* checking tests ...
Running ‘testthat.R’
OK
* checking for unstated dependencies in vignettes ... OK
* checking package vignettes ... OK
* checking running R code from vignettes ... SKIPPED
* checking re-building of vignette outputs ... SKIPPED
* checking PDF version of manual ... OK
* DONE
Status: 1 NOTE
See
‘/Users/biocbuild/bbs-3.22-bioc/meat/ISAnalytics.Rcheck/00check.log’
for details.
ISAnalytics.Rcheck/00install.out
############################################################################## ############################################################################## ### ### Running command: ### ### /Library/Frameworks/R.framework/Resources/bin/R CMD INSTALL ISAnalytics ### ############################################################################## ############################################################################## * installing to library ‘/Library/Frameworks/R.framework/Versions/4.5-arm64/Resources/library’ * installing *source* package ‘ISAnalytics’ ... ** this is package ‘ISAnalytics’ version ‘1.20.0’ ** using staged installation ** R ** data ** inst ** byte-compile and prepare package for lazy loading ** help *** installing help indices *** copying figures ** building package indices ** installing vignettes ** testing if installed package can be loaded from temporary location ** testing if installed package can be loaded from final location ** testing if installed package keeps a record of temporary installation path * DONE (ISAnalytics)
ISAnalytics.Rcheck/tests/testthat.Rout
R version 4.5.2 Patched (2025-11-04 r88984) -- "[Not] Part in a Rumble"
Copyright (C) 2025 The R Foundation for Statistical Computing
Platform: aarch64-apple-darwin20
R is free software and comes with ABSOLUTELY NO WARRANTY.
You are welcome to redistribute it under certain conditions.
Type 'license()' or 'licence()' for distribution details.
R is a collaborative project with many contributors.
Type 'contributors()' for more information and
'citation()' on how to cite R or R packages in publications.
Type 'demo()' for some demos, 'help()' for on-line help, or
'help.start()' for an HTML browser interface to help.
Type 'q()' to quit R.
> library(testthat)
> library(ISAnalytics)
>
> test_check("ISAnalytics")
Loading required namespace: plotly
Loading required namespace: rmarkdown
2025-11-18 08:05:59.976 R[65026:15529138] XType: Using static font registry.
Report correctly saved
i Report saved to: /var/folders/dc/2xck8b8s0_3gymbxnrltzxhm0000gs/T/RtmpeHqgHW/filefe024cf513d2/2025-11-18_collision_removal_report.html
Report correctly saved
i Report saved to: /var/folders/dc/2xck8b8s0_3gymbxnrltzxhm0000gs/T/RtmpeHqgHW/filefe027a89ec2c/2025-11-18_outlier_test_pool_fragments_report.html
[ FAIL 0 | WARN 0 | SKIP 0 | PASS 834 ]
>
> proc.time()
user system elapsed
38.976 1.964 144.691
ISAnalytics.Rcheck/ISAnalytics-Ex.timings
| name | user | system | elapsed | |
| CIS_grubbs | 0.328 | 0.015 | 0.373 | |
| CIS_grubbs_overtime | 0.781 | 0.085 | 4.044 | |
| CIS_volcano_plot | 0.567 | 0.011 | 0.618 | |
| HSC_population_plot | 0.524 | 0.015 | 3.342 | |
| HSC_population_size_estimate | 0.376 | 0.012 | 2.983 | |
| NGSdataExplorer | 0 | 0 | 0 | |
| aggregate_metadata | 0.040 | 0.001 | 0.043 | |
| aggregate_values_by_key | 0.025 | 0.001 | 0.032 | |
| annotation_issues | 0.011 | 0.001 | 0.012 | |
| as_sparse_matrix | 0.021 | 0.001 | 0.024 | |
| available_outlier_tests | 0.000 | 0.000 | 0.001 | |
| available_tags | 0.008 | 0.001 | 0.008 | |
| blood_lineages_default | 0.01 | 0.00 | 0.01 | |
| circos_genomic_density | 0 | 0 | 0 | |
| clinical_relevant_suspicious_genes | 0.004 | 0.000 | 0.004 | |
| comparison_matrix | 0.009 | 0.000 | 0.010 | |
| compute_abundance | 0.014 | 0.001 | 0.015 | |
| compute_near_integrations | 0.421 | 0.018 | 4.854 | |
| cumulative_count_union | 0 | 0 | 0 | |
| cumulative_is | 0.058 | 0.001 | 0.061 | |
| date_formats | 0 | 0 | 0 | |
| default_af_transform | 0.000 | 0.001 | 0.000 | |
| default_iss_file_prefixes | 0 | 0 | 0 | |
| default_meta_agg | 0.005 | 0.000 | 0.005 | |
| default_rec_agg_lambdas | 0 | 0 | 0 | |
| default_report_path | 0.003 | 0.001 | 0.003 | |
| default_stats | 0.483 | 0.011 | 0.543 | |
| enable_progress_bars | 0.007 | 0.001 | 0.009 | |
| export_ISA_settings | 0.026 | 0.000 | 0.027 | |
| fisher_scatterplot | 0.429 | 0.019 | 0.468 | |
| gene_frequency_fisher | 0.329 | 0.005 | 0.367 | |
| generate_Vispa2_launch_AF | 0.077 | 0.008 | 0.102 | |
| generate_blank_association_file | 0.005 | 0.000 | 0.008 | |
| generate_default_folder_structure | 0.319 | 0.056 | 0.501 | |
| import_ISA_settings | 0.022 | 0.001 | 0.023 | |
| import_Vispa2_stats | 0.714 | 0.073 | 3.805 | |
| import_association_file | 0.228 | 0.063 | 0.343 | |
| import_parallel_Vispa2Matrices | 1.202 | 0.081 | 8.081 | |
| import_single_Vispa2Matrix | 0.395 | 0.068 | 0.541 | |
| inspect_tags | 0.005 | 0.000 | 0.005 | |
| integration_alluvial_plot | 1.341 | 0.036 | 4.578 | |
| is_sharing | 0.608 | 0.017 | 4.184 | |
| iss_source | 0.626 | 0.014 | 4.546 | |
| known_clinical_oncogenes | 0.004 | 0.000 | 0.004 | |
| mandatory_IS_vars | 0.034 | 0.001 | 0.037 | |
| matching_options | 0 | 0 | 0 | |
| outlier_filter | 0.070 | 0.005 | 0.123 | |
| outliers_by_pool_fragments | 0.061 | 0.002 | 0.074 | |
| pcr_id_column | 0.011 | 0.000 | 0.040 | |
| purity_filter | 0.132 | 0.002 | 0.176 | |
| quantification_types | 0 | 0 | 0 | |
| realign_after_collisions | 0.553 | 0.014 | 3.550 | |
| reduced_AF_columns | 0.015 | 0.000 | 0.018 | |
| refGene_table_cols | 0 | 0 | 0 | |
| remove_collisions | 0.512 | 0.012 | 3.384 | |
| reset_mandatory_IS_vars | 0.002 | 0.000 | 0.002 | |
| sample_statistics | 0.114 | 0.020 | 0.143 | |
| separate_quant_matrices | 0.006 | 0.001 | 0.008 | |
| set_mandatory_IS_vars | 0.031 | 0.003 | 0.034 | |
| set_matrix_file_suffixes | 0.007 | 0.000 | 0.007 | |
| sharing_heatmap | 0.814 | 0.027 | 4.803 | |
| sharing_venn | 1.158 | 0.050 | 14.708 | |
| threshold_filter | 0 | 0 | 0 | |
| top_abund_tableGrob | 0.234 | 0.003 | 0.239 | |
| top_cis_overtime_heatmap | 0.773 | 0.033 | 4.436 | |
| top_integrations | 0.010 | 0.001 | 0.011 | |
| top_targeted_genes | 0.140 | 0.003 | 0.146 | |
| transform_columns | 0.006 | 0.000 | 0.007 | |