| Back to Multiple platform build/check report for BioC 3.22: simplified long |
|
This page was generated on 2025-11-20 12:06 -0500 (Thu, 20 Nov 2025).
| Hostname | OS | Arch (*) | R version | Installed pkgs |
|---|---|---|---|---|
| nebbiolo2 | Linux (Ubuntu 24.04.3 LTS) | x86_64 | 4.5.2 (2025-10-31) -- "[Not] Part in a Rumble" | 4615 |
| merida1 | macOS 12.7.6 Monterey | x86_64 | 4.5.2 Patched (2025-11-05 r88990) -- "[Not] Part in a Rumble" | 4610 |
| kjohnson1 | macOS 13.7.5 Ventura | arm64 | 4.5.2 Patched (2025-11-04 r88984) -- "[Not] Part in a Rumble" | 4598 |
| taishan | Linux (openEuler 24.03 LTS) | aarch64 | 4.5.0 (2025-04-11) -- "How About a Twenty-Six" | 4668 |
| Click on any hostname to see more info about the system (e.g. compilers) (*) as reported by 'uname -p', except on Windows and Mac OS X | ||||
| Package 978/2361 | Hostname | OS / Arch | INSTALL | BUILD | CHECK | BUILD BIN | ||||||||
| HiCBricks 1.28.0 (landing page) Koustav Pal
| nebbiolo2 | Linux (Ubuntu 24.04.3 LTS) / x86_64 | OK | OK | OK | |||||||||
| merida1 | macOS 12.7.6 Monterey / x86_64 | OK | OK | OK | OK | |||||||||
| kjohnson1 | macOS 13.7.5 Ventura / arm64 | OK | OK | OK | OK | |||||||||
| taishan | Linux (openEuler 24.03 LTS) / aarch64 | OK | OK | OK | ||||||||||
|
To the developers/maintainers of the HiCBricks package: - Allow up to 24 hours (and sometimes 48 hours) for your latest push to git@git.bioconductor.org:packages/HiCBricks.git to reflect on this report. See Troubleshooting Build Report for more information. - Use the following Renviron settings to reproduce errors and warnings. - If 'R CMD check' started to fail recently on the Linux builder(s) over a missing dependency, add the missing dependency to 'Suggests:' in your DESCRIPTION file. See Renviron.bioc for more information. |
| Package: HiCBricks |
| Version: 1.28.0 |
| Command: /Library/Frameworks/R.framework/Resources/bin/R CMD check --install=check:HiCBricks.install-out.txt --library=/Library/Frameworks/R.framework/Resources/library --no-vignettes --timings HiCBricks_1.28.0.tar.gz |
| StartedAt: 2025-11-18 07:36:46 -0500 (Tue, 18 Nov 2025) |
| EndedAt: 2025-11-18 07:38:01 -0500 (Tue, 18 Nov 2025) |
| EllapsedTime: 74.6 seconds |
| RetCode: 0 |
| Status: OK |
| CheckDir: HiCBricks.Rcheck |
| Warnings: 0 |
##############################################################################
##############################################################################
###
### Running command:
###
### /Library/Frameworks/R.framework/Resources/bin/R CMD check --install=check:HiCBricks.install-out.txt --library=/Library/Frameworks/R.framework/Resources/library --no-vignettes --timings HiCBricks_1.28.0.tar.gz
###
##############################################################################
##############################################################################
* using log directory ‘/Users/biocbuild/bbs-3.22-bioc/meat/HiCBricks.Rcheck’
* using R version 4.5.2 Patched (2025-11-04 r88984)
* using platform: aarch64-apple-darwin20
* R was compiled by
Apple clang version 16.0.0 (clang-1600.0.26.6)
GNU Fortran (GCC) 14.2.0
* running under: macOS Ventura 13.7.8
* using session charset: UTF-8
* using option ‘--no-vignettes’
* checking for file ‘HiCBricks/DESCRIPTION’ ... OK
* checking extension type ... Package
* this is package ‘HiCBricks’ version ‘1.28.0’
* package encoding: UTF-8
* checking package namespace information ... OK
* checking package dependencies ... OK
* checking if this is a source package ... OK
* checking if there is a namespace ... OK
* checking for hidden files and directories ... OK
* checking for portable file names ... OK
* checking for sufficient/correct file permissions ... OK
* checking whether package ‘HiCBricks’ can be installed ... OK
* checking installed package size ... OK
* checking package directory ... OK
* checking ‘build’ directory ... OK
* checking DESCRIPTION meta-information ... OK
* checking top-level files ... OK
* checking for left-over files ... OK
* checking index information ... OK
* checking package subdirectories ... OK
* checking code files for non-ASCII characters ... OK
* checking R files for syntax errors ... OK
* checking whether the package can be loaded ... OK
* checking whether the package can be loaded with stated dependencies ... OK
* checking whether the package can be unloaded cleanly ... OK
* checking whether the namespace can be loaded with stated dependencies ... OK
* checking whether the namespace can be unloaded cleanly ... OK
* checking dependencies in R code ... OK
* checking S3 generic/method consistency ... OK
* checking replacement functions ... OK
* checking foreign function calls ... OK
* checking R code for possible problems ... OK
* checking Rd files ... OK
* checking Rd metadata ... OK
* checking Rd cross-references ... OK
* checking for missing documentation entries ... OK
* checking for code/documentation mismatches ... OK
* checking Rd \usage sections ... OK
* checking Rd contents ... OK
* checking for unstated dependencies in examples ... OK
* checking files in ‘vignettes’ ... OK
* checking examples ... OK
* checking for unstated dependencies in vignettes ... OK
* checking package vignettes ... OK
* checking running R code from vignettes ... SKIPPED
* checking re-building of vignette outputs ... SKIPPED
* checking PDF version of manual ... OK
* DONE
Status: OK
HiCBricks.Rcheck/00install.out
############################################################################## ############################################################################## ### ### Running command: ### ### /Library/Frameworks/R.framework/Resources/bin/R CMD INSTALL HiCBricks ### ############################################################################## ############################################################################## * installing to library ‘/Library/Frameworks/R.framework/Versions/4.5-arm64/Resources/library’ * installing *source* package ‘HiCBricks’ ... ** this is package ‘HiCBricks’ version ‘1.28.0’ ** using staged installation ** R ** inst ** byte-compile and prepare package for lazy loading ** help *** installing help indices ** building package indices ** installing vignettes ** testing if installed package can be loaded from temporary location ** testing if installed package can be loaded from final location ** testing if installed package keeps a record of temporary installation path * DONE (HiCBricks)
HiCBricks.Rcheck/HiCBricks-Ex.timings
| name | user | system | elapsed | |
| BrickContainer_change_experiment_name | 0.453 | 0.054 | 0.653 | |
| BrickContainer_change_output_directory | 0.286 | 0.036 | 0.373 | |
| BrickContainer_get_path_to_file | 0.299 | 0.039 | 0.460 | |
| BrickContainer_list_chromosomes | 0.260 | 0.043 | 0.367 | |
| BrickContainer_list_experiment_name | 0.281 | 0.037 | 0.365 | |
| BrickContainer_list_files | 0.267 | 0.035 | 0.383 | |
| BrickContainer_list_output_directory | 0.243 | 0.044 | 0.363 | |
| BrickContainer_list_resolutions | 0.262 | 0.038 | 0.371 | |
| BrickContainer_unlink_resolution | 0.571 | 0.085 | 0.837 | |
| Brick_add_ranges | 0.633 | 0.057 | 0.953 | |
| Brick_call_compartments | 0.465 | 0.076 | 0.675 | |
| Brick_export_to_sparse | 0.861 | 0.095 | 1.278 | |
| Brick_fetch_range_index | 0.475 | 0.046 | 0.685 | |
| Brick_fetch_row_vector | 0.530 | 0.073 | 0.756 | |
| Brick_get_bintable | 0.285 | 0.039 | 0.369 | |
| Brick_get_chrominfo | 0.260 | 0.045 | 0.394 | |
| Brick_get_entire_matrix | 0.407 | 0.078 | 0.621 | |
| Brick_get_matrix | 0.389 | 0.060 | 0.524 | |
| Brick_get_matrix_mcols | 0.394 | 0.108 | 0.623 | |
| Brick_get_matrix_within_coords | 0.569 | 0.072 | 0.755 | |
| Brick_get_ranges | 0.272 | 0.042 | 0.419 | |
| Brick_get_values_by_distance | 0.439 | 0.077 | 0.641 | |
| Brick_get_vector_values | 0.446 | 0.089 | 0.664 | |
| Brick_list_matrices | 0.265 | 0.039 | 0.393 | |
| Brick_list_matrix_mcols | 0.247 | 0.037 | 0.392 | |
| Brick_list_mcool_normalisations | 0.000 | 0.000 | 0.001 | |
| Brick_list_mcool_resolutions | 0 | 0 | 0 | |
| Brick_list_rangekeys | 0.261 | 0.047 | 0.404 | |
| Brick_list_ranges_mcols | 0.260 | 0.040 | 0.358 | |
| Brick_load_cis_matrix_till_distance | 0.332 | 0.046 | 0.392 | |
| Brick_load_data_from_mcool | 0.000 | 0.001 | 0.000 | |
| Brick_load_data_from_sparse | 0.001 | 0.000 | 0.000 | |
| Brick_load_matrix | 0.352 | 0.081 | 0.447 | |
| Brick_local_score_differentiator | 0.579 | 0.078 | 0.706 | |
| Brick_make_ranges | 0.003 | 0.000 | 0.003 | |
| Brick_matrix_dimensions | 0.375 | 0.091 | 0.544 | |
| Brick_matrix_exists | 0.372 | 0.068 | 0.499 | |
| Brick_matrix_filename | 0.363 | 0.056 | 0.437 | |
| Brick_matrix_isdone | 0.364 | 0.055 | 0.465 | |
| Brick_matrix_issparse | 0.373 | 0.065 | 0.522 | |
| Brick_matrix_maxdist | 0.371 | 0.060 | 0.474 | |
| Brick_matrix_minmax | 0.365 | 0.061 | 0.525 | |
| Brick_mcool_normalisation_exists | 0.000 | 0.000 | 0.001 | |
| Brick_rangekey_exists | 0.247 | 0.039 | 0.317 | |
| Brick_return_region_position | 0.281 | 0.037 | 0.370 | |
| Brick_vizart_plot_heatmap | 0.768 | 0.106 | 1.008 | |
| Create_many_Bricks | 0.252 | 0.035 | 0.328 | |
| Create_many_Bricks_from_mcool | 0 | 0 | 0 | |
| load_BrickContainer | 0.256 | 0.036 | 0.322 | |