| Back to Multiple platform build/check report for BioC 3.22: simplified long |
|
This page was generated on 2025-10-24 12:06 -0400 (Fri, 24 Oct 2025).
| Hostname | OS | Arch (*) | R version | Installed pkgs |
|---|---|---|---|---|
| nebbiolo2 | Linux (Ubuntu 24.04.3 LTS) | x86_64 | 4.5.1 Patched (2025-08-23 r88802) -- "Great Square Root" | 4898 |
| lconway | macOS 12.7.6 Monterey | x86_64 | 4.5.1 Patched (2025-09-10 r88807) -- "Great Square Root" | 4688 |
| kjohnson3 | macOS 13.7.7 Ventura | arm64 | 4.5.1 Patched (2025-09-10 r88807) -- "Great Square Root" | 4634 |
| taishan | Linux (openEuler 24.03 LTS) | aarch64 | 4.5.0 (2025-04-11) -- "How About a Twenty-Six" | 4658 |
| Click on any hostname to see more info about the system (e.g. compilers) (*) as reported by 'uname -p', except on Windows and Mac OS X | ||||
| Package 957/2359 | Hostname | OS / Arch | INSTALL | BUILD | CHECK | BUILD BIN | ||||||||
| Harman 1.37.0 (landing page) Jason Ross
| nebbiolo2 | Linux (Ubuntu 24.04.3 LTS) / x86_64 | OK | OK | OK | |||||||||
| lconway | macOS 12.7.6 Monterey / x86_64 | OK | OK | OK | OK | |||||||||
| kjohnson3 | macOS 13.7.7 Ventura / arm64 | OK | OK | OK | OK | |||||||||
| taishan | Linux (openEuler 24.03 LTS) / aarch64 | OK | OK | NA | ||||||||||
|
To the developers/maintainers of the Harman package: - Allow up to 24 hours (and sometimes 48 hours) for your latest push to git@git.bioconductor.org:packages/Harman.git to reflect on this report. See Troubleshooting Build Report for more information. - Use the following Renviron settings to reproduce errors and warnings. - If 'R CMD check' started to fail recently on the Linux builder(s) over a missing dependency, add the missing dependency to 'Suggests:' in your DESCRIPTION file. See Renviron.bioc for more information. |
| Package: Harman |
| Version: 1.37.0 |
| Command: rm -rf Harman.buildbin-libdir && mkdir Harman.buildbin-libdir && /Users/biocbuild/BBS/utils/build-universal.sh Harman_1.37.0.tar.gz /Library/Frameworks/R.framework/Resources/bin/R Harman.buildbin-libdir |
| StartedAt: 2025-10-23 23:12:29 -0400 (Thu, 23 Oct 2025) |
| EndedAt: 2025-10-23 23:12:34 -0400 (Thu, 23 Oct 2025) |
| EllapsedTime: 5.1 seconds |
| RetCode: 0 |
| Status: OK |
| PackageFile: Harman_1.37.0.tgz |
| PackageFileSize: 2.175 MiB |
##############################################################################
##############################################################################
###
### Running command:
###
### rm -rf Harman.buildbin-libdir && mkdir Harman.buildbin-libdir && /Users/biocbuild/BBS/utils/build-universal.sh Harman_1.37.0.tar.gz /Library/Frameworks/R.framework/Resources/bin/R Harman.buildbin-libdir
###
##############################################################################
##############################################################################
>>>>>>>
>>>>>>> INSTALLATION WITH 'R CMD INSTALL --preclean --no-multiarch --library=Harman.buildbin-libdir Harman_1.37.0.tar.gz'
>>>>>>>
* installing *source* package ‘Harman’ ...
** this is package ‘Harman’ version ‘1.37.0’
** using staged installation
** libs
using C++ compiler: ‘Apple clang version 15.0.0 (clang-1500.1.0.2.5)’
using SDK: ‘MacOSX11.3.1.sdk’
clang++ -arch arm64 -std=gnu++17 -I"/Library/Frameworks/R.framework/Resources/include" -DNDEBUG -D_ARRAYALIGNEMT=4 -D_USE_RCPP=1 -I'/Library/Frameworks/R.framework/Versions/4.5-arm64/Resources/library/Rcpp/include' -I/opt/R/arm64/include `/Library/Frameworks/R.framework/Resources/bin/Rscript -e "Rcpp:::CxxFlags()"` -I. -fPIC -falign-functions=64 -Wall -g -O2 -c Harman.cpp -o Harman.o
In file included from Harman.cpp:182:
./CSelectRandom.h:283:11: warning: variable 'seed' set but not used [-Wunused-but-set-variable]
size_t seed ;
^
./CSelectRandom.h:372:11: warning: variable 'seed' set but not used [-Wunused-but-set-variable]
size_t seed ;
^
./CSelectRandom.h:392:11: warning: unused variable 'currindex' [-Wunused-variable]
size_t currindex ;
^
./CSelectRandom.h:394:35: warning: unused variable 'it1' [-Wunused-variable]
std::vector<double>::iterator it1, it2 ;
^
./CSelectRandom.h:394:40: warning: unused variable 'it2' [-Wunused-variable]
std::vector<double>::iterator it1, it2 ;
^
./CSelectRandom.h:638:20: warning: unused variable 'ts1' [-Wunused-variable]
struct timespec ts1, ts2 ;
^
./CSelectRandom.h:638:25: warning: unused variable 'ts2' [-Wunused-variable]
struct timespec ts1, ts2 ;
^
./CSelectRandom.h:639:11: warning: unused variable 'time1' [-Wunused-variable]
double time1, time2 ;
^
./CSelectRandom.h:639:18: warning: unused variable 'time2' [-Wunused-variable]
double time1, time2 ;
^
./CSelectRandom.h:932:18: warning: variable 'reject' set but not used [-Wunused-but-set-variable]
long long int reject ;
^
./CSelectRandom.h:1019:23: warning: unused variable 'randData2' [-Wunused-variable]
size_t randData1, randData2 ;
^
./CSelectRandom.h:1021:12: warning: variable 'reject' set but not used [-Wunused-but-set-variable]
size_t reject ;
^
Harman.cpp:2480:12: warning: variable 'count' set but not used [-Wunused-but-set-variable]
size_t count ;
^
13 warnings generated.
clang++ -arch arm64 -std=gnu++17 -dynamiclib -Wl,-headerpad_max_install_names -undefined dynamic_lookup -L/Library/Frameworks/R.framework/Resources/lib -L/opt/R/arm64/lib -o Harman.so Harman.o -F/Library/Frameworks/R.framework/.. -framework R
installing to /Users/biocbuild/bbs-3.22-bioc/meat/Harman.buildbin-libdir/00LOCK-Harman/00new/Harman/libs
** R
** inst
** byte-compile and prepare package for lazy loading
** help
*** installing help indices
** building package indices
** installing vignettes
** testing if installed package can be loaded from temporary location
** checking absolute paths in shared objects and dynamic libraries
** testing if installed package can be loaded from final location
** testing if installed package keeps a record of temporary installation path
* DONE (Harman)
>>>>>>>
>>>>>>> FIXING PATHS TO DYNAMIC LIBRARIES FOR Harman.buildbin-libdir/Harman/libs/Harman.so
>>>>>>>
>>>>>>> Paths before fix:
Harman.buildbin-libdir/Harman/libs/Harman.so:
Harman.so (compatibility version 0.0.0, current version 0.0.0)
/Library/Frameworks/R.framework/Versions/4.5-arm64/Resources/lib/libR.dylib (compatibility version 4.5.0, current version 4.5.1)
/usr/lib/libc++.1.dylib (compatibility version 1.0.0, current version 905.6.0)
/usr/lib/libSystem.B.dylib (compatibility version 1.0.0, current version 1292.100.5)
>>>>>>> Fix with install_name_tool:
install_name_tool -change "/usr/local/lib/libgcc_s.1.1.dylib" "/Library/Frameworks/R.framework/Versions/4.5-arm64/Resources/lib/libgcc_s.1.1.dylib" "Harman.buildbin-libdir/Harman/libs/Harman.so"
install_name_tool -change "/usr/local/lib/libgfortran.5.dylib" "/Library/Frameworks/R.framework/Versions/4.5-arm64/Resources/lib/libgfortran.5.dylib" "Harman.buildbin-libdir/Harman/libs/Harman.so"
install_name_tool -change "/usr/local/lib/libquadmath.0.dylib" "/Library/Frameworks/R.framework/Versions/4.5-arm64/Resources/lib/libquadmath.0.dylib" "Harman.buildbin-libdir/Harman/libs/Harman.so"
>>>>>>> Paths after fix:
Harman.buildbin-libdir/Harman/libs/Harman.so:
Harman.so (compatibility version 0.0.0, current version 0.0.0)
/Library/Frameworks/R.framework/Versions/4.5-arm64/Resources/lib/libR.dylib (compatibility version 4.5.0, current version 4.5.1)
/usr/lib/libc++.1.dylib (compatibility version 1.0.0, current version 905.6.0)
/usr/lib/libSystem.B.dylib (compatibility version 1.0.0, current version 1292.100.5)