| Back to Multiple platform build/check report for BioC 3.22: simplified long |
|
This page was generated on 2025-10-25 12:06 -0400 (Sat, 25 Oct 2025).
| Hostname | OS | Arch (*) | R version | Installed pkgs |
|---|---|---|---|---|
| nebbiolo2 | Linux (Ubuntu 24.04.3 LTS) | x86_64 | 4.5.1 Patched (2025-08-23 r88802) -- "Great Square Root" | 4901 |
| lconway | macOS 12.7.6 Monterey | x86_64 | 4.5.1 Patched (2025-09-10 r88807) -- "Great Square Root" | 4691 |
| kjohnson3 | macOS 13.7.7 Ventura | arm64 | 4.5.1 Patched (2025-09-10 r88807) -- "Great Square Root" | 4637 |
| taishan | Linux (openEuler 24.03 LTS) | aarch64 | 4.5.0 (2025-04-11) -- "How About a Twenty-Six" | 4658 |
| Click on any hostname to see more info about the system (e.g. compilers) (*) as reported by 'uname -p', except on Windows and Mac OS X | ||||
| Package 852/2361 | Hostname | OS / Arch | INSTALL | BUILD | CHECK | BUILD BIN | ||||||||
| GenomicRanges 1.61.6 (landing page) Hervé Pagès
| nebbiolo2 | Linux (Ubuntu 24.04.3 LTS) / x86_64 | OK | OK | OK | |||||||||
| lconway | macOS 12.7.6 Monterey / x86_64 | OK | OK | OK | OK | |||||||||
| kjohnson3 | macOS 13.7.7 Ventura / arm64 | OK | OK | OK | OK | |||||||||
| taishan | Linux (openEuler 24.03 LTS) / aarch64 | OK | NA | NA | ||||||||||
|
To the developers/maintainers of the GenomicRanges package: - Allow up to 24 hours (and sometimes 48 hours) for your latest push to git@git.bioconductor.org:packages/GenomicRanges.git to reflect on this report. See Troubleshooting Build Report for more information. - Use the following Renviron settings to reproduce errors and warnings. - If 'R CMD check' started to fail recently on the Linux builder(s) over a missing dependency, add the missing dependency to 'Suggests:' in your DESCRIPTION file. See Renviron.bioc for more information. |
| Package: GenomicRanges |
| Version: 1.61.6 |
| Command: /Library/Frameworks/R.framework/Resources/bin/R CMD check --install=check:GenomicRanges.install-out.txt --library=/Library/Frameworks/R.framework/Resources/library --no-vignettes --timings GenomicRanges_1.61.6.tar.gz |
| StartedAt: 2025-10-24 19:57:05 -0400 (Fri, 24 Oct 2025) |
| EndedAt: 2025-10-24 19:58:39 -0400 (Fri, 24 Oct 2025) |
| EllapsedTime: 94.0 seconds |
| RetCode: 0 |
| Status: OK |
| CheckDir: GenomicRanges.Rcheck |
| Warnings: 0 |
##############################################################################
##############################################################################
###
### Running command:
###
### /Library/Frameworks/R.framework/Resources/bin/R CMD check --install=check:GenomicRanges.install-out.txt --library=/Library/Frameworks/R.framework/Resources/library --no-vignettes --timings GenomicRanges_1.61.6.tar.gz
###
##############################################################################
##############################################################################
* using log directory ‘/Users/biocbuild/bbs-3.22-bioc/meat/GenomicRanges.Rcheck’
* using R version 4.5.1 Patched (2025-09-10 r88807)
* using platform: aarch64-apple-darwin20
* R was compiled by
Apple clang version 16.0.0 (clang-1600.0.26.6)
GNU Fortran (GCC) 14.2.0
* running under: macOS Ventura 13.7.7
* using session charset: UTF-8
* using option ‘--no-vignettes’
* checking for file ‘GenomicRanges/DESCRIPTION’ ... OK
* this is package ‘GenomicRanges’ version ‘1.61.6’
* package encoding: UTF-8
* checking package namespace information ... OK
* checking package dependencies ... OK
* checking if this is a source package ... OK
* checking if there is a namespace ... OK
* checking for hidden files and directories ... OK
* checking for portable file names ... OK
* checking for sufficient/correct file permissions ... OK
* checking whether package ‘GenomicRanges’ can be installed ... OK
* used C compiler: ‘Apple clang version 15.0.0 (clang-1500.1.0.2.5)’
* used SDK: ‘MacOSX11.3.1.sdk’
* checking installed package size ... OK
* checking package directory ... OK
* checking ‘build’ directory ... OK
* checking DESCRIPTION meta-information ... OK
* checking top-level files ... OK
* checking for left-over files ... OK
* checking index information ... OK
* checking package subdirectories ... NOTE
Problems with news in ‘NEWS’:
Cannot process chunk/lines:
SIGNIFICANT USER-VISIBLE CHANGES
Cannot process chunk/lines:
DEPRECATED AND DEFUNCT
* checking code files for non-ASCII characters ... OK
* checking R files for syntax errors ... OK
* checking whether the package can be loaded ... OK
* checking whether the package can be loaded with stated dependencies ... OK
* checking whether the package can be unloaded cleanly ... OK
* checking whether the namespace can be loaded with stated dependencies ... OK
* checking whether the namespace can be unloaded cleanly ... OK
* checking dependencies in R code ... OK
* checking S3 generic/method consistency ... OK
* checking replacement functions ... OK
* checking foreign function calls ... OK
* checking R code for possible problems ... OK
* checking Rd files ... OK
* checking Rd metadata ... OK
* checking Rd cross-references ... NOTE
Found the following Rd file(s) with Rd \link{} targets missing package
anchors:
GPos-class.Rd: IRanges, IntegerRanges
GRanges-class.Rd: strand, Seqinfo, DataFrame, seqlevels, List
GRangesList-class.Rd: RleList, CharacterList, CompressedIRangesList,
IntegerRangesList, DataFrame, Seqinfo, seqlevels, Rle, AtomicList
absoluteRanges.Rd: IntegerRanges, Seqinfo, seqlengths
findOverlaps-methods.Rd: Hits
strand-utils.Rd: RleList
tileGenome.Rd: Seqinfo, seqlengths
Please provide package anchors for all Rd \link{} targets not in the
package itself and the base packages.
* checking for missing documentation entries ... OK
* checking for code/documentation mismatches ... OK
* checking Rd \usage sections ... OK
* checking Rd contents ... OK
* checking for unstated dependencies in examples ... OK
* checking line endings in C/C++/Fortran sources/headers ... OK
* checking compiled code ... NOTE
Note: information on .o files is not available
* checking sizes of PDF files under ‘inst/doc’ ... OK
* checking files in ‘vignettes’ ... OK
* checking examples ... OK
Examples with CPU (user + system) or elapsed time > 5s
user system elapsed
genomicvars 20.328 3.059 23.477
GPos-class 15.764 0.967 16.905
* checking for unstated dependencies in ‘tests’ ... OK
* checking tests ...
Running ‘run_unitTests.R’
OK
* checking for unstated dependencies in vignettes ... OK
* checking package vignettes ... OK
* checking running R code from vignettes ... SKIPPED
* checking re-building of vignette outputs ... SKIPPED
* checking PDF version of manual ... OK
* DONE
Status: 3 NOTEs
See
‘/Users/biocbuild/bbs-3.22-bioc/meat/GenomicRanges.Rcheck/00check.log’
for details.
GenomicRanges.Rcheck/00install.out
############################################################################## ############################################################################## ### ### Running command: ### ### /Library/Frameworks/R.framework/Resources/bin/R CMD INSTALL GenomicRanges ### ############################################################################## ############################################################################## * installing to library ‘/Library/Frameworks/R.framework/Versions/4.5-arm64/Resources/library’ * installing *source* package ‘GenomicRanges’ ... ** this is package ‘GenomicRanges’ version ‘1.61.6’ ** using staged installation ** libs using C compiler: ‘Apple clang version 15.0.0 (clang-1500.1.0.2.5)’ using SDK: ‘MacOSX11.3.1.sdk’ clang -arch arm64 -std=gnu2x -I"/Library/Frameworks/R.framework/Resources/include" -DNDEBUG -I'/Library/Frameworks/R.framework/Versions/4.5-arm64/Resources/library/S4Vectors/include' -I'/Library/Frameworks/R.framework/Versions/4.5-arm64/Resources/library/IRanges/include' -I/opt/R/arm64/include -fPIC -falign-functions=64 -Wall -g -O2 -c IRanges_stubs.c -o IRanges_stubs.o clang -arch arm64 -std=gnu2x -I"/Library/Frameworks/R.framework/Resources/include" -DNDEBUG -I'/Library/Frameworks/R.framework/Versions/4.5-arm64/Resources/library/S4Vectors/include' -I'/Library/Frameworks/R.framework/Versions/4.5-arm64/Resources/library/IRanges/include' -I/opt/R/arm64/include -fPIC -falign-functions=64 -Wall -g -O2 -c R_init_GenomicRanges.c -o R_init_GenomicRanges.o clang -arch arm64 -std=gnu2x -I"/Library/Frameworks/R.framework/Resources/include" -DNDEBUG -I'/Library/Frameworks/R.framework/Versions/4.5-arm64/Resources/library/S4Vectors/include' -I'/Library/Frameworks/R.framework/Versions/4.5-arm64/Resources/library/IRanges/include' -I/opt/R/arm64/include -fPIC -falign-functions=64 -Wall -g -O2 -c S4Vectors_stubs.c -o S4Vectors_stubs.o clang -arch arm64 -std=gnu2x -I"/Library/Frameworks/R.framework/Resources/include" -DNDEBUG -I'/Library/Frameworks/R.framework/Versions/4.5-arm64/Resources/library/S4Vectors/include' -I'/Library/Frameworks/R.framework/Versions/4.5-arm64/Resources/library/IRanges/include' -I/opt/R/arm64/include -fPIC -falign-functions=64 -Wall -g -O2 -c transcript_utils.c -o transcript_utils.o clang -arch arm64 -std=gnu2x -dynamiclib -Wl,-headerpad_max_install_names -undefined dynamic_lookup -L/Library/Frameworks/R.framework/Resources/lib -L/opt/R/arm64/lib -o GenomicRanges.so IRanges_stubs.o R_init_GenomicRanges.o S4Vectors_stubs.o transcript_utils.o -F/Library/Frameworks/R.framework/.. -framework R installing to /Library/Frameworks/R.framework/Versions/4.5-arm64/Resources/library/00LOCK-GenomicRanges/00new/GenomicRanges/libs ** R ** inst ** byte-compile and prepare package for lazy loading ** help *** installing help indices ** building package indices ** installing vignettes ** testing if installed package can be loaded from temporary location ** checking absolute paths in shared objects and dynamic libraries ** testing if installed package can be loaded from final location ** testing if installed package keeps a record of temporary installation path * DONE (GenomicRanges)
GenomicRanges.Rcheck/tests/run_unitTests.Rout
R version 4.5.1 Patched (2025-09-10 r88807) -- "Great Square Root"
Copyright (C) 2025 The R Foundation for Statistical Computing
Platform: aarch64-apple-darwin20
R is free software and comes with ABSOLUTELY NO WARRANTY.
You are welcome to redistribute it under certain conditions.
Type 'license()' or 'licence()' for distribution details.
R is a collaborative project with many contributors.
Type 'contributors()' for more information and
'citation()' on how to cite R or R packages in publications.
Type 'demo()' for some demos, 'help()' for on-line help, or
'help.start()' for an HTML browser interface to help.
Type 'q()' to quit R.
> require("GenomicRanges") || stop("unable to load GenomicRanges package")
Loading required package: GenomicRanges
Loading required package: stats4
Loading required package: BiocGenerics
Loading required package: generics
Attaching package: 'generics'
The following objects are masked from 'package:base':
as.difftime, as.factor, as.ordered, intersect, is.element, setdiff,
setequal, union
Attaching package: 'BiocGenerics'
The following objects are masked from 'package:stats':
IQR, mad, sd, var, xtabs
The following objects are masked from 'package:base':
Filter, Find, Map, Position, Reduce, anyDuplicated, aperm, append,
as.data.frame, basename, cbind, colnames, dirname, do.call,
duplicated, eval, evalq, get, grep, grepl, is.unsorted, lapply,
mapply, match, mget, order, paste, pmax, pmax.int, pmin, pmin.int,
rank, rbind, rownames, sapply, saveRDS, table, tapply, unique,
unsplit, which.max, which.min
Loading required package: S4Vectors
Attaching package: 'S4Vectors'
The following object is masked from 'package:utils':
findMatches
The following objects are masked from 'package:base':
I, expand.grid, unname
Loading required package: IRanges
Loading required package: Seqinfo
[1] TRUE
> GenomicRanges:::.test()
RUNIT TEST PROTOCOL -- Fri Oct 24 19:58:34 2025
***********************************************
Number of test functions: 74
Number of errors: 0
Number of failures: 0
1 Test Suite :
GenomicRanges RUnit Tests - 74 test functions, 0 errors, 0 failures
Number of test functions: 74
Number of errors: 0
Number of failures: 0
>
> proc.time()
user system elapsed
12.304 0.100 12.473
GenomicRanges.Rcheck/GenomicRanges-Ex.timings
| name | user | system | elapsed | |
| GNCList-class | 0.236 | 0.004 | 0.240 | |
| GPos-class | 15.764 | 0.967 | 16.905 | |
| GRanges-class | 0.226 | 0.009 | 0.235 | |
| GRangesFactor-class | 0.110 | 0.002 | 0.111 | |
| GRangesList-class | 0.126 | 0.002 | 0.128 | |
| GenomicRanges-comparison | 0.067 | 0.001 | 0.069 | |
| absoluteRanges | 0.836 | 0.042 | 0.882 | |
| constraint | 0.248 | 0.014 | 0.270 | |
| coverage-methods | 0.076 | 0.001 | 0.077 | |
| findOverlaps-methods | 0.494 | 0.005 | 0.513 | |
| genomic-range-squeezers | 0.000 | 0.000 | 0.001 | |
| genomicvars | 20.328 | 3.059 | 23.477 | |
| inter-range-methods | 0.762 | 0.051 | 0.819 | |
| intra-range-methods | 0.176 | 0.027 | 0.204 | |
| makeGRangesFromDataFrame | 0.244 | 0.016 | 4.271 | |
| makeGRangesListFromDataFrame | 0.027 | 0.000 | 0.039 | |
| nearest-methods | 0.439 | 0.004 | 0.467 | |
| phicoef | 0 | 0 | 0 | |
| setops-methods | 0.865 | 0.004 | 0.872 | |
| strand-utils | 0.027 | 0.000 | 0.028 | |
| subtract-methods | 0.062 | 0.000 | 0.063 | |
| tile-methods | 0.025 | 0.000 | 0.025 | |
| tileGenome | 0.101 | 0.005 | 0.105 | |