| Back to Multiple platform build/check report for BioC 3.22: simplified long |
|
This page was generated on 2025-10-24 12:06 -0400 (Fri, 24 Oct 2025).
| Hostname | OS | Arch (*) | R version | Installed pkgs |
|---|---|---|---|---|
| nebbiolo2 | Linux (Ubuntu 24.04.3 LTS) | x86_64 | 4.5.1 Patched (2025-08-23 r88802) -- "Great Square Root" | 4898 |
| lconway | macOS 12.7.6 Monterey | x86_64 | 4.5.1 Patched (2025-09-10 r88807) -- "Great Square Root" | 4688 |
| kjohnson3 | macOS 13.7.7 Ventura | arm64 | 4.5.1 Patched (2025-09-10 r88807) -- "Great Square Root" | 4634 |
| taishan | Linux (openEuler 24.03 LTS) | aarch64 | 4.5.0 (2025-04-11) -- "How About a Twenty-Six" | 4658 |
| Click on any hostname to see more info about the system (e.g. compilers) (*) as reported by 'uname -p', except on Windows and Mac OS X | ||||
| Package 888/2359 | Hostname | OS / Arch | INSTALL | BUILD | CHECK | BUILD BIN | ||||||||
| GLAD 2.73.0 (landing page) Philippe Hupe
| nebbiolo2 | Linux (Ubuntu 24.04.3 LTS) / x86_64 | OK | OK | WARNINGS | |||||||||
| lconway | macOS 12.7.6 Monterey / x86_64 | OK | OK | WARNINGS | OK | |||||||||
| kjohnson3 | macOS 13.7.7 Ventura / arm64 | OK | OK | WARNINGS | OK | |||||||||
| taishan | Linux (openEuler 24.03 LTS) / aarch64 | OK | OK | NA | ||||||||||
|
To the developers/maintainers of the GLAD package: - Allow up to 24 hours (and sometimes 48 hours) for your latest push to git@git.bioconductor.org:packages/GLAD.git to reflect on this report. See Troubleshooting Build Report for more information. - Use the following Renviron settings to reproduce errors and warnings. - If 'R CMD check' started to fail recently on the Linux builder(s) over a missing dependency, add the missing dependency to 'Suggests:' in your DESCRIPTION file. See Renviron.bioc for more information. |
| Package: GLAD |
| Version: 2.73.0 |
| Command: /Library/Frameworks/R.framework/Resources/bin/R CMD INSTALL GLAD |
| StartedAt: 2025-10-23 15:01:36 -0400 (Thu, 23 Oct 2025) |
| EndedAt: 2025-10-23 15:01:42 -0400 (Thu, 23 Oct 2025) |
| EllapsedTime: 5.4 seconds |
| RetCode: 0 |
| Status: OK |
##############################################################################
##############################################################################
###
### Running command:
###
### /Library/Frameworks/R.framework/Resources/bin/R CMD INSTALL GLAD
###
##############################################################################
##############################################################################
* installing to library ‘/Library/Frameworks/R.framework/Versions/4.5-arm64/Resources/library’
* installing *source* package ‘GLAD’ ...
** this is package ‘GLAD’ version ‘2.73.0’
** using staged installation
checking for pkg-config... /opt/homebrew/bin/pkg-config
checking pkg-config is at least version 0.9.0... yes
checking for GSL... yes
GSL has been found on the operating system
operating system: Darwin
configure: creating ./config.status
config.status: creating src/Makevars
src/Makevars file
PKG_LIBS = -L/opt/R/arm64/lib -lgsl -lgslcblas -lm
PKG_CPPFLAGS = -DIS_MAC_OS
** libs
using C compiler: ‘Apple clang version 15.0.0 (clang-1500.1.0.2.5)’
using C++ compiler: ‘Apple clang version 15.0.0 (clang-1500.1.0.2.5)’
using SDK: ‘MacOSX11.3.1.sdk’
clang++ -arch arm64 -std=gnu++17 -I"/Library/Frameworks/R.framework/Resources/include" -DNDEBUG -DIS_MAC_OS -I/opt/R/arm64/include -fPIC -falign-functions=64 -Wall -g -O2 -c BkpInfo.cpp -o BkpInfo.o
clang++ -arch arm64 -std=gnu++17 -I"/Library/Frameworks/R.framework/Resources/include" -DNDEBUG -DIS_MAC_OS -I/opt/R/arm64/include -fPIC -falign-functions=64 -Wall -g -O2 -c HaarSeg.cpp -o HaarSeg.o
HaarSeg.cpp:50:12: warning: variable 'lowSquareSum' set but not used [-Wunused-but-set-variable]
double lowSquareSum = 0;
^
1 warning generated.
clang++ -arch arm64 -std=gnu++17 -I"/Library/Frameworks/R.framework/Resources/include" -DNDEBUG -DIS_MAC_OS -I/opt/R/arm64/include -fPIC -falign-functions=64 -Wall -g -O2 -c MoveBkp.cpp -o MoveBkp.o
clang++ -arch arm64 -std=gnu++17 -I"/Library/Frameworks/R.framework/Resources/include" -DNDEBUG -DIS_MAC_OS -I/opt/R/arm64/include -fPIC -falign-functions=64 -Wall -g -O2 -c OutliersGNL.cpp -o OutliersGNL.o
clang++ -arch arm64 -std=gnu++17 -I"/Library/Frameworks/R.framework/Resources/include" -DNDEBUG -DIS_MAC_OS -I/opt/R/arm64/include -fPIC -falign-functions=64 -Wall -g -O2 -c chrBreakpoints.cpp -o chrBreakpoints.o
clang++ -arch arm64 -std=gnu++17 -I"/Library/Frameworks/R.framework/Resources/include" -DNDEBUG -DIS_MAC_OS -I/opt/R/arm64/include -fPIC -falign-functions=64 -Wall -g -O2 -c cutree.cpp -o cutree.o
clang++ -arch arm64 -std=gnu++17 -I"/Library/Frameworks/R.framework/Resources/include" -DNDEBUG -DIS_MAC_OS -I/opt/R/arm64/include -fPIC -falign-functions=64 -Wall -g -O2 -c daglad.cpp -o daglad.o
clang++ -arch arm64 -std=gnu++17 -I"/Library/Frameworks/R.framework/Resources/include" -DNDEBUG -DIS_MAC_OS -I/opt/R/arm64/include -fPIC -falign-functions=64 -Wall -g -O2 -c distance.cpp -o distance.o
clang++ -arch arm64 -std=gnu++17 -I"/Library/Frameworks/R.framework/Resources/include" -DNDEBUG -DIS_MAC_OS -I/opt/R/arm64/include -fPIC -falign-functions=64 -Wall -g -O2 -c filterBkp.cpp -o filterBkp.o
clang++ -arch arm64 -std=gnu++17 -I"/Library/Frameworks/R.framework/Resources/include" -DNDEBUG -DIS_MAC_OS -I/opt/R/arm64/include -fPIC -falign-functions=64 -Wall -g -O2 -c findCluster.cpp -o findCluster.o
clang++ -arch arm64 -std=gnu++17 -I"/Library/Frameworks/R.framework/Resources/include" -DNDEBUG -DIS_MAC_OS -I/opt/R/arm64/include -fPIC -falign-functions=64 -Wall -g -O2 -c glad-utils.cpp -o glad-utils.o
glad-utils.cpp:862:27: warning: unused variable 'it_new_end_NormalCluster' [-Wunused-variable]
vector<int>::iterator it_new_end_NormalCluster;
^
1 warning generated.
clang++ -arch arm64 -std=gnu++17 -I"/Library/Frameworks/R.framework/Resources/include" -DNDEBUG -DIS_MAC_OS -I/opt/R/arm64/include -fPIC -falign-functions=64 -Wall -g -O2 -c hclust.cpp -o hclust.o
clang -arch arm64 -std=gnu2x -I"/Library/Frameworks/R.framework/Resources/include" -DNDEBUG -DIS_MAC_OS -I/opt/R/arm64/include -fPIC -falign-functions=64 -Wall -g -O2 -c laws.c -o laws.o
clang++ -arch arm64 -std=gnu++17 -I"/Library/Frameworks/R.framework/Resources/include" -DNDEBUG -DIS_MAC_OS -I/opt/R/arm64/include -fPIC -falign-functions=64 -Wall -g -O2 -c loopRemove.cpp -o loopRemove.o
loopRemove.cpp:38:9: warning: variable 'nb_loop' set but not used [-Wunused-but-set-variable]
int nb_loop = 0;
^
1 warning generated.
clang++ -arch arm64 -std=gnu++17 -dynamiclib -Wl,-headerpad_max_install_names -undefined dynamic_lookup -L/Library/Frameworks/R.framework/Resources/lib -L/opt/R/arm64/lib -o GLAD.so BkpInfo.o HaarSeg.o MoveBkp.o OutliersGNL.o chrBreakpoints.o cutree.o daglad.o distance.o filterBkp.o findCluster.o glad-utils.o hclust.o laws.o loopRemove.o -L/opt/R/arm64/lib -lgsl -lgslcblas -lm -F/Library/Frameworks/R.framework/.. -framework R
installing to /Library/Frameworks/R.framework/Versions/4.5-arm64/Resources/library/00LOCK-GLAD/00new/GLAD/libs
** R
** data
** demo
** inst
** byte-compile and prepare package for lazy loading
** help
*** installing help indices
** building package indices
** installing vignettes
** testing if installed package can be loaded from temporary location
** checking absolute paths in shared objects and dynamic libraries
** testing if installed package can be loaded from final location
** testing if installed package keeps a record of temporary installation path
* DONE (GLAD)