| Back to Multiple platform build/check report for BioC 3.22: simplified long |
|
This page was generated on 2025-10-25 12:06 -0400 (Sat, 25 Oct 2025).
| Hostname | OS | Arch (*) | R version | Installed pkgs |
|---|---|---|---|---|
| nebbiolo2 | Linux (Ubuntu 24.04.3 LTS) | x86_64 | 4.5.1 Patched (2025-08-23 r88802) -- "Great Square Root" | 4901 |
| lconway | macOS 12.7.6 Monterey | x86_64 | 4.5.1 Patched (2025-09-10 r88807) -- "Great Square Root" | 4691 |
| kjohnson3 | macOS 13.7.7 Ventura | arm64 | 4.5.1 Patched (2025-09-10 r88807) -- "Great Square Root" | 4637 |
| taishan | Linux (openEuler 24.03 LTS) | aarch64 | 4.5.0 (2025-04-11) -- "How About a Twenty-Six" | 4658 |
| Click on any hostname to see more info about the system (e.g. compilers) (*) as reported by 'uname -p', except on Windows and Mac OS X | ||||
| Package 738/2361 | Hostname | OS / Arch | INSTALL | BUILD | CHECK | BUILD BIN | ||||||||
| FindIT2 1.15.1 (landing page) Guandong Shang
| nebbiolo2 | Linux (Ubuntu 24.04.3 LTS) / x86_64 | OK | OK | OK | |||||||||
| lconway | macOS 12.7.6 Monterey / x86_64 | OK | OK | OK | OK | |||||||||
| kjohnson3 | macOS 13.7.7 Ventura / arm64 | OK | OK | OK | OK | |||||||||
| taishan | Linux (openEuler 24.03 LTS) / aarch64 | OK | NA | NA | ||||||||||
|
To the developers/maintainers of the FindIT2 package: - Allow up to 24 hours (and sometimes 48 hours) for your latest push to git@git.bioconductor.org:packages/FindIT2.git to reflect on this report. See Troubleshooting Build Report for more information. - Use the following Renviron settings to reproduce errors and warnings. - If 'R CMD check' started to fail recently on the Linux builder(s) over a missing dependency, add the missing dependency to 'Suggests:' in your DESCRIPTION file. See Renviron.bioc for more information. |
| Package: FindIT2 |
| Version: 1.15.1 |
| Command: /Library/Frameworks/R.framework/Resources/bin/R CMD check --install=check:FindIT2.install-out.txt --library=/Library/Frameworks/R.framework/Resources/library --no-vignettes --timings FindIT2_1.15.1.tar.gz |
| StartedAt: 2025-10-24 19:46:00 -0400 (Fri, 24 Oct 2025) |
| EndedAt: 2025-10-24 19:48:15 -0400 (Fri, 24 Oct 2025) |
| EllapsedTime: 134.7 seconds |
| RetCode: 0 |
| Status: OK |
| CheckDir: FindIT2.Rcheck |
| Warnings: 0 |
##############################################################################
##############################################################################
###
### Running command:
###
### /Library/Frameworks/R.framework/Resources/bin/R CMD check --install=check:FindIT2.install-out.txt --library=/Library/Frameworks/R.framework/Resources/library --no-vignettes --timings FindIT2_1.15.1.tar.gz
###
##############################################################################
##############################################################################
* using log directory ‘/Users/biocbuild/bbs-3.22-bioc/meat/FindIT2.Rcheck’
* using R version 4.5.1 Patched (2025-09-10 r88807)
* using platform: aarch64-apple-darwin20
* R was compiled by
Apple clang version 16.0.0 (clang-1600.0.26.6)
GNU Fortran (GCC) 14.2.0
* running under: macOS Ventura 13.7.7
* using session charset: UTF-8
* using option ‘--no-vignettes’
* checking for file ‘FindIT2/DESCRIPTION’ ... OK
* this is package ‘FindIT2’ version ‘1.15.1’
* package encoding: UTF-8
* checking package namespace information ... OK
* checking package dependencies ... INFO
Imports includes 22 non-default packages.
Importing from so many packages makes the package vulnerable to any of
them becoming unavailable. Move as many as possible to Suggests and
use conditionally.
* checking if this is a source package ... OK
* checking if there is a namespace ... OK
* checking for hidden files and directories ... OK
* checking for portable file names ... OK
* checking for sufficient/correct file permissions ... OK
* checking whether package ‘FindIT2’ can be installed ... OK
* checking installed package size ... OK
* checking package directory ... OK
* checking ‘build’ directory ... OK
* checking DESCRIPTION meta-information ... OK
* checking top-level files ... OK
* checking for left-over files ... OK
* checking index information ... OK
* checking package subdirectories ... OK
* checking code files for non-ASCII characters ... OK
* checking R files for syntax errors ... OK
* checking whether the package can be loaded ... OK
* checking whether the package can be loaded with stated dependencies ... OK
* checking whether the package can be unloaded cleanly ... OK
* checking whether the namespace can be loaded with stated dependencies ... OK
* checking whether the namespace can be unloaded cleanly ... OK
* checking dependencies in R code ... OK
* checking S3 generic/method consistency ... OK
* checking replacement functions ... OK
* checking foreign function calls ... OK
* checking R code for possible problems ... OK
* checking Rd files ... OK
* checking Rd metadata ... OK
* checking Rd cross-references ... OK
* checking for missing documentation entries ... OK
* checking for code/documentation mismatches ... OK
* checking Rd \usage sections ... OK
* checking Rd contents ... OK
* checking for unstated dependencies in examples ... OK
* checking contents of ‘data’ directory ... OK
* checking data for non-ASCII characters ... OK
* checking data for ASCII and uncompressed saves ... OK
* checking files in ‘vignettes’ ... OK
* checking examples ... OK
* checking for unstated dependencies in ‘tests’ ... OK
* checking tests ...
Running ‘testthat.R’
OK
* checking for unstated dependencies in vignettes ... OK
* checking package vignettes ... OK
* checking running R code from vignettes ... SKIPPED
* checking re-building of vignette outputs ... SKIPPED
* checking PDF version of manual ... OK
* DONE
Status: OK
FindIT2.Rcheck/00install.out
############################################################################## ############################################################################## ### ### Running command: ### ### /Library/Frameworks/R.framework/Resources/bin/R CMD INSTALL FindIT2 ### ############################################################################## ############################################################################## * installing to library ‘/Library/Frameworks/R.framework/Versions/4.5-arm64/Resources/library’ * installing *source* package ‘FindIT2’ ... ** this is package ‘FindIT2’ version ‘1.15.1’ ** using staged installation ** R ** data ** inst ** byte-compile and prepare package for lazy loading ** help *** installing help indices ** building package indices ** installing vignettes ** testing if installed package can be loaded from temporary location ** testing if installed package can be loaded from final location ** testing if installed package keeps a record of temporary installation path * DONE (FindIT2)
FindIT2.Rcheck/tests/testthat.Rout
R version 4.5.1 Patched (2025-09-10 r88807) -- "Great Square Root"
Copyright (C) 2025 The R Foundation for Statistical Computing
Platform: aarch64-apple-darwin20
R is free software and comes with ABSOLUTELY NO WARRANTY.
You are welcome to redistribute it under certain conditions.
Type 'license()' or 'licence()' for distribution details.
R is a collaborative project with many contributors.
Type 'contributors()' for more information and
'citation()' on how to cite R or R packages in publications.
Type 'demo()' for some demos, 'help()' for on-line help, or
'help.start()' for an HTML browser interface to help.
Type 'q()' to quit R.
> library(testthat)
> library(FindIT2)
Loading required package: GenomicRanges
Loading required package: stats4
Loading required package: BiocGenerics
Loading required package: generics
Attaching package: 'generics'
The following objects are masked from 'package:base':
as.difftime, as.factor, as.ordered, intersect, is.element, setdiff,
setequal, union
Attaching package: 'BiocGenerics'
The following objects are masked from 'package:stats':
IQR, mad, sd, var, xtabs
The following objects are masked from 'package:base':
Filter, Find, Map, Position, Reduce, anyDuplicated, aperm, append,
as.data.frame, basename, cbind, colnames, dirname, do.call,
duplicated, eval, evalq, get, grep, grepl, is.unsorted, lapply,
mapply, match, mget, order, paste, pmax, pmax.int, pmin, pmin.int,
rank, rbind, rownames, sapply, saveRDS, table, tapply, unique,
unsplit, which.max, which.min
Loading required package: S4Vectors
Attaching package: 'S4Vectors'
The following object is masked from 'package:utils':
findMatches
The following objects are masked from 'package:base':
I, expand.grid, unname
Loading required package: IRanges
Loading required package: Seqinfo
> if (!requireNamespace("TxDb.Athaliana.BioMart.plantsmart28")) {
+ stop("unable to load TxDb.Athaliana.BioMart.plantsmart28")
+ }
Loading required namespace: TxDb.Athaliana.BioMart.plantsmart28
>
> test_check("FindIT2")
>> preparing gene features information... 2025-10-24 19:47:53
>> some scan range may cross Chr bound, trimming... 2025-10-24 19:47:53
>> preparing weight info... 2025-10-24 19:47:53
>> loading E50h_sampleChr5.bw info... 2025-10-24 19:47:53
------------
>> extracting and calcluating Chr5 signal... 2025-10-24 19:47:53
>> dealing with Chr5 left gene signal... 2025-10-24 19:47:55
>> norming Chr5RP accoring to the whole Chr RP... 2025-10-24 19:47:55
>> merging all Chr RP together... 2025-10-24 19:47:55
>> done 2025-10-24 19:47:55
>> checking seqlevels match... 2025-10-24 19:47:55
>> your peak_GR seqlevel:Chr5...
>> your Txdb seqlevel:Chr1 Chr2 Chr3 Chr4 Chr5 ChrM ChrC...
Good, your Chrs in peak_GR is all in Txdb
------------
annotatePeak using geneScan mode begins
>> preparing gene features information and scan region... 2025-10-24 19:47:55
>> some scan range may cross Chr bound, trimming... 2025-10-24 19:47:55
>> finding overlap peak in gene scan region... 2025-10-24 19:47:55
>> dealing with left peak not your gene scan region... 2025-10-24 19:47:55
>> merging two set peaks... 2025-10-24 19:47:55
>> calculating distance and dealing with gene strand... 2025-10-24 19:47:55
>> merging all info together ... 2025-10-24 19:47:55
>> done 2025-10-24 19:47:55
>> calculating peakCenter to TSS using peak-gene pair... 2025-10-24 19:47:55
>> pre-filling 1356 noAssoc peak gene's RP with 0... 2025-10-24 19:47:55
>> calculating RP using centerToTSS and peak score2025-10-24 19:47:55
>> merging all info together 2025-10-24 19:47:56
>> done 2025-10-24 19:47:56
>> calculating peakCenter to TSS using peak-gene pair... 2025-10-24 19:47:56
>> pre-filling 1356 noAssoc peak gene's RP with 0... 2025-10-24 19:47:57
>> calculating RP using centerToTSS and peak score2025-10-24 19:47:57
>> merging all info together 2025-10-24 19:47:58
>> done 2025-10-24 19:47:58
>> checking seqlevels match... 2025-10-24 19:47:58
>> your peak_GR seqlevel:Chr5...
>> your Txdb seqlevel:Chr1 Chr2 Chr3 Chr4 Chr5 ChrM ChrC...
Good, your Chrs in peak_GR is all in Txdb
------------
annotatePeak using geneScan mode begins
>> preparing gene features information and scan region... 2025-10-24 19:47:58
>> some scan range may cross Chr bound, trimming... 2025-10-24 19:47:58
>> finding overlap peak in gene scan region... 2025-10-24 19:47:58
>> dealing with left peak not your gene scan region... 2025-10-24 19:47:58
>> merging two set peaks... 2025-10-24 19:47:58
>> calculating distance and dealing with gene strand... 2025-10-24 19:47:58
>> merging all info together ... 2025-10-24 19:47:58
>> done 2025-10-24 19:47:58
>> calculating peakCenter to TSS using peak-gene pair... 2025-10-24 19:47:58
>> calculating RP using centerToTSS and TF hit 2025-10-24 19:47:58
>> merging all info together 2025-10-24 19:47:58
>> done 2025-10-24 19:47:58
>> calculating peakCenter to TSS using peak-gene pair... 2025-10-24 19:47:58
>> calculating RP using centerToTSS and TF hit 2025-10-24 19:47:59
>> merging all info together 2025-10-24 19:47:59
>> done 2025-10-24 19:47:59
>> checking seqlevels match... 2025-10-24 19:47:59
>> your peak_GR seqlevel:Chr5...
>> your Txdb seqlevel:Chr1 Chr2 Chr3 Chr4 Chr5 ChrM ChrC...
Good, your Chrs in peak_GR is all in Txdb
------------
annotatePeak using geneScan mode begins
>> preparing gene features information and scan region... 2025-10-24 19:47:59
>> some scan range may cross Chr bound, trimming... 2025-10-24 19:48:00
>> finding overlap peak in gene scan region... 2025-10-24 19:48:00
>> dealing with left peak not your gene scan region... 2025-10-24 19:48:00
>> merging two set peaks... 2025-10-24 19:48:00
>> calculating distance and dealing with gene strand... 2025-10-24 19:48:00
>> merging all info together ... 2025-10-24 19:48:00
>> done 2025-10-24 19:48:00
>> calculating peakCenter to TSS using peak-gene pair... 2025-10-24 19:48:00
>> pre-filling 1356 noAssoc peak gene's RP with 0... 2025-10-24 19:48:00
>> calculating RP using centerToTSS and peak score2025-10-24 19:48:00
>> merging all info together 2025-10-24 19:48:00
>> done 2025-10-24 19:48:01
>> extracting RP info from regionRP... 2025-10-24 19:48:01
>> dealing with TF_GR_databse... 2025-10-24 19:48:01
>> calculating percent and p-value... 2025-10-24 19:48:01
>> dealing withE5_0h_R1... 2025-10-24 19:48:01
>> dealing withE5_0h_R2... 2025-10-24 19:48:01
>> dealing withE5_4h_R1... 2025-10-24 19:48:01
>> dealing withE5_4h_R2... 2025-10-24 19:48:01
>> dealing withE5_8h_R1... 2025-10-24 19:48:01
>> dealing withE5_8h_R2... 2025-10-24 19:48:01
>> dealing withE5_16h_R1... 2025-10-24 19:48:01
>> dealing withE5_16h_R2... 2025-10-24 19:48:01
>> dealing withE5_24h_R1... 2025-10-24 19:48:01
>> dealing withE5_24h_R2... 2025-10-24 19:48:01
>> dealing withE5_48h_R1... 2025-10-24 19:48:01
>> dealing withE5_48h_R2... 2025-10-24 19:48:01
>> dealing withE5_48h_R3... 2025-10-24 19:48:01
>> dealing withE5_72h_R1... 2025-10-24 19:48:01
>> dealing withE5_72h_R2... 2025-10-24 19:48:01
>> dealing withE5_72h_R3... 2025-10-24 19:48:01
>> merging all info together... 2025-10-24 19:48:01
>> done 2025-10-24 19:48:01
>> preparing gene features information... 2025-10-24 19:48:01
>> some scan range may cross Chr bound, trimming... 2025-10-24 19:48:01
>> calculating p-value for each TF, which may be time consuming... 2025-10-24 19:48:01
>> merging all info together... 2025-10-24 19:48:01
>> done 2025-10-24 19:48:01
>> dealing with TF_GR_database... 2025-10-24 19:48:01
>> calculating coef and converting into z-score using INT... 2025-10-24 19:48:01
>> dealing with E5_0h_R1... 2025-10-24 19:48:01
>> dealing with E5_0h_R2... 2025-10-24 19:48:02
>> dealing with E5_4h_R1... 2025-10-24 19:48:02
>> dealing with E5_4h_R2... 2025-10-24 19:48:02
>> dealing with E5_8h_R1... 2025-10-24 19:48:02
>> dealing with E5_8h_R2... 2025-10-24 19:48:02
>> dealing with E5_16h_R1... 2025-10-24 19:48:02
>> dealing with E5_16h_R2... 2025-10-24 19:48:02
>> dealing with E5_24h_R1... 2025-10-24 19:48:02
>> dealing with E5_24h_R2... 2025-10-24 19:48:02
>> dealing with E5_48h_R1... 2025-10-24 19:48:02
>> dealing with E5_48h_R2... 2025-10-24 19:48:02
>> dealing with E5_48h_R3... 2025-10-24 19:48:02
>> dealing with E5_72h_R1... 2025-10-24 19:48:02
>> dealing with E5_72h_R2... 2025-10-24 19:48:02
>> dealing with E5_72h_R3... 2025-10-24 19:48:02
>> merging all info together... 2025-10-24 19:48:02
>> done 2025-10-24 19:48:02
>> checking seqlevels match... 2025-10-24 19:48:02
>> your peak_GR seqlevel:Chr5...
>> your Txdb seqlevel:Chr1 Chr2 Chr3 Chr4 Chr5 ChrM ChrC...
Good, your Chrs in peak_GR is all in Txdb
------------
annotatePeak using geneScan mode begins
>> preparing gene features information and scan region... 2025-10-24 19:48:02
>> some scan range may cross Chr bound, trimming... 2025-10-24 19:48:02
>> finding overlap peak in gene scan region... 2025-10-24 19:48:02
>> dealing with left peak not your gene scan region... 2025-10-24 19:48:02
>> merging two set peaks... 2025-10-24 19:48:02
>> calculating distance and dealing with gene strand... 2025-10-24 19:48:02
>> merging all info together ... 2025-10-24 19:48:02
>> done 2025-10-24 19:48:02
>> calculating peakCenter to TSS using peak-gene pair... 2025-10-24 19:48:02
>> calculating RP using centerToTSS and TF hit 2025-10-24 19:48:03
>> merging all info together 2025-10-24 19:48:03
>> done 2025-10-24 19:48:03
>> checking seqlevels match... 2025-10-24 19:48:03
>> your peak_GR seqlevel:5...
>> your Txdb seqlevel:Chr1 Chr2 Chr3 Chr4 Chr5 ChrM ChrC...
>> checking seqlevels match... 2025-10-24 19:48:03
>> your peak_GR seqlevel:Chr5 Chr6...
>> your Txdb seqlevel:Chr1 Chr2 Chr3 Chr4 Chr5 ChrM ChrC...
>> checking seqlevels match... 2025-10-24 19:48:04
>> your peak_GR seqlevel:Chr5...
>> your Txdb seqlevel:Chr1 Chr2 Chr3 Chr4 Chr5 ChrM ChrC...
Good, your Chrs in peak_GR is all in Txdb
>> checking seqlevels match... 2025-10-24 19:48:04
>> your peak_GR seqlevel:Chr5...
>> your Txdb seqlevel:Chr1 Chr2 Chr3 Chr4 Chr5 ChrM ChrC...
Good, your Chrs in peak_GR is all in Txdb
------------
annotating Peak using nearest gene mode begins
>> preparing gene features information... 2025-10-24 19:48:04
>> finding nearest gene and calculating distance... 2025-10-24 19:48:04
>> dealing with gene strand ... 2025-10-24 19:48:04
>> merging all info together ... 2025-10-24 19:48:04
>> done 2025-10-24 19:48:04
>> checking seqlevels match... 2025-10-24 19:48:04
>> your peak_GR seqlevel:Chr5...
>> your Txdb seqlevel:Chr1 Chr2 Chr3 Chr4 Chr5 ChrM ChrC...
Good, your Chrs in peak_GR is all in Txdb
>> checking seqlevels match... 2025-10-24 19:48:04
>> your peak_GR seqlevel:Chr5...
>> your Txdb seqlevel:Chr1 Chr2 Chr3 Chr4 Chr5 ChrM ChrC...
Good, your Chrs in peak_GR is all in Txdb
------------
annotating Peak using nearest gene mode begins
>> preparing gene features information... 2025-10-24 19:48:04
>> finding nearest gene and calculating distance... 2025-10-24 19:48:04
>> dealing with gene strand ... 2025-10-24 19:48:04
>> merging all info together ... 2025-10-24 19:48:04
>> done 2025-10-24 19:48:04
>> checking seqlevels match... 2025-10-24 19:48:05
>> your peak_GR seqlevel:Chr5...
>> your Txdb seqlevel:Chr1 Chr2 Chr3 Chr4 Chr5 ChrM ChrC...
Good, your Chrs in peak_GR is all in Txdb
>> checking seqlevels match... 2025-10-24 19:48:05
>> your peak_GR seqlevel:Chr5...
>> your Txdb seqlevel:Chr1 Chr2 Chr3 Chr4 Chr5 ChrM ChrC...
Good, your Chrs in peak_GR is all in Txdb
------------
annotating Peak using nearest gene mode begins
>> preparing gene features information... 2025-10-24 19:48:05
>> finding nearest gene and calculating distance... 2025-10-24 19:48:05
>> dealing with gene strand ... 2025-10-24 19:48:05
>> merging all info together ... 2025-10-24 19:48:05
>> done 2025-10-24 19:48:05
>> checking seqlevels match... 2025-10-24 19:48:06
>> your peak_GR seqlevel:Chr5...
>> your Txdb seqlevel:Chr1 Chr2 Chr3 Chr4 Chr5 ChrM ChrC...
Good, your Chrs in peak_GR is all in Txdb
>> checking seqlevels match... 2025-10-24 19:48:06
>> your peak_GR seqlevel:Chr5...
>> your Txdb seqlevel:Chr1 Chr2 Chr3 Chr4 Chr5 ChrM ChrC...
Good, your Chrs in peak_GR is all in Txdb
------------
annotating Peak using nearest gene mode begins
>> preparing gene features information... 2025-10-24 19:48:06
>> finding nearest gene and calculating distance... 2025-10-24 19:48:06
>> dealing with gene strand ... 2025-10-24 19:48:06
>> merging all info together ... 2025-10-24 19:48:06
>> done 2025-10-24 19:48:06
It seems that there 1 genes have not been annotated by nearestGene mode
>> checking seqlevels match... 2025-10-24 19:48:06
>> your peak_GR seqlevel:Chr5...
>> your Txdb seqlevel:Chr1 Chr2 Chr3 Chr4 Chr5 ChrM ChrC...
Good, your Chrs in peak_GR is all in Txdb
>> checking seqlevels match... 2025-10-24 19:48:06
>> your peak_GR seqlevel:Chr5...
>> your Txdb seqlevel:Chr1 Chr2 Chr3 Chr4 Chr5 ChrM ChrC...
Good, your Chrs in peak_GR is all in Txdb
------------
annotating Peak using nearest gene mode begins
>> preparing gene features information... 2025-10-24 19:48:06
>> finding nearest gene and calculating distance... 2025-10-24 19:48:06
>> dealing with gene strand ... 2025-10-24 19:48:06
>> merging all info together ... 2025-10-24 19:48:06
>> done 2025-10-24 19:48:06
It seems that there 1 genes have not been annotated by nearestGene mode
>> checking seqlevels match... 2025-10-24 19:48:07
>> your peak_GR seqlevel:Chr5...
>> your Txdb seqlevel:Chr1 Chr2 Chr3 Chr4 Chr5 ChrM ChrC...
Good, your Chrs in peak_GR is all in Txdb
>> checking seqlevels match... 2025-10-24 19:48:07
>> your peak_GR seqlevel:Chr5...
>> your Txdb seqlevel:Chr1 Chr2 Chr3 Chr4 Chr5 ChrM ChrC...
Good, your Chrs in peak_GR is all in Txdb
>> some scan range may cross Chr bound, trimming... 2025-10-24 19:48:07
>> checking seqlevels match... 2025-10-24 19:48:08
>> your peak_GR seqlevel:Chr5...
>> your Txdb seqlevel:Chr1 Chr2 Chr3 Chr4 Chr5 ChrM ChrC...
Good, your Chrs in peak_GR is all in Txdb
>> some scan range may cross Chr bound, trimming... 2025-10-24 19:48:08
Good, your two matrix colnames matchs
>> calculating cor and pvalue, which may be time consuming... 2025-10-24 19:48:08
>> merging all info together... 2025-10-24 19:48:08
>> done 2025-10-24 19:48:08
>> checking seqlevels match... 2025-10-24 19:48:08
>> your peak_GR seqlevel:Chr5...
>> your Txdb seqlevel:Chr1 Chr2 Chr3 Chr4 Chr5 ChrM ChrC...
Good, your Chrs in peak_GR is all in Txdb
>> using scanPromoter parameter to scan promoter for each gene... 2025-10-24 19:48:08
>> checking seqlevels match... 2025-10-24 19:48:08
>> your peak_GR seqlevel:Chr5...
>> your Txdb seqlevel:Chr1 Chr2 Chr3 Chr4 Chr5 ChrM ChrC...
Good, your Chrs in peak_GR is all in Txdb
>> some scan range may cross Chr bound, trimming... 2025-10-24 19:48:08
>> there are 85 gene have scaned promoter
>> using scanEnhancer parameter to scan Enhancer for each gene... 2025-10-24 19:48:09
>> checking seqlevels match... 2025-10-24 19:48:09
>> your peak_GR seqlevel:Chr5...
>> your Txdb seqlevel:Chr1 Chr2 Chr3 Chr4 Chr5 ChrM ChrC...
Good, your Chrs in peak_GR is all in Txdb
>> some scan range may cross Chr bound, trimming... 2025-10-24 19:48:09
>> calculating cor and pvalue, which may be time consuming... 2025-10-24 19:48:09
>> merging all info together... 2025-10-24 19:48:09
>> done 2025-10-24 19:48:09
Good, your two matrix colnames matchs
>> calculating cor and pvalue, which may be time consuming... 2025-10-24 19:48:09
>> merging all info together... 2025-10-24 19:48:09
>> done 2025-10-24 19:48:09
>> checking seqlevels match... 2025-10-24 19:48:09
>> your peak_GR seqlevel:Chr5...
>> your Txdb seqlevel:Chr1 Chr2 Chr3 Chr4 Chr5 ChrM ChrC...
Good, your Chrs in peak_GR is all in Txdb
------------
annotatePeak using geneScan mode begins
>> preparing gene features information and scan region... 2025-10-24 19:48:09
>> some scan range may cross Chr bound, trimming... 2025-10-24 19:48:09
>> finding overlap peak in gene scan region... 2025-10-24 19:48:09
>> dealing with left peak not your gene scan region... 2025-10-24 19:48:09
>> merging two set peaks... 2025-10-24 19:48:09
>> calculating distance and dealing with gene strand... 2025-10-24 19:48:09
>> merging all info together ... 2025-10-24 19:48:09
>> done 2025-10-24 19:48:09
Good, your two matrix colnames matchs
>> calculating cor and pvalue, which may be time consuming... 2025-10-24 19:48:10
>> merging all info together... 2025-10-24 19:48:10
>> done 2025-10-24 19:48:10
>> checking seqlevels match... 2025-10-24 19:48:10
>> your peak_GR seqlevel:Chr5...
>> your Txdb seqlevel:Chr1 Chr2 Chr3 Chr4 Chr5 ChrM ChrC...
Good, your Chrs in peak_GR is all in Txdb
>> using scanPromoter parameter to scan promoter for each gene... 2025-10-24 19:48:10
>> checking seqlevels match... 2025-10-24 19:48:10
>> your peak_GR seqlevel:Chr5...
>> your Txdb seqlevel:Chr1 Chr2 Chr3 Chr4 Chr5 ChrM ChrC...
Good, your Chrs in peak_GR is all in Txdb
>> some scan range may cross Chr bound, trimming... 2025-10-24 19:48:10
>> there are 85 gene have scaned promoter
>> using scanEnhancer parameter to scan Enhancer for each gene... 2025-10-24 19:48:10
>> checking seqlevels match... 2025-10-24 19:48:10
>> your peak_GR seqlevel:Chr5...
>> your Txdb seqlevel:Chr1 Chr2 Chr3 Chr4 Chr5 ChrM ChrC...
Good, your Chrs in peak_GR is all in Txdb
>> some scan range may cross Chr bound, trimming... 2025-10-24 19:48:10
>> calculating cor and pvalue, which may be time consuming... 2025-10-24 19:48:10
>> merging all info together... 2025-10-24 19:48:10
>> done 2025-10-24 19:48:10
Joining with `by = join_by(feature_id)`
Joining with `by = join_by(feature_id)`
`geom_smooth()` using formula = 'y ~ x'
Joining with `by = join_by(feature_id)`
Joining with `by = join_by(feature_id)`
`geom_smooth()` using formula = 'y ~ x'
[ FAIL 0 | WARN 0 | SKIP 0 | PASS 65 ]
>
> proc.time()
user system elapsed
21.907 1.030 23.048
FindIT2.Rcheck/FindIT2-Ex.timings
| name | user | system | elapsed | |
| TF_target_database | 0 | 0 | 0 | |
| calcRP_TFHit | 1.286 | 0.045 | 1.345 | |
| calcRP_coverage | 1.249 | 0.399 | 1.660 | |
| calcRP_region | 1.929 | 0.060 | 1.998 | |
| enhancerPromoterCor | 0.921 | 0.035 | 0.957 | |
| findIT_MARA | 0.145 | 0.009 | 0.154 | |
| findIT_TFHit | 0.305 | 0.014 | 0.318 | |
| findIT_TTPair | 0.027 | 0.002 | 0.030 | |
| findIT_enrichFisher | 0.051 | 0.001 | 0.053 | |
| findIT_enrichWilcox | 0.055 | 0.002 | 0.057 | |
| findIT_regionRP | 1.877 | 0.052 | 1.931 | |
| getAssocPairNumber | 0.384 | 0.015 | 0.398 | |
| integrate_ChIP_RNA | 0.677 | 0.021 | 0.698 | |
| integrate_replicates | 0.001 | 0.000 | 0.001 | |
| jaccard_findIT_TTpair | 0.033 | 0.002 | 0.036 | |
| jaccard_findIT_enrichFisher | 0.061 | 0.002 | 0.063 | |
| loadPeakFile | 0.030 | 0.002 | 0.032 | |
| mm_geneBound | 0.379 | 0.013 | 0.393 | |
| mm_geneScan | 0.390 | 0.011 | 0.410 | |
| mm_nearestGene | 0.361 | 0.021 | 0.393 | |
| peakGeneCor | 0.733 | 0.027 | 0.773 | |
| plot_annoDistance | 0.533 | 0.021 | 0.558 | |
| plot_peakGeneAlias_summary | 0.445 | 0.016 | 0.490 | |
| plot_peakGeneCor | 0.995 | 0.024 | 1.020 | |
| test_geneSet | 0.001 | 0.000 | 0.000 | |