| Back to Multiple platform build/check report for BioC 3.22: simplified long |
|
This page was generated on 2025-11-20 12:06 -0500 (Thu, 20 Nov 2025).
| Hostname | OS | Arch (*) | R version | Installed pkgs |
|---|---|---|---|---|
| nebbiolo2 | Linux (Ubuntu 24.04.3 LTS) | x86_64 | 4.5.2 (2025-10-31) -- "[Not] Part in a Rumble" | 4615 |
| merida1 | macOS 12.7.6 Monterey | x86_64 | 4.5.2 Patched (2025-11-05 r88990) -- "[Not] Part in a Rumble" | 4610 |
| kjohnson1 | macOS 13.7.5 Ventura | arm64 | 4.5.2 Patched (2025-11-04 r88984) -- "[Not] Part in a Rumble" | 4598 |
| taishan | Linux (openEuler 24.03 LTS) | aarch64 | 4.5.0 (2025-04-11) -- "How About a Twenty-Six" | 4668 |
| Click on any hostname to see more info about the system (e.g. compilers) (*) as reported by 'uname -p', except on Windows and Mac OS X | ||||
| Package 632/2361 | Hostname | OS / Arch | INSTALL | BUILD | CHECK | BUILD BIN | ||||||||
| DspikeIn 1.0.0 (landing page) Mitra Ghotbi
| nebbiolo2 | Linux (Ubuntu 24.04.3 LTS) / x86_64 | OK | OK | OK | |||||||||
| merida1 | macOS 12.7.6 Monterey / x86_64 | OK | OK | ERROR | OK | |||||||||
| kjohnson1 | macOS 13.7.5 Ventura / arm64 | OK | OK | OK | OK | |||||||||
| taishan | Linux (openEuler 24.03 LTS) / aarch64 | OK | OK | OK | ||||||||||
|
To the developers/maintainers of the DspikeIn package: - Allow up to 24 hours (and sometimes 48 hours) for your latest push to git@git.bioconductor.org:packages/DspikeIn.git to reflect on this report. See Troubleshooting Build Report for more information. - Use the following Renviron settings to reproduce errors and warnings. - If 'R CMD check' started to fail recently on the Linux builder(s) over a missing dependency, add the missing dependency to 'Suggests:' in your DESCRIPTION file. See Renviron.bioc for more information. |
| Package: DspikeIn |
| Version: 1.0.0 |
| Command: /Library/Frameworks/R.framework/Resources/bin/R CMD check --install=check:DspikeIn.install-out.txt --library=/Library/Frameworks/R.framework/Resources/library --no-vignettes --timings DspikeIn_1.0.0.tar.gz |
| StartedAt: 2025-11-18 05:52:07 -0500 (Tue, 18 Nov 2025) |
| EndedAt: 2025-11-18 05:56:16 -0500 (Tue, 18 Nov 2025) |
| EllapsedTime: 249.1 seconds |
| RetCode: 0 |
| Status: OK |
| CheckDir: DspikeIn.Rcheck |
| Warnings: 0 |
##############################################################################
##############################################################################
###
### Running command:
###
### /Library/Frameworks/R.framework/Resources/bin/R CMD check --install=check:DspikeIn.install-out.txt --library=/Library/Frameworks/R.framework/Resources/library --no-vignettes --timings DspikeIn_1.0.0.tar.gz
###
##############################################################################
##############################################################################
* using log directory ‘/Users/biocbuild/bbs-3.22-bioc/meat/DspikeIn.Rcheck’
* using R version 4.5.2 Patched (2025-11-04 r88984)
* using platform: aarch64-apple-darwin20
* R was compiled by
Apple clang version 16.0.0 (clang-1600.0.26.6)
GNU Fortran (GCC) 14.2.0
* running under: macOS Ventura 13.7.8
* using session charset: UTF-8
* using option ‘--no-vignettes’
* checking for file ‘DspikeIn/DESCRIPTION’ ... OK
* checking extension type ... Package
* this is package ‘DspikeIn’ version ‘1.0.0’
* package encoding: UTF-8
* checking package namespace information ... OK
* checking package dependencies ... INFO
Imports includes 38 non-default packages.
Importing from so many packages makes the package vulnerable to any of
them becoming unavailable. Move as many as possible to Suggests and
use conditionally.
* checking if this is a source package ... OK
* checking if there is a namespace ... OK
* checking for hidden files and directories ... OK
* checking for portable file names ... OK
* checking for sufficient/correct file permissions ... OK
* checking whether package ‘DspikeIn’ can be installed ... OK
* checking installed package size ... OK
* checking package directory ... OK
* checking ‘build’ directory ... OK
* checking DESCRIPTION meta-information ... OK
* checking top-level files ... OK
* checking for left-over files ... OK
* checking index information ... OK
* checking package subdirectories ... OK
* checking code files for non-ASCII characters ... OK
* checking R files for syntax errors ... OK
* checking whether the package can be loaded ... OK
* checking whether the package can be loaded with stated dependencies ... OK
* checking whether the package can be unloaded cleanly ... OK
* checking whether the namespace can be loaded with stated dependencies ... OK
* checking whether the namespace can be unloaded cleanly ... OK
* checking whether startup messages can be suppressed ... OK
* checking dependencies in R code ... OK
* checking S3 generic/method consistency ... OK
* checking replacement functions ... OK
* checking foreign function calls ... OK
* checking R code for possible problems ... OK
* checking Rd files ... OK
* checking Rd metadata ... OK
* checking Rd cross-references ... NOTE
Non-topic package-anchored link(s) in Rd file 'label.Rd':
‘[phyloseq:tax_table-methods]{phyloseq::tax_table()}’
See section 'Cross-references' in the 'Writing R Extensions' manual.
* checking for missing documentation entries ... OK
* checking for code/documentation mismatches ... OK
* checking Rd \usage sections ... OK
* checking Rd contents ... OK
* checking for unstated dependencies in examples ... OK
* checking contents of ‘data’ directory ... OK
* checking data for non-ASCII characters ... OK
* checking LazyData ... OK
* checking data for ASCII and uncompressed saves ... OK
* checking files in ‘vignettes’ ... OK
* checking examples ... OK
Examples with CPU (user + system) or elapsed time > 5s
user system elapsed
taxa_barplot 16.149 0.617 19.251
plot_core_microbiome_custom 9.626 0.313 10.878
RandomForest_selected 7.986 0.198 8.754
convert_to_absolute_counts 6.155 0.161 6.793
summ_ASV_OTUID 5.344 0.123 5.801
Pre_processing_hashcodes 4.776 0.060 5.076
* checking for unstated dependencies in ‘tests’ ... OK
* checking tests ...
Running ‘testthat.R’
OK
* checking for unstated dependencies in vignettes ... OK
* checking package vignettes ... OK
* checking running R code from vignettes ... SKIPPED
* checking re-building of vignette outputs ... SKIPPED
* checking PDF version of manual ... OK
* DONE
Status: 1 NOTE
See
‘/Users/biocbuild/bbs-3.22-bioc/meat/DspikeIn.Rcheck/00check.log’
for details.
DspikeIn.Rcheck/00install.out
############################################################################## ############################################################################## ### ### Running command: ### ### /Library/Frameworks/R.framework/Resources/bin/R CMD INSTALL DspikeIn ### ############################################################################## ############################################################################## * installing to library ‘/Library/Frameworks/R.framework/Versions/4.5-arm64/Resources/library’ * installing *source* package ‘DspikeIn’ ... ** this is package ‘DspikeIn’ version ‘1.0.0’ ** using staged installation ** R ** data *** moving datasets to lazyload DB ** inst ** byte-compile and prepare package for lazy loading ** help *** installing help indices ** building package indices ** installing vignettes ** testing if installed package can be loaded from temporary location ** testing if installed package can be loaded from final location ** testing if installed package keeps a record of temporary installation path * DONE (DspikeIn)
DspikeIn.Rcheck/tests/testthat.Rout
R version 4.5.2 Patched (2025-11-04 r88984) -- "[Not] Part in a Rumble"
Copyright (C) 2025 The R Foundation for Statistical Computing
Platform: aarch64-apple-darwin20
R is free software and comes with ABSOLUTELY NO WARRANTY.
You are welcome to redistribute it under certain conditions.
Type 'license()' or 'licence()' for distribution details.
R is a collaborative project with many contributors.
Type 'contributors()' for more information and
'citation()' on how to cite R or R packages in publications.
Type 'demo()' for some demos, 'help()' for on-line help, or
'help.start()' for an HTML browser interface to help.
Type 'q()' to quit R.
> # This file is part of the standard setup for testthat.
> # It is recommended that you do not modify it.
> #
> # Where should you do additional test configuration?
> # Learn more about the roles of various files in:
> # * https://r-pkgs.org/testing-design.html#sec-tests-files-overview
> # * https://testthat.r-lib.org/articles/special-files.html
>
> library(testthat)
> library(DspikeIn)
Thank you for using DspikeIn! 🎉
For support, 📧 contact: Mitra Ghotbi (mitra.ghotbi@gmail.com)
GitHub Repository: https://github.com/mghotbi/DspikeIn
🐛 Found a bug or have a suggestion? Open an issue:
https://github.com/mghotbi/DspikeIn/issues
>
> test_check("DspikeIn")
[ FAIL 0 | WARN 0 | SKIP 13 | PASS 0 ]
══ Skipped tests (13) ══════════════════════════════════════════════════════════
• On Bioconductor (13): 'test-Pre_processing_species.R:1:1',
'test-RandomForest_selected.R:1:1', 'test-calculate_spikeIn_factors.R:1:1',
'test-calculate_spike_percentage.R:1:1',
'test-calculate_summary_stats_table.R:1:1', 'test-conclusion.R:1:1',
'test-convert_to_absolute_counts.R:1:1',
'test-imbalance_calculate_list_average_scaling_factors.R:1:1',
'test-node_level_metrics.R:1:1', 'test-perform_and_visualize_DA.R:1:1',
'test-quadrant_plot.R:1:1', 'test-remove_zero_negative_count_samples.R:1:1',
'test-simulate_robustness.R:1:1'
[ FAIL 0 | WARN 0 | SKIP 13 | PASS 0 ]
>
> proc.time()
user system elapsed
5.332 0.233 6.264
DspikeIn.Rcheck/DspikeIn-Ex.timings
| name | user | system | elapsed | |
| AcceptableRange | 0.055 | 0.004 | 0.066 | |
| MG_shapes | 0.201 | 0.003 | 0.215 | |
| Pre_processing_hashcodes | 4.776 | 0.060 | 5.076 | |
| Pre_processing_species | 2.220 | 0.050 | 2.457 | |
| Pre_processing_species_list | 0.117 | 0.002 | 0.149 | |
| RandomForest_selected | 7.986 | 0.198 | 8.754 | |
| adjust_abundance_one_third | 0.367 | 0.019 | 0.410 | |
| adjusted_prevalence | 0.363 | 0.022 | 0.396 | |
| alluvial_plot | 2.006 | 0.075 | 2.202 | |
| calculate_list_average_scaling_factors | 0.016 | 0.000 | 0.016 | |
| calculate_spikeIn_factors | 1.926 | 0.067 | 2.223 | |
| calculate_spike_percentage | 4.038 | 0.276 | 4.795 | |
| calculate_spike_percentage_list | 0.326 | 0.034 | 0.407 | |
| calculate_summary_stats_table | 0.054 | 0.002 | 0.056 | |
| color_palette | 0.174 | 0.002 | 0.189 | |
| conclusion | 1.014 | 0.081 | 1.317 | |
| convert_categorical_to_factors | 0.142 | 0.008 | 0.178 | |
| convert_phyloseq_to_tse | 0.270 | 0.015 | 0.350 | |
| convert_to_absolute_counts | 6.155 | 0.161 | 6.793 | |
| convert_tse_to_phyloseq | 0.353 | 0.016 | 0.406 | |
| create_directory | 0 | 0 | 0 | |
| degree_network | 1.076 | 0.033 | 1.239 | |
| detect_common_asvs_taxa | 0 | 0 | 0 | |
| extract_neighbors | 0.008 | 0.001 | 0.009 | |
| filter_and_split_abundance | 2.043 | 0.048 | 2.265 | |
| get_long_format_data | 0.259 | 0.014 | 0.302 | |
| gm_mean | 0 | 0 | 0 | |
| imbalance_calculate_list_average_scaling_factors | 0.053 | 0.003 | 0.057 | |
| label | 0.013 | 0.001 | 0.015 | |
| metadata_full | 0.009 | 0.002 | 0.012 | |
| my_custom_theme | 0.228 | 0.005 | 0.244 | |
| node_level_metrics | 4.157 | 0.085 | 4.653 | |
| norm.DESeq | 1.030 | 0.038 | 1.110 | |
| normalization_set | 1.638 | 0.143 | 1.878 | |
| perform_and_visualize_DA | 0 | 0 | 0 | |
| physeq | 0.012 | 0.001 | 0.014 | |
| physeq_16SOTU | 0.148 | 0.061 | 0.220 | |
| physeq_ITSOTU | 0.118 | 0.051 | 0.191 | |
| plot_core_microbiome_custom | 9.626 | 0.313 | 10.878 | |
| plot_spikein_tree_diagnostic | 0 | 0 | 0 | |
| plotbar_abundance | 0 | 0 | 0 | |
| proportion_adj | 2.980 | 0.108 | 3.433 | |
| quadrant_plot | 2.634 | 0.033 | 2.818 | |
| random_subsample_WithReductionFactor | 2.319 | 0.419 | 2.985 | |
| randomsubsample_Trimmed_evenDepth | 0.704 | 0.065 | 0.834 | |
| regression_plot | 0.401 | 0.007 | 0.417 | |
| relativized_filtered_taxa | 0.171 | 0.008 | 0.181 | |
| remove_zero_negative_count_samples | 0.207 | 0.030 | 0.242 | |
| ridge_plot_it | 2.346 | 0.072 | 2.553 | |
| set_nf | 0.121 | 0.007 | 0.129 | |
| simulate_network_robustness | 1.295 | 0.032 | 1.396 | |
| summ_ASV_OTUID | 5.344 | 0.123 | 5.801 | |
| summ_count_phyloseq | 0.427 | 0.016 | 0.491 | |
| summ_phyloseq_sampleID | 1.345 | 0.294 | 1.789 | |
| taxa_barplot | 16.149 | 0.617 | 19.251 | |
| tidy_phyloseq_tse | 1.072 | 0.034 | 1.152 | |
| tse | 0.022 | 0.001 | 0.025 | |
| validate_spikein_clade | 0.269 | 0.014 | 0.301 | |
| weight_Network | 1.371 | 0.037 | 1.491 | |