| Back to Multiple platform build/check report for BioC 3.22: simplified long |
|
This page was generated on 2025-10-24 12:06 -0400 (Fri, 24 Oct 2025).
| Hostname | OS | Arch (*) | R version | Installed pkgs |
|---|---|---|---|---|
| nebbiolo2 | Linux (Ubuntu 24.04.3 LTS) | x86_64 | 4.5.1 Patched (2025-08-23 r88802) -- "Great Square Root" | 4898 |
| lconway | macOS 12.7.6 Monterey | x86_64 | 4.5.1 Patched (2025-09-10 r88807) -- "Great Square Root" | 4688 |
| kjohnson3 | macOS 13.7.7 Ventura | arm64 | 4.5.1 Patched (2025-09-10 r88807) -- "Great Square Root" | 4634 |
| taishan | Linux (openEuler 24.03 LTS) | aarch64 | 4.5.0 (2025-04-11) -- "How About a Twenty-Six" | 4658 |
| Click on any hostname to see more info about the system (e.g. compilers) (*) as reported by 'uname -p', except on Windows and Mac OS X | ||||
| Package 560/2359 | Hostname | OS / Arch | INSTALL | BUILD | CHECK | BUILD BIN | ||||||||
| DeMixT 1.25.0 (landing page) Ruonan Li
| nebbiolo2 | Linux (Ubuntu 24.04.3 LTS) / x86_64 | OK | OK | WARNINGS | |||||||||
| lconway | macOS 12.7.6 Monterey / x86_64 | OK | OK | WARNINGS | OK | |||||||||
| kjohnson3 | macOS 13.7.7 Ventura / arm64 | OK | OK | WARNINGS | OK | |||||||||
| taishan | Linux (openEuler 24.03 LTS) / aarch64 | OK | OK | WARNINGS | ||||||||||
|
To the developers/maintainers of the DeMixT package: - Allow up to 24 hours (and sometimes 48 hours) for your latest push to git@git.bioconductor.org:packages/DeMixT.git to reflect on this report. See Troubleshooting Build Report for more information. - Use the following Renviron settings to reproduce errors and warnings. - If 'R CMD check' started to fail recently on the Linux builder(s) over a missing dependency, add the missing dependency to 'Suggests:' in your DESCRIPTION file. See Renviron.bioc for more information. |
| Package: DeMixT |
| Version: 1.25.0 |
| Command: rm -rf DeMixT.buildbin-libdir && mkdir DeMixT.buildbin-libdir && /Users/biocbuild/BBS/utils/build-universal.sh DeMixT_1.25.0.tar.gz /Library/Frameworks/R.framework/Resources/bin/R DeMixT.buildbin-libdir |
| StartedAt: 2025-10-23 23:07:10 -0400 (Thu, 23 Oct 2025) |
| EndedAt: 2025-10-23 23:07:36 -0400 (Thu, 23 Oct 2025) |
| EllapsedTime: 26.6 seconds |
| RetCode: 0 |
| Status: OK |
| PackageFile: DeMixT_1.25.0.tgz |
| PackageFileSize: 3.973 MiB |
##############################################################################
##############################################################################
###
### Running command:
###
### rm -rf DeMixT.buildbin-libdir && mkdir DeMixT.buildbin-libdir && /Users/biocbuild/BBS/utils/build-universal.sh DeMixT_1.25.0.tar.gz /Library/Frameworks/R.framework/Resources/bin/R DeMixT.buildbin-libdir
###
##############################################################################
##############################################################################
>>>>>>>
>>>>>>> INSTALLATION WITH 'R CMD INSTALL --preclean --no-multiarch --library=DeMixT.buildbin-libdir DeMixT_1.25.0.tar.gz'
>>>>>>>
* installing *source* package ‘DeMixT’ ...
** this is package ‘DeMixT’ version ‘1.25.0’
** using staged installation
** libs
using C compiler: ‘Apple clang version 15.0.0 (clang-1500.1.0.2.5)’
using C++ compiler: ‘Apple clang version 15.0.0 (clang-1500.1.0.2.5)’
using SDK: ‘MacOSX11.3.1.sdk’
clang -arch arm64 -std=gnu2x -I"/Library/Frameworks/R.framework/Resources/include" -DNDEBUG -I'/Library/Frameworks/R.framework/Versions/4.5-arm64/Resources/library/Rcpp/include' -I/opt/R/arm64/include -fPIC -falign-functions=64 -Wall -g -O2 -c DeMixT.c -o DeMixT.o
DeMixT.c:37:11: warning: variable 'st1_mu_2' set but not used [-Wunused-but-set-variable]
double *st1_mu_2, *st2_mu_2, *st1_sig_2, *st2_sig_2;
^
DeMixT.c:37:22: warning: variable 'st2_mu_2' set but not used [-Wunused-but-set-variable]
double *st1_mu_2, *st2_mu_2, *st1_sig_2, *st2_sig_2;
^
DeMixT.c:37:33: warning: variable 'st1_sig_2' set but not used [-Wunused-but-set-variable]
double *st1_mu_2, *st2_mu_2, *st1_sig_2, *st2_sig_2;
^
DeMixT.c:37:45: warning: variable 'st2_sig_2' set but not used [-Wunused-but-set-variable]
double *st1_mu_2, *st2_mu_2, *st1_sig_2, *st2_sig_2;
^
DeMixT.c:591:12: warning: variable 'obj_old' set but not used [-Wunused-but-set-variable]
double obj_old, obj_new;
^
DeMixT.c:591:21: warning: variable 'obj_new' set but not used [-Wunused-but-set-variable]
double obj_old, obj_new;
^
DeMixT.c:1280:12: warning: variable 'obj_old' set but not used [-Wunused-but-set-variable]
double obj_old, obj_new;
^
DeMixT.c:1280:21: warning: variable 'obj_new' set but not used [-Wunused-but-set-variable]
double obj_old, obj_new;
^
DeMixT.c:1307:9: warning: variable 'obj_old' set but not used [-Wunused-but-set-variable]
double obj_old, obj_new;
^
DeMixT.c:1307:18: warning: variable 'obj_new' set but not used [-Wunused-but-set-variable]
double obj_old, obj_new;
^
DeMixT.c:1322:12: warning: variable 'obj_old' set but not used [-Wunused-but-set-variable]
double obj_old, obj_new;
^
DeMixT.c:1322:21: warning: variable 'obj_new' set but not used [-Wunused-but-set-variable]
double obj_old, obj_new;
^
12 warnings generated.
clang++ -arch arm64 -std=gnu++17 -I"/Library/Frameworks/R.framework/Resources/include" -DNDEBUG -I'/Library/Frameworks/R.framework/Versions/4.5-arm64/Resources/library/Rcpp/include' -I/opt/R/arm64/include -fPIC -falign-functions=64 -Wall -g -O2 -c Profile_2D.cpp -o Profile_2D.o
Profile_2D.cpp:987:6: warning: variable 'i' set but not used [-Wunused-but-set-variable]
int i=1;
^
Profile_2D.cpp:1022:6: warning: variable 'i' set but not used [-Wunused-but-set-variable]
int i=1;
^
Profile_2D.cpp:1057:6: warning: variable 'i' set but not used [-Wunused-but-set-variable]
int i=1;
^
Profile_2D.cpp:1437:6: warning: variable 'i' set but not used [-Wunused-but-set-variable]
int i=1;
^
Profile_2D.cpp:1460:6: warning: variable 'i' set but not used [-Wunused-but-set-variable]
int i=1;
^
Profile_2D.cpp:1484:6: warning: variable 'i' set but not used [-Wunused-but-set-variable]
int i=1;
^
Profile_2D.cpp:1508:6: warning: variable 'i' set but not used [-Wunused-but-set-variable]
int i=1;
^
7 warnings generated.
clang++ -arch arm64 -std=gnu++17 -I"/Library/Frameworks/R.framework/Resources/include" -DNDEBUG -I'/Library/Frameworks/R.framework/Versions/4.5-arm64/Resources/library/Rcpp/include' -I/opt/R/arm64/include -fPIC -falign-functions=64 -Wall -g -O2 -c RcppExports.cpp -o RcppExports.o
clang -arch arm64 -std=gnu2x -I"/Library/Frameworks/R.framework/Resources/include" -DNDEBUG -I'/Library/Frameworks/R.framework/Versions/4.5-arm64/Resources/library/Rcpp/include' -I/opt/R/arm64/include -fPIC -falign-functions=64 -Wall -g -O2 -c init.c -o init.o
clang -arch arm64 -std=gnu2x -I"/Library/Frameworks/R.framework/Resources/include" -DNDEBUG -I'/Library/Frameworks/R.framework/Versions/4.5-arm64/Resources/library/Rcpp/include' -I/opt/R/arm64/include -fPIC -falign-functions=64 -Wall -g -O2 -c registerDynamicSymbol.c -o registerDynamicSymbol.o
clang++ -arch arm64 -std=gnu++17 -dynamiclib -Wl,-headerpad_max_install_names -undefined dynamic_lookup -L/Library/Frameworks/R.framework/Resources/lib -L/opt/R/arm64/lib -o DeMixT.so DeMixT.o Profile_2D.o RcppExports.o init.o registerDynamicSymbol.o -F/Library/Frameworks/R.framework/.. -framework R
installing to /Users/biocbuild/bbs-3.22-bioc/meat/DeMixT.buildbin-libdir/00LOCK-DeMixT/00new/DeMixT/libs
** R
** data
*** moving datasets to lazyload DB
** inst
** byte-compile and prepare package for lazy loading
Warning: replacing previous import ‘ggplot2::%+%’ by ‘psych::%+%’ when loading ‘DeMixT’
Warning: replacing previous import ‘SummarizedExperiment::distance’ by ‘psych::distance’ when loading ‘DeMixT’
Warning: replacing previous import ‘ggplot2::alpha’ by ‘psych::alpha’ when loading ‘DeMixT’
** help
*** installing help indices
** building package indices
** installing vignettes
** testing if installed package can be loaded from temporary location
Warning: replacing previous import ‘ggplot2::%+%’ by ‘psych::%+%’ when loading ‘DeMixT’
Warning: replacing previous import ‘SummarizedExperiment::distance’ by ‘psych::distance’ when loading ‘DeMixT’
Warning: replacing previous import ‘ggplot2::alpha’ by ‘psych::alpha’ when loading ‘DeMixT’
** checking absolute paths in shared objects and dynamic libraries
** testing if installed package can be loaded from final location
Warning: replacing previous import ‘ggplot2::%+%’ by ‘psych::%+%’ when loading ‘DeMixT’
Warning: replacing previous import ‘SummarizedExperiment::distance’ by ‘psych::distance’ when loading ‘DeMixT’
Warning: replacing previous import ‘ggplot2::alpha’ by ‘psych::alpha’ when loading ‘DeMixT’
** testing if installed package keeps a record of temporary installation path
* DONE (DeMixT)
>>>>>>>
>>>>>>> FIXING PATHS TO DYNAMIC LIBRARIES FOR DeMixT.buildbin-libdir/DeMixT/libs/DeMixT.so
>>>>>>>
>>>>>>> Paths before fix:
DeMixT.buildbin-libdir/DeMixT/libs/DeMixT.so:
DeMixT.so (compatibility version 0.0.0, current version 0.0.0)
/Library/Frameworks/R.framework/Versions/4.5-arm64/Resources/lib/libR.dylib (compatibility version 4.5.0, current version 4.5.1)
/usr/lib/libc++.1.dylib (compatibility version 1.0.0, current version 905.6.0)
/usr/lib/libSystem.B.dylib (compatibility version 1.0.0, current version 1292.100.5)
>>>>>>> Fix with install_name_tool:
install_name_tool -change "/usr/local/lib/libgcc_s.1.1.dylib" "/Library/Frameworks/R.framework/Versions/4.5-arm64/Resources/lib/libgcc_s.1.1.dylib" "DeMixT.buildbin-libdir/DeMixT/libs/DeMixT.so"
install_name_tool -change "/usr/local/lib/libgfortran.5.dylib" "/Library/Frameworks/R.framework/Versions/4.5-arm64/Resources/lib/libgfortran.5.dylib" "DeMixT.buildbin-libdir/DeMixT/libs/DeMixT.so"
install_name_tool -change "/usr/local/lib/libquadmath.0.dylib" "/Library/Frameworks/R.framework/Versions/4.5-arm64/Resources/lib/libquadmath.0.dylib" "DeMixT.buildbin-libdir/DeMixT/libs/DeMixT.so"
>>>>>>> Paths after fix:
DeMixT.buildbin-libdir/DeMixT/libs/DeMixT.so:
DeMixT.so (compatibility version 0.0.0, current version 0.0.0)
/Library/Frameworks/R.framework/Versions/4.5-arm64/Resources/lib/libR.dylib (compatibility version 4.5.0, current version 4.5.1)
/usr/lib/libc++.1.dylib (compatibility version 1.0.0, current version 905.6.0)
/usr/lib/libSystem.B.dylib (compatibility version 1.0.0, current version 1292.100.5)