| Back to Multiple platform build/check report for BioC 3.22: simplified long |
|
This page was generated on 2025-10-24 12:06 -0400 (Fri, 24 Oct 2025).
| Hostname | OS | Arch (*) | R version | Installed pkgs |
|---|---|---|---|---|
| nebbiolo2 | Linux (Ubuntu 24.04.3 LTS) | x86_64 | 4.5.1 Patched (2025-08-23 r88802) -- "Great Square Root" | 4898 |
| lconway | macOS 12.7.6 Monterey | x86_64 | 4.5.1 Patched (2025-09-10 r88807) -- "Great Square Root" | 4688 |
| kjohnson3 | macOS 13.7.7 Ventura | arm64 | 4.5.1 Patched (2025-09-10 r88807) -- "Great Square Root" | 4634 |
| taishan | Linux (openEuler 24.03 LTS) | aarch64 | 4.5.0 (2025-04-11) -- "How About a Twenty-Six" | 4658 |
| Click on any hostname to see more info about the system (e.g. compilers) (*) as reported by 'uname -p', except on Windows and Mac OS X | ||||
| Package 610/2359 | Hostname | OS / Arch | INSTALL | BUILD | CHECK | BUILD BIN | ||||||||
| DNABarcodes 1.39.0 (landing page) Tilo Buschmann
| nebbiolo2 | Linux (Ubuntu 24.04.3 LTS) / x86_64 | OK | OK | OK | |||||||||
| lconway | macOS 12.7.6 Monterey / x86_64 | OK | OK | OK | OK | |||||||||
| kjohnson3 | macOS 13.7.7 Ventura / arm64 | OK | OK | OK | OK | |||||||||
| taishan | Linux (openEuler 24.03 LTS) / aarch64 | OK | OK | OK | ||||||||||
|
To the developers/maintainers of the DNABarcodes package: - Allow up to 24 hours (and sometimes 48 hours) for your latest push to git@git.bioconductor.org:packages/DNABarcodes.git to reflect on this report. See Troubleshooting Build Report for more information. - Use the following Renviron settings to reproduce errors and warnings. - If 'R CMD check' started to fail recently on the Linux builder(s) over a missing dependency, add the missing dependency to 'Suggests:' in your DESCRIPTION file. See Renviron.bioc for more information. |
| Package: DNABarcodes |
| Version: 1.39.0 |
| Command: rm -rf DNABarcodes.buildbin-libdir && mkdir DNABarcodes.buildbin-libdir && /Users/biocbuild/BBS/utils/build-universal.sh DNABarcodes_1.39.0.tar.gz /Library/Frameworks/R.framework/Resources/bin/R DNABarcodes.buildbin-libdir |
| StartedAt: 2025-10-23 23:07:52 -0400 (Thu, 23 Oct 2025) |
| EndedAt: 2025-10-23 23:08:13 -0400 (Thu, 23 Oct 2025) |
| EllapsedTime: 21.5 seconds |
| RetCode: 0 |
| Status: OK |
| PackageFile: DNABarcodes_1.39.0.tgz |
| PackageFileSize: 480.2 KiB |
##############################################################################
##############################################################################
###
### Running command:
###
### rm -rf DNABarcodes.buildbin-libdir && mkdir DNABarcodes.buildbin-libdir && /Users/biocbuild/BBS/utils/build-universal.sh DNABarcodes_1.39.0.tar.gz /Library/Frameworks/R.framework/Resources/bin/R DNABarcodes.buildbin-libdir
###
##############################################################################
##############################################################################
>>>>>>>
>>>>>>> INSTALLATION WITH 'R CMD INSTALL --preclean --no-multiarch --library=DNABarcodes.buildbin-libdir DNABarcodes_1.39.0.tar.gz'
>>>>>>>
* installing *source* package ‘DNABarcodes’ ...
** this is package ‘DNABarcodes’ version ‘1.39.0’
** using staged installation
** libs
using C compiler: ‘Apple clang version 15.0.0 (clang-1500.1.0.2.5)’
using C++ compiler: ‘Apple clang version 15.0.0 (clang-1500.1.0.2.5)’
using C++17
using SDK: ‘MacOSX11.3.1.sdk’
clang -arch arm64 -std=gnu2x -I"/Library/Frameworks/R.framework/Resources/include" -DNDEBUG -I'/Library/Frameworks/R.framework/Versions/4.5-arm64/Resources/library/Rcpp/include' -I'/Library/Frameworks/R.framework/Versions/4.5-arm64/Resources/library/BH/include' -I/opt/R/arm64/include -fPIC -falign-functions=64 -Wall -g -O2 -c DNABarcodes_init.c -o DNABarcodes_init.o
clang++ -arch arm64 -std=gnu++17 -I"/Library/Frameworks/R.framework/Resources/include" -DNDEBUG -I'/Library/Frameworks/R.framework/Versions/4.5-arm64/Resources/library/Rcpp/include' -I'/Library/Frameworks/R.framework/Versions/4.5-arm64/Resources/library/BH/include' -I/opt/R/arm64/include -fPIC -falign-functions=64 -Wall -g -O2 -c RcppExports.cpp -o RcppExports.o
clang++ -arch arm64 -std=gnu++17 -I"/Library/Frameworks/R.framework/Resources/include" -DNDEBUG -I'/Library/Frameworks/R.framework/Versions/4.5-arm64/Resources/library/Rcpp/include' -I'/Library/Frameworks/R.framework/Versions/4.5-arm64/Resources/library/BH/include' -I/opt/R/arm64/include -fPIC -falign-functions=64 -Wall -g -O2 -c analyse_barcodes.cpp -o analyse_barcodes.o
clang++ -arch arm64 -std=gnu++17 -I"/Library/Frameworks/R.framework/Resources/include" -DNDEBUG -I'/Library/Frameworks/R.framework/Versions/4.5-arm64/Resources/library/Rcpp/include' -I'/Library/Frameworks/R.framework/Versions/4.5-arm64/Resources/library/BH/include' -I/opt/R/arm64/include -fPIC -falign-functions=64 -Wall -g -O2 -c barcode_set_distances.cpp -o barcode_set_distances.o
clang++ -arch arm64 -std=gnu++17 -I"/Library/Frameworks/R.framework/Resources/include" -DNDEBUG -I'/Library/Frameworks/R.framework/Versions/4.5-arm64/Resources/library/Rcpp/include' -I'/Library/Frameworks/R.framework/Versions/4.5-arm64/Resources/library/BH/include' -I/opt/R/arm64/include -fPIC -falign-functions=64 -Wall -g -O2 -c cachedistance.cpp -o cachedistance.o
clang++ -arch arm64 -std=gnu++17 -I"/Library/Frameworks/R.framework/Resources/include" -DNDEBUG -I'/Library/Frameworks/R.framework/Versions/4.5-arm64/Resources/library/Rcpp/include' -I'/Library/Frameworks/R.framework/Versions/4.5-arm64/Resources/library/BH/include' -I/opt/R/arm64/include -fPIC -falign-functions=64 -Wall -g -O2 -c chromosome.cpp -o chromosome.o
clang++ -arch arm64 -std=gnu++17 -I"/Library/Frameworks/R.framework/Resources/include" -DNDEBUG -I'/Library/Frameworks/R.framework/Versions/4.5-arm64/Resources/library/Rcpp/include' -I'/Library/Frameworks/R.framework/Versions/4.5-arm64/Resources/library/BH/include' -I/opt/R/arm64/include -fPIC -falign-functions=64 -Wall -g -O2 -c code_falsification.cpp -o code_falsification.o
clang++ -arch arm64 -std=gnu++17 -I"/Library/Frameworks/R.framework/Resources/include" -DNDEBUG -I'/Library/Frameworks/R.framework/Versions/4.5-arm64/Resources/library/Rcpp/include' -I'/Library/Frameworks/R.framework/Versions/4.5-arm64/Resources/library/BH/include' -I/opt/R/arm64/include -fPIC -falign-functions=64 -Wall -g -O2 -c conway.cpp -o conway.o
clang++ -arch arm64 -std=gnu++17 -I"/Library/Frameworks/R.framework/Resources/include" -DNDEBUG -I'/Library/Frameworks/R.framework/Versions/4.5-arm64/Resources/library/Rcpp/include' -I'/Library/Frameworks/R.framework/Versions/4.5-arm64/Resources/library/BH/include' -I/opt/R/arm64/include -fPIC -falign-functions=64 -Wall -g -O2 -c create_distance_func.cpp -o create_distance_func.o
clang++ -arch arm64 -std=gnu++17 -I"/Library/Frameworks/R.framework/Resources/include" -DNDEBUG -I'/Library/Frameworks/R.framework/Versions/4.5-arm64/Resources/library/Rcpp/include' -I'/Library/Frameworks/R.framework/Versions/4.5-arm64/Resources/library/BH/include' -I/opt/R/arm64/include -fPIC -falign-functions=64 -Wall -g -O2 -c create_dnabarcodes.cpp -o create_dnabarcodes.o
create_dnabarcodes.cpp:40:7: warning: variable 'num_edges' set but not used [-Wunused-but-set-variable]
int num_edges = 0;
^
1 warning generated.
clang++ -arch arm64 -std=gnu++17 -I"/Library/Frameworks/R.framework/Resources/include" -DNDEBUG -I'/Library/Frameworks/R.framework/Versions/4.5-arm64/Resources/library/Rcpp/include' -I'/Library/Frameworks/R.framework/Versions/4.5-arm64/Resources/library/BH/include' -I/opt/R/arm64/include -fPIC -falign-functions=64 -Wall -g -O2 -c create_pool.cpp -o create_pool.o
clang++ -arch arm64 -std=gnu++17 -I"/Library/Frameworks/R.framework/Resources/include" -DNDEBUG -I'/Library/Frameworks/R.framework/Versions/4.5-arm64/Resources/library/Rcpp/include' -I'/Library/Frameworks/R.framework/Versions/4.5-arm64/Resources/library/BH/include' -I/opt/R/arm64/include -fPIC -falign-functions=64 -Wall -g -O2 -c demultiplex.cpp -o demultiplex.o
clang++ -arch arm64 -std=gnu++17 -I"/Library/Frameworks/R.framework/Resources/include" -DNDEBUG -I'/Library/Frameworks/R.framework/Versions/4.5-arm64/Resources/library/Rcpp/include' -I'/Library/Frameworks/R.framework/Versions/4.5-arm64/Resources/library/BH/include' -I/opt/R/arm64/include -fPIC -falign-functions=64 -Wall -g -O2 -c distance_for_R.cpp -o distance_for_R.o
clang++ -arch arm64 -std=gnu++17 -I"/Library/Frameworks/R.framework/Resources/include" -DNDEBUG -I'/Library/Frameworks/R.framework/Versions/4.5-arm64/Resources/library/Rcpp/include' -I'/Library/Frameworks/R.framework/Versions/4.5-arm64/Resources/library/BH/include' -I/opt/R/arm64/include -fPIC -falign-functions=64 -Wall -g -O2 -c genericchromosome.cpp -o genericchromosome.o
clang++ -arch arm64 -std=gnu++17 -I"/Library/Frameworks/R.framework/Resources/include" -DNDEBUG -I'/Library/Frameworks/R.framework/Versions/4.5-arm64/Resources/library/Rcpp/include' -I'/Library/Frameworks/R.framework/Versions/4.5-arm64/Resources/library/BH/include' -I/opt/R/arm64/include -fPIC -falign-functions=64 -Wall -g -O2 -c greedyevolution.cpp -o greedyevolution.o
clang++ -arch arm64 -std=gnu++17 -I"/Library/Frameworks/R.framework/Resources/include" -DNDEBUG -I'/Library/Frameworks/R.framework/Versions/4.5-arm64/Resources/library/Rcpp/include' -I'/Library/Frameworks/R.framework/Versions/4.5-arm64/Resources/library/BH/include' -I/opt/R/arm64/include -fPIC -falign-functions=64 -Wall -g -O2 -c hammingdistance.cpp -o hammingdistance.o
clang++ -arch arm64 -std=gnu++17 -I"/Library/Frameworks/R.framework/Resources/include" -DNDEBUG -I'/Library/Frameworks/R.framework/Versions/4.5-arm64/Resources/library/Rcpp/include' -I'/Library/Frameworks/R.framework/Versions/4.5-arm64/Resources/library/BH/include' -I/opt/R/arm64/include -fPIC -falign-functions=64 -Wall -g -O2 -c helpers.cpp -o helpers.o
clang++ -arch arm64 -std=gnu++17 -I"/Library/Frameworks/R.framework/Resources/include" -DNDEBUG -I'/Library/Frameworks/R.framework/Versions/4.5-arm64/Resources/library/Rcpp/include' -I'/Library/Frameworks/R.framework/Versions/4.5-arm64/Resources/library/BH/include' -I/opt/R/arm64/include -fPIC -falign-functions=64 -Wall -g -O2 -c levenshteindistance.cpp -o levenshteindistance.o
clang++ -arch arm64 -std=gnu++17 -I"/Library/Frameworks/R.framework/Resources/include" -DNDEBUG -I'/Library/Frameworks/R.framework/Versions/4.5-arm64/Resources/library/Rcpp/include' -I'/Library/Frameworks/R.framework/Versions/4.5-arm64/Resources/library/BH/include' -I/opt/R/arm64/include -fPIC -falign-functions=64 -Wall -g -O2 -c maxclique_pattabiraman_heuristic.cpp -o maxclique_pattabiraman_heuristic.o
clang++ -arch arm64 -std=gnu++17 -I"/Library/Frameworks/R.framework/Resources/include" -DNDEBUG -I'/Library/Frameworks/R.framework/Versions/4.5-arm64/Resources/library/Rcpp/include' -I'/Library/Frameworks/R.framework/Versions/4.5-arm64/Resources/library/BH/include' -I/opt/R/arm64/include -fPIC -falign-functions=64 -Wall -g -O2 -c phaseshiftdist.cpp -o phaseshiftdist.o
clang++ -arch arm64 -std=gnu++17 -I"/Library/Frameworks/R.framework/Resources/include" -DNDEBUG -I'/Library/Frameworks/R.framework/Versions/4.5-arm64/Resources/library/Rcpp/include' -I'/Library/Frameworks/R.framework/Versions/4.5-arm64/Resources/library/BH/include' -I/opt/R/arm64/include -fPIC -falign-functions=64 -Wall -g -O2 -c sequence.cpp -o sequence.o
clang++ -arch arm64 -std=gnu++17 -I"/Library/Frameworks/R.framework/Resources/include" -DNDEBUG -I'/Library/Frameworks/R.framework/Versions/4.5-arm64/Resources/library/Rcpp/include' -I'/Library/Frameworks/R.framework/Versions/4.5-arm64/Resources/library/BH/include' -I/opt/R/arm64/include -fPIC -falign-functions=64 -Wall -g -O2 -c sequencelevenshteindistance.cpp -o sequencelevenshteindistance.o
clang++ -arch arm64 -std=gnu++17 -I"/Library/Frameworks/R.framework/Resources/include" -DNDEBUG -I'/Library/Frameworks/R.framework/Versions/4.5-arm64/Resources/library/Rcpp/include' -I'/Library/Frameworks/R.framework/Versions/4.5-arm64/Resources/library/BH/include' -I/opt/R/arm64/include -fPIC -falign-functions=64 -Wall -g -O2 -c sequencepool.cpp -o sequencepool.o
clang++ -arch arm64 -std=gnu++17 -dynamiclib -Wl,-headerpad_max_install_names -undefined dynamic_lookup -L/Library/Frameworks/R.framework/Resources/lib -L/opt/R/arm64/lib -o DNABarcodes.so DNABarcodes_init.o RcppExports.o analyse_barcodes.o barcode_set_distances.o cachedistance.o chromosome.o code_falsification.o conway.o create_distance_func.o create_dnabarcodes.o create_pool.o demultiplex.o distance_for_R.o genericchromosome.o greedyevolution.o hammingdistance.o helpers.o levenshteindistance.o maxclique_pattabiraman_heuristic.o phaseshiftdist.o sequence.o sequencelevenshteindistance.o sequencepool.o -F/Library/Frameworks/R.framework/.. -framework R
installing to /Users/biocbuild/bbs-3.22-bioc/meat/DNABarcodes.buildbin-libdir/00LOCK-DNABarcodes/00new/DNABarcodes/libs
** R
** data
** inst
** byte-compile and prepare package for lazy loading
** help
*** installing help indices
** building package indices
** installing vignettes
** testing if installed package can be loaded from temporary location
** checking absolute paths in shared objects and dynamic libraries
** testing if installed package can be loaded from final location
** testing if installed package keeps a record of temporary installation path
* DONE (DNABarcodes)
>>>>>>>
>>>>>>> FIXING PATHS TO DYNAMIC LIBRARIES FOR DNABarcodes.buildbin-libdir/DNABarcodes/libs/DNABarcodes.so
>>>>>>>
>>>>>>> Paths before fix:
DNABarcodes.buildbin-libdir/DNABarcodes/libs/DNABarcodes.so:
DNABarcodes.so (compatibility version 0.0.0, current version 0.0.0)
/Library/Frameworks/R.framework/Versions/4.5-arm64/Resources/lib/libR.dylib (compatibility version 4.5.0, current version 4.5.1)
/usr/lib/libc++.1.dylib (compatibility version 1.0.0, current version 905.6.0)
/usr/lib/libSystem.B.dylib (compatibility version 1.0.0, current version 1292.100.5)
>>>>>>> Fix with install_name_tool:
install_name_tool -change "/usr/local/lib/libgcc_s.1.1.dylib" "/Library/Frameworks/R.framework/Versions/4.5-arm64/Resources/lib/libgcc_s.1.1.dylib" "DNABarcodes.buildbin-libdir/DNABarcodes/libs/DNABarcodes.so"
install_name_tool -change "/usr/local/lib/libgfortran.5.dylib" "/Library/Frameworks/R.framework/Versions/4.5-arm64/Resources/lib/libgfortran.5.dylib" "DNABarcodes.buildbin-libdir/DNABarcodes/libs/DNABarcodes.so"
install_name_tool -change "/usr/local/lib/libquadmath.0.dylib" "/Library/Frameworks/R.framework/Versions/4.5-arm64/Resources/lib/libquadmath.0.dylib" "DNABarcodes.buildbin-libdir/DNABarcodes/libs/DNABarcodes.so"
>>>>>>> Paths after fix:
DNABarcodes.buildbin-libdir/DNABarcodes/libs/DNABarcodes.so:
DNABarcodes.so (compatibility version 0.0.0, current version 0.0.0)
/Library/Frameworks/R.framework/Versions/4.5-arm64/Resources/lib/libR.dylib (compatibility version 4.5.0, current version 4.5.1)
/usr/lib/libc++.1.dylib (compatibility version 1.0.0, current version 905.6.0)
/usr/lib/libSystem.B.dylib (compatibility version 1.0.0, current version 1292.100.5)