| Back to Multiple platform build/check report for BioC 3.22: simplified long |
|
This page was generated on 2025-10-25 12:05 -0400 (Sat, 25 Oct 2025).
| Hostname | OS | Arch (*) | R version | Installed pkgs |
|---|---|---|---|---|
| nebbiolo2 | Linux (Ubuntu 24.04.3 LTS) | x86_64 | 4.5.1 Patched (2025-08-23 r88802) -- "Great Square Root" | 4901 |
| lconway | macOS 12.7.6 Monterey | x86_64 | 4.5.1 Patched (2025-09-10 r88807) -- "Great Square Root" | 4691 |
| kjohnson3 | macOS 13.7.7 Ventura | arm64 | 4.5.1 Patched (2025-09-10 r88807) -- "Great Square Root" | 4637 |
| taishan | Linux (openEuler 24.03 LTS) | aarch64 | 4.5.0 (2025-04-11) -- "How About a Twenty-Six" | 4658 |
| Click on any hostname to see more info about the system (e.g. compilers) (*) as reported by 'uname -p', except on Windows and Mac OS X | ||||
| Package 370/2361 | Hostname | OS / Arch | INSTALL | BUILD | CHECK | BUILD BIN | ||||||||
| CircSeqAlignTk 1.11.2 (landing page) Jianqiang Sun
| nebbiolo2 | Linux (Ubuntu 24.04.3 LTS) / x86_64 | OK | OK | OK | |||||||||
| lconway | macOS 12.7.6 Monterey / x86_64 | OK | OK | OK | OK | |||||||||
| kjohnson3 | macOS 13.7.7 Ventura / arm64 | OK | OK | OK | OK | |||||||||
| taishan | Linux (openEuler 24.03 LTS) / aarch64 | OK | NA | NA | ||||||||||
|
To the developers/maintainers of the CircSeqAlignTk package: - Allow up to 24 hours (and sometimes 48 hours) for your latest push to git@git.bioconductor.org:packages/CircSeqAlignTk.git to reflect on this report. See Troubleshooting Build Report for more information. - Use the following Renviron settings to reproduce errors and warnings. - If 'R CMD check' started to fail recently on the Linux builder(s) over a missing dependency, add the missing dependency to 'Suggests:' in your DESCRIPTION file. See Renviron.bioc for more information. |
| Package: CircSeqAlignTk |
| Version: 1.11.2 |
| Command: /Library/Frameworks/R.framework/Resources/bin/R CMD check --install=check:CircSeqAlignTk.install-out.txt --library=/Library/Frameworks/R.framework/Resources/library --no-vignettes --timings CircSeqAlignTk_1.11.2.tar.gz |
| StartedAt: 2025-10-24 18:59:45 -0400 (Fri, 24 Oct 2025) |
| EndedAt: 2025-10-24 19:02:07 -0400 (Fri, 24 Oct 2025) |
| EllapsedTime: 141.7 seconds |
| RetCode: 0 |
| Status: OK |
| CheckDir: CircSeqAlignTk.Rcheck |
| Warnings: 0 |
##############################################################################
##############################################################################
###
### Running command:
###
### /Library/Frameworks/R.framework/Resources/bin/R CMD check --install=check:CircSeqAlignTk.install-out.txt --library=/Library/Frameworks/R.framework/Resources/library --no-vignettes --timings CircSeqAlignTk_1.11.2.tar.gz
###
##############################################################################
##############################################################################
* using log directory ‘/Users/biocbuild/bbs-3.22-bioc/meat/CircSeqAlignTk.Rcheck’
* using R version 4.5.1 Patched (2025-09-10 r88807)
* using platform: aarch64-apple-darwin20
* R was compiled by
Apple clang version 16.0.0 (clang-1600.0.26.6)
GNU Fortran (GCC) 14.2.0
* running under: macOS Ventura 13.7.7
* using session charset: UTF-8
* using option ‘--no-vignettes’
* checking for file ‘CircSeqAlignTk/DESCRIPTION’ ... OK
* checking extension type ... Package
* this is package ‘CircSeqAlignTk’ version ‘1.11.2’
* package encoding: UTF-8
* checking package namespace information ... OK
* checking package dependencies ... OK
* checking if this is a source package ... OK
* checking if there is a namespace ... OK
* checking for hidden files and directories ... OK
* checking for portable file names ... OK
* checking for sufficient/correct file permissions ... OK
* checking whether package ‘CircSeqAlignTk’ can be installed ... OK
* checking installed package size ... OK
* checking package directory ... OK
* checking ‘build’ directory ... OK
* checking DESCRIPTION meta-information ... NOTE
License stub is invalid DCF.
* checking top-level files ... OK
* checking for left-over files ... OK
* checking index information ... OK
* checking package subdirectories ... OK
* checking code files for non-ASCII characters ... OK
* checking R files for syntax errors ... OK
* checking whether the package can be loaded ... OK
* checking whether the package can be loaded with stated dependencies ... OK
* checking whether the package can be unloaded cleanly ... OK
* checking whether the namespace can be loaded with stated dependencies ... OK
* checking whether the namespace can be unloaded cleanly ... OK
* checking dependencies in R code ... OK
* checking S3 generic/method consistency ... OK
* checking replacement functions ... OK
* checking foreign function calls ... OK
* checking R code for possible problems ... OK
* checking Rd files ... OK
* checking Rd metadata ... OK
* checking Rd cross-references ... OK
* checking for missing documentation entries ... OK
* checking for code/documentation mismatches ... OK
* checking Rd \usage sections ... OK
* checking Rd contents ... OK
* checking for unstated dependencies in examples ... OK
* checking files in ‘vignettes’ ... OK
* checking examples ... OK
* checking for unstated dependencies in ‘tests’ ... OK
* checking tests ...
Running ‘testthat.R’
OK
* checking for unstated dependencies in vignettes ... OK
* checking package vignettes ... OK
* checking running R code from vignettes ... SKIPPED
* checking re-building of vignette outputs ... SKIPPED
* checking PDF version of manual ... OK
* DONE
Status: 1 NOTE
See
‘/Users/biocbuild/bbs-3.22-bioc/meat/CircSeqAlignTk.Rcheck/00check.log’
for details.
CircSeqAlignTk.Rcheck/00install.out
############################################################################## ############################################################################## ### ### Running command: ### ### /Library/Frameworks/R.framework/Resources/bin/R CMD INSTALL CircSeqAlignTk ### ############################################################################## ############################################################################## * installing to library ‘/Library/Frameworks/R.framework/Versions/4.5-arm64/Resources/library’ * installing *source* package ‘CircSeqAlignTk’ ... ** this is package ‘CircSeqAlignTk’ version ‘1.11.2’ ** using staged installation ** R ** inst ** byte-compile and prepare package for lazy loading ** help *** installing help indices ** building package indices ** installing vignettes ** testing if installed package can be loaded from temporary location ** testing if installed package can be loaded from final location ** testing if installed package keeps a record of temporary installation path * DONE (CircSeqAlignTk)
CircSeqAlignTk.Rcheck/tests/testthat.Rout
R version 4.5.1 Patched (2025-09-10 r88807) -- "Great Square Root"
Copyright (C) 2025 The R Foundation for Statistical Computing
Platform: aarch64-apple-darwin20
R is free software and comes with ABSOLUTELY NO WARRANTY.
You are welcome to redistribute it under certain conditions.
Type 'license()' or 'licence()' for distribution details.
R is a collaborative project with many contributors.
Type 'contributors()' for more information and
'citation()' on how to cite R or R packages in publications.
Type 'demo()' for some demos, 'help()' for on-line help, or
'help.start()' for an HTML browser interface to help.
Type 'q()' to quit R.
> library('testthat')
> library('CircSeqAlignTk')
> test_check('CircSeqAlignTk')
Settings:
Output files: "tmp_ht2index/refseq.t1.*.ht2"
Line rate: 6 (line is 64 bytes)
Lines per side: 1 (side is 64 bytes)
Offset rate: 4 (one in 16)
FTable chars: 10
Strings: unpacked
Local offset rate: 3 (one in 8)
Local fTable chars: 6
Local sequence length: 57344
Local sequence overlap between two consecutive indexes: 1024
Endianness: little
Actual local endianness: little
Sanity checking: disabled
Assertions: disabled
Random seed: 0
Sizeofs: void*:8, int:4, long:8, size_t:8
Input files DNA, FASTA:
tmp_ht2index/refseq.t1.fa
Reading reference sizes
Time reading reference sizes: 00:00:00
Calculating joined length
Writing header
Reserving space for joined string
Joining reference sequences
Time to join reference sequences: 00:00:00
Time to read SNPs and splice sites: 00:00:00
Using parameters --bmax 68 --dcv 1024
Doing ahead-of-time memory usage test
Passed! Constructing with these parameters: --bmax 68 --dcv 1024
Constructing suffix-array element generator
Converting suffix-array elements to index image
Allocating ftab, absorbFtab
Entering GFM loop
Exited GFM loop
fchr[A]: 0
fchr[C]: 70
fchr[G]: 180
fchr[T]: 281
fchr[$]: 361
Exiting GFM::buildToDisk()
Returning from initFromVector
Wrote 4194625 bytes to primary GFM file: tmp_ht2index/refseq.t1.1.ht2
Wrote 96 bytes to secondary GFM file: tmp_ht2index/refseq.t1.2.ht2
Re-opening _in1 and _in2 as input streams
Returning from GFM constructor
Returning from initFromVector
Wrote 8421 bytes to primary GFM file: tmp_ht2index/refseq.t1.5.ht2
Wrote 96 bytes to secondary GFM file: tmp_ht2index/refseq.t1.6.ht2
Re-opening _in5 and _in5 as input streams
Returning from HGFM constructor
Headers:
len: 361
gbwtLen: 362
nodes: 362
sz: 91
gbwtSz: 91
lineRate: 6
offRate: 4
offMask: 0xfffffff0
ftabChars: 10
eftabLen: 0
eftabSz: 0
ftabLen: 1048577
ftabSz: 4194308
offsLen: 23
offsSz: 92
lineSz: 64
sideSz: 64
sideGbwtSz: 48
sideGbwtLen: 192
numSides: 2
numLines: 2
gbwtTotLen: 128
gbwtTotSz: 128
reverse: 0
linearFM: Yes
Total time for call to driver() for forward index: 00:00:00
Settings:
Output files: "tmp_ht2index/refseq.t2.*.ht2"
Line rate: 6 (line is 64 bytes)
Lines per side: 1 (side is 64 bytes)
Offset rate: 4 (one in 16)
FTable chars: 10
Strings: unpacked
Local offset rate: 3 (one in 8)
Local fTable chars: 6
Local sequence length: 57344
Local sequence overlap between two consecutive indexes: 1024
Endianness: little
Actual local endianness: little
Sanity checking: disabled
Assertions: disabled
Random seed: 0
Sizeofs: void*:8, int:4, long:8, size_t:8
Input files DNA, FASTA:
tmp_ht2index/refseq.t2.fa
Reading reference sizes
Time reading reference sizes: 00:00:00
Calculating joined length
Writing header
Reserving space for joined string
Joining reference sequences
Time to join reference sequences: 00:00:00
Time to read SNPs and splice sites: 00:00:00
Using parameters --bmax 68 --dcv 1024
Doing ahead-of-time memory usage test
Passed! Constructing with these parameters: --bmax 68 --dcv 1024
Constructing suffix-array element generator
Converting suffix-array elements to index image
Allocating ftab, absorbFtab
Entering GFM loop
Exited GFM loop
fchr[A]: 0
fchr[C]: 70
fchr[G]: 180
fchr[T]: 281
fchr[$]: 361
Exiting GFM::buildToDisk()
Returning from initFromVector
Wrote 4194625 bytes to primary GFM file: tmp_ht2index/refseq.t2.1.ht2
Wrote 96 bytes to secondary GFM file: tmp_ht2index/refseq.t2.2.ht2
Re-opening _in1 and _in2 as input streams
Returning from GFM constructor
Returning from initFromVector
Wrote 8421 bytes to primary GFM file: tmp_ht2index/refseq.t2.5.ht2
Wrote 96 bytes to secondary GFM file: tmp_ht2index/refseq.t2.6.ht2
Re-opening _in5 and _in5 as input streams
Returning from HGFM constructor
Headers:
len: 361
gbwtLen: 362
nodes: 362
sz: 91
gbwtSz: 91
lineRate: 6
offRate: 4
offMask: 0xfffffff0
ftabChars: 10
eftabLen: 0
eftabSz: 0
ftabLen: 1048577
ftabSz: 4194308
offsLen: 23
offsSz: 92
lineSz: 64
sideSz: 64
sideGbwtSz: 48
sideGbwtLen: 192
numSides: 2
numLines: 2
gbwtTotLen: 128
gbwtTotSz: 128
reverse: 0
linearFM: Yes
Total time for call to driver() for forward index: 00:00:00
29178 reads; of these:
29178 (100.00%) were unpaired; of these:
29007 (99.41%) aligned 0 times
171 (0.59%) aligned exactly 1 time
0 (0.00%) aligned >1 times
0.59% overall alignment rate
29007 reads; of these:
29007 (100.00%) were unpaired; of these:
28978 (99.90%) aligned 0 times
29 (0.10%) aligned exactly 1 time
0 (0.00%) aligned >1 times
0.10% overall alignment rate
29178 reads; of these:
29178 (100.00%) were unpaired; of these:
29007 (99.41%) aligned 0 times
171 (0.59%) aligned exactly 1 time
0 (0.00%) aligned >1 times
0.59% overall alignment rate
29007 reads; of these:
29007 (100.00%) were unpaired; of these:
28978 (99.90%) aligned 0 times
29 (0.10%) aligned exactly 1 time
0 (0.00%) aligned >1 times
0.10% overall alignment rate
Building a SMALL index
Building a SMALL index
29178 reads; of these:
29178 (100.00%) were unpaired; of these:
29012 (99.43%) aligned 0 times
166 (0.57%) aligned exactly 1 time
0 (0.00%) aligned >1 times
0.57% overall alignment rate
29012 reads; of these:
29012 (100.00%) were unpaired; of these:
28981 (99.89%) aligned 0 times
31 (0.11%) aligned exactly 1 time
0 (0.00%) aligned >1 times
0.11% overall alignment rate
29178 reads; of these:
29178 (100.00%) were unpaired; of these:
29012 (99.43%) aligned 0 times
166 (0.57%) aligned exactly 1 time
0 (0.00%) aligned >1 times
0.57% overall alignment rate
29012 reads; of these:
29012 (100.00%) were unpaired; of these:
28981 (99.89%) aligned 0 times
31 (0.11%) aligned exactly 1 time
0 (0.00%) aligned >1 times
0.11% overall alignment rate
Settings:
Output files: "tmp_index/refseq.t1.*.ht2"
Line rate: 6 (line is 64 bytes)
Lines per side: 1 (side is 64 bytes)
Offset rate: 4 (one in 16)
FTable chars: 10
Strings: unpacked
Local offset rate: 3 (one in 8)
Local fTable chars: 6
Local sequence length: 57344
Local sequence overlap between two consecutive indexes: 1024
Endianness: little
Actual local endianness: little
Sanity checking: disabled
Assertions: disabled
Random seed: 0
Sizeofs: void*:8, int:4, long:8, size_t:8
Input files DNA, FASTA:
tmp_index/refseq.t1.fa
Reading reference sizes
Time reading reference sizes: 00:00:00
Calculating joined length
Writing header
Reserving space for joined string
Joining reference sequences
Time to join reference sequences: 00:00:00
Time to read SNPs and splice sites: 00:00:00
Using parameters --bmax 68 --dcv 1024
Doing ahead-of-time memory usage test
Passed! Constructing with these parameters: --bmax 68 --dcv 1024
Constructing suffix-array element generator
Converting suffix-array elements to index image
Allocating ftab, absorbFtab
Entering GFM loop
Exited GFM loop
fchr[A]: 0
fchr[C]: 70
fchr[G]: 180
fchr[T]: 281
fchr[$]: 361
Exiting GFM::buildToDisk()
Returning from initFromVector
Wrote 4194625 bytes to primary GFM file: tmp_index/refseq.t1.1.ht2
Wrote 96 bytes to secondary GFM file: tmp_index/refseq.t1.2.ht2
Re-opening _in1 and _in2 as input streams
Returning from GFM constructor
Returning from initFromVector
Wrote 8421 bytes to primary GFM file: tmp_index/refseq.t1.5.ht2
Wrote 96 bytes to secondary GFM file: tmp_index/refseq.t1.6.ht2
Re-opening _in5 and _in5 as input streams
Returning from HGFM constructor
Headers:
len: 361
gbwtLen: 362
nodes: 362
sz: 91
gbwtSz: 91
lineRate: 6
offRate: 4
offMask: 0xfffffff0
ftabChars: 10
eftabLen: 0
eftabSz: 0
ftabLen: 1048577
ftabSz: 4194308
offsLen: 23
offsSz: 92
lineSz: 64
sideSz: 64
sideGbwtSz: 48
sideGbwtLen: 192
numSides: 2
numLines: 2
gbwtTotLen: 128
gbwtTotSz: 128
reverse: 0
linearFM: Yes
Total time for call to driver() for forward index: 00:00:00
Settings:
Output files: "tmp_index/refseq.t2.*.ht2"
Line rate: 6 (line is 64 bytes)
Lines per side: 1 (side is 64 bytes)
Offset rate: 4 (one in 16)
FTable chars: 10
Strings: unpacked
Local offset rate: 3 (one in 8)
Local fTable chars: 6
Local sequence length: 57344
Local sequence overlap between two consecutive indexes: 1024
Endianness: little
Actual local endianness: little
Sanity checking: disabled
Assertions: disabled
Random seed: 0
Sizeofs: void*:8, int:4, long:8, size_t:8
Input files DNA, FASTA:
tmp_index/refseq.t2.fa
Reading reference sizes
Time reading reference sizes: 00:00:00
Calculating joined length
Writing header
Reserving space for joined string
Joining reference sequences
Time to join reference sequences: 00:00:00
Time to read SNPs and splice sites: 00:00:00
Using parameters --bmax 68 --dcv 1024
Doing ahead-of-time memory usage test
Passed! Constructing with these parameters: --bmax 68 --dcv 1024
Constructing suffix-array element generator
Converting suffix-array elements to index image
Allocating ftab, absorbFtab
Entering GFM loop
Exited GFM loop
fchr[A]: 0
fchr[C]: 70
fchr[G]: 180
fchr[T]: 281
fchr[$]: 361
Exiting GFM::buildToDisk()
Returning from initFromVector
Wrote 4194625 bytes to primary GFM file: tmp_index/refseq.t2.1.ht2
Wrote 96 bytes to secondary GFM file: tmp_index/refseq.t2.2.ht2
Re-opening _in1 and _in2 as input streams
Returning from GFM constructor
Returning from initFromVector
Wrote 8421 bytes to primary GFM file: tmp_index/refseq.t2.5.ht2
Wrote 96 bytes to secondary GFM file: tmp_index/refseq.t2.6.ht2
Re-opening _in5 and _in5 as input streams
Returning from HGFM constructor
Headers:
len: 361
gbwtLen: 362
nodes: 362
sz: 91
gbwtSz: 91
lineRate: 6
offRate: 4
offMask: 0xfffffff0
ftabChars: 10
eftabLen: 0
eftabSz: 0
ftabLen: 1048577
ftabSz: 4194308
offsLen: 23
offsSz: 92
lineSz: 64
sideSz: 64
sideGbwtSz: 48
sideGbwtLen: 192
numSides: 2
numLines: 2
gbwtTotLen: 128
gbwtTotSz: 128
reverse: 0
linearFM: Yes
Total time for call to driver() for forward index: 00:00:00
10000 reads; of these:
10000 (100.00%) were unpaired; of these:
0 (0.00%) aligned 0 times
10000 (100.00%) aligned exactly 1 time
0 (0.00%) aligned >1 times
100.00% overall alignment rate
0 reads
0.00% overall alignment rate
Settings:
Output files: "tmp_index/refseq.t1.*.ht2"
Line rate: 6 (line is 64 bytes)
Lines per side: 1 (side is 64 bytes)
Offset rate: 4 (one in 16)
FTable chars: 10
Strings: unpacked
Local offset rate: 3 (one in 8)
Local fTable chars: 6
Local sequence length: 57344
Local sequence overlap between two consecutive indexes: 1024
Endianness: little
Actual local endianness: little
Sanity checking: disabled
Assertions: disabled
Random seed: 0
Sizeofs: void*:8, int:4, long:8, size_t:8
Input files DNA, FASTA:
tmp_index/refseq.t1.fa
Reading reference sizes
Time reading reference sizes: 00:00:00
Calculating joined length
Writing header
Reserving space for joined string
Joining reference sequences
Time to join reference sequences: 00:00:00
Time to read SNPs and splice sites: 00:00:00
Using parameters --bmax 68 --dcv 1024
Doing ahead-of-time memory usage test
Passed! Constructing with these parameters: --bmax 68 --dcv 1024
Constructing suffix-array element generator
Converting suffix-array elements to index image
Allocating ftab, absorbFtab
Entering GFM loop
Exited GFM loop
fchr[A]: 0
fchr[C]: 70
fchr[G]: 180
fchr[T]: 281
fchr[$]: 361
Exiting GFM::buildToDisk()
Returning from initFromVector
Wrote 4194625 bytes to primary GFM file: tmp_index/refseq.t1.1.ht2
Wrote 96 bytes to secondary GFM file: tmp_index/refseq.t1.2.ht2
Re-opening _in1 and _in2 as input streams
Returning from GFM constructor
Returning from initFromVector
Wrote 8421 bytes to primary GFM file: tmp_index/refseq.t1.5.ht2
Wrote 96 bytes to secondary GFM file: tmp_index/refseq.t1.6.ht2
Re-opening _in5 and _in5 as input streams
Returning from HGFM constructor
Headers:
len: 361
gbwtLen: 362
nodes: 362
sz: 91
gbwtSz: 91
lineRate: 6
offRate: 4
offMask: 0xfffffff0
ftabChars: 10
eftabLen: 0
eftabSz: 0
ftabLen: 1048577
ftabSz: 4194308
offsLen: 23
offsSz: 92
lineSz: 64
sideSz: 64
sideGbwtSz: 48
sideGbwtLen: 192
numSides: 2
numLines: 2
gbwtTotLen: 128
gbwtTotSz: 128
reverse: 0
linearFM: Yes
Total time for call to driver() for forward index: 00:00:00
Settings:
Output files: "tmp_index/refseq.t2.*.ht2"
Line rate: 6 (line is 64 bytes)
Lines per side: 1 (side is 64 bytes)
Offset rate: 4 (one in 16)
FTable chars: 10
Strings: unpacked
Local offset rate: 3 (one in 8)
Local fTable chars: 6
Local sequence length: 57344
Local sequence overlap between two consecutive indexes: 1024
Endianness: little
Actual local endianness: little
Sanity checking: disabled
Assertions: disabled
Random seed: 0
Sizeofs: void*:8, int:4, long:8, size_t:8
Input files DNA, FASTA:
tmp_index/refseq.t2.fa
Reading reference sizes
Time reading reference sizes: 00:00:00
Calculating joined length
Writing header
Reserving space for joined string
Joining reference sequences
Time to join reference sequences: 00:00:00
Time to read SNPs and splice sites: 00:00:00
Using parameters --bmax 68 --dcv 1024
Doing ahead-of-time memory usage test
Passed! Constructing with these parameters: --bmax 68 --dcv 1024
Constructing suffix-array element generator
Converting suffix-array elements to index image
Allocating ftab, absorbFtab
Entering GFM loop
Exited GFM loop
fchr[A]: 0
fchr[C]: 70
fchr[G]: 180
fchr[T]: 281
fchr[$]: 361
Exiting GFM::buildToDisk()
Returning from initFromVector
Wrote 4194625 bytes to primary GFM file: tmp_index/refseq.t2.1.ht2
Wrote 96 bytes to secondary GFM file: tmp_index/refseq.t2.2.ht2
Re-opening _in1 and _in2 as input streams
Returning from GFM constructor
Returning from initFromVector
Wrote 8421 bytes to primary GFM file: tmp_index/refseq.t2.5.ht2
Wrote 96 bytes to secondary GFM file: tmp_index/refseq.t2.6.ht2
Re-opening _in5 and _in5 as input streams
Returning from HGFM constructor
Headers:
len: 361
gbwtLen: 362
nodes: 362
sz: 91
gbwtSz: 91
lineRate: 6
offRate: 4
offMask: 0xfffffff0
ftabChars: 10
eftabLen: 0
eftabSz: 0
ftabLen: 1048577
ftabSz: 4194308
offsLen: 23
offsSz: 92
lineSz: 64
sideSz: 64
sideGbwtSz: 48
sideGbwtLen: 192
numSides: 2
numLines: 2
gbwtTotLen: 128
gbwtTotSz: 128
reverse: 0
linearFM: Yes
Total time for call to driver() for forward index: 00:00:00
10000 reads; of these:
10000 (100.00%) were unpaired; of these:
6653 (66.53%) aligned 0 times
3347 (33.47%) aligned exactly 1 time
0 (0.00%) aligned >1 times
33.47% overall alignment rate
6653 reads; of these:
6653 (100.00%) were unpaired; of these:
0 (0.00%) aligned 0 times
6653 (100.00%) aligned exactly 1 time
0 (0.00%) aligned >1 times
100.00% overall alignment rate
Settings:
Output files: "tmp_index/refseq.t1.*.ht2"
Line rate: 6 (line is 64 bytes)
Lines per side: 1 (side is 64 bytes)
Offset rate: 4 (one in 16)
FTable chars: 10
Strings: unpacked
Local offset rate: 3 (one in 8)
Local fTable chars: 6
Local sequence length: 57344
Local sequence overlap between two consecutive indexes: 1024
Endianness: little
Actual local endianness: little
Sanity checking: disabled
Assertions: disabled
Random seed: 0
Sizeofs: void*:8, int:4, long:8, size_t:8
Input files DNA, FASTA:
tmp_index/refseq.t1.fa
Reading reference sizes
Time reading reference sizes: 00:00:00
Calculating joined length
Writing header
Reserving space for joined string
Joining reference sequences
Time to join reference sequences: 00:00:00
Time to read SNPs and splice sites: 00:00:00
Using parameters --bmax 68 --dcv 1024
Doing ahead-of-time memory usage test
Passed! Constructing with these parameters: --bmax 68 --dcv 1024
Constructing suffix-array element generator
Converting suffix-array elements to index image
Allocating ftab, absorbFtab
Entering GFM loop
Exited GFM loop
fchr[A]: 0
fchr[C]: 70
fchr[G]: 180
fchr[T]: 281
fchr[$]: 361
Exiting GFM::buildToDisk()
Returning from initFromVector
Wrote 4194625 bytes to primary GFM file: tmp_index/refseq.t1.1.ht2
Wrote 96 bytes to secondary GFM file: tmp_index/refseq.t1.2.ht2
Re-opening _in1 and _in2 as input streams
Returning from GFM constructor
Returning from initFromVector
Wrote 8421 bytes to primary GFM file: tmp_index/refseq.t1.5.ht2
Wrote 96 bytes to secondary GFM file: tmp_index/refseq.t1.6.ht2
Re-opening _in5 and _in5 as input streams
Returning from HGFM constructor
Headers:
len: 361
gbwtLen: 362
nodes: 362
sz: 91
gbwtSz: 91
lineRate: 6
offRate: 4
offMask: 0xfffffff0
ftabChars: 10
eftabLen: 0
eftabSz: 0
ftabLen: 1048577
ftabSz: 4194308
offsLen: 23
offsSz: 92
lineSz: 64
sideSz: 64
sideGbwtSz: 48
sideGbwtLen: 192
numSides: 2
numLines: 2
gbwtTotLen: 128
gbwtTotSz: 128
reverse: 0
linearFM: Yes
Total time for call to driver() for forward index: 00:00:00
Settings:
Output files: "tmp_index/refseq.t2.*.ht2"
Line rate: 6 (line is 64 bytes)
Lines per side: 1 (side is 64 bytes)
Offset rate: 4 (one in 16)
FTable chars: 10
Strings: unpacked
Local offset rate: 3 (one in 8)
Local fTable chars: 6
Local sequence length: 57344
Local sequence overlap between two consecutive indexes: 1024
Endianness: little
Actual local endianness: little
Sanity checking: disabled
Assertions: disabled
Random seed: 0
Sizeofs: void*:8, int:4, long:8, size_t:8
Input files DNA, FASTA:
tmp_index/refseq.t2.fa
Reading reference sizes
Time reading reference sizes: 00:00:00
Calculating joined length
Writing header
Reserving space for joined string
Joining reference sequences
Time to join reference sequences: 00:00:00
Time to read SNPs and splice sites: 00:00:00
Using parameters --bmax 68 --dcv 1024
Doing ahead-of-time memory usage test
Passed! Constructing with these parameters: --bmax 68 --dcv 1024
Constructing suffix-array element generator
Converting suffix-array elements to index image
Allocating ftab, absorbFtab
Entering GFM loop
Exited GFM loop
fchr[A]: 0
fchr[C]: 70
fchr[G]: 180
fchr[T]: 281
fchr[$]: 361
Exiting GFM::buildToDisk()
Returning from initFromVector
Wrote 4194625 bytes to primary GFM file: tmp_index/refseq.t2.1.ht2
Wrote 96 bytes to secondary GFM file: tmp_index/refseq.t2.2.ht2
Re-opening _in1 and _in2 as input streams
Returning from GFM constructor
Returning from initFromVector
Wrote 8421 bytes to primary GFM file: tmp_index/refseq.t2.5.ht2
Wrote 96 bytes to secondary GFM file: tmp_index/refseq.t2.6.ht2
Re-opening _in5 and _in5 as input streams
Returning from HGFM constructor
Headers:
len: 361
gbwtLen: 362
nodes: 362
sz: 91
gbwtSz: 91
lineRate: 6
offRate: 4
offMask: 0xfffffff0
ftabChars: 10
eftabLen: 0
eftabSz: 0
ftabLen: 1048577
ftabSz: 4194308
offsLen: 23
offsSz: 92
lineSz: 64
sideSz: 64
sideGbwtSz: 48
sideGbwtLen: 192
numSides: 2
numLines: 2
gbwtTotLen: 128
gbwtTotSz: 128
reverse: 0
linearFM: Yes
Total time for call to driver() for forward index: 00:00:00
10000 reads; of these:
10000 (100.00%) were unpaired; of these:
506 (5.06%) aligned 0 times
9494 (94.94%) aligned exactly 1 time
0 (0.00%) aligned >1 times
94.94% overall alignment rate
506 reads; of these:
506 (100.00%) were unpaired; of these:
0 (0.00%) aligned 0 times
506 (100.00%) aligned exactly 1 time
0 (0.00%) aligned >1 times
100.00% overall alignment rate
10000 reads; of these:
10000 (100.00%) were unpaired; of these:
971 (9.71%) aligned 0 times
9029 (90.29%) aligned exactly 1 time
0 (0.00%) aligned >1 times
90.29% overall alignment rate
971 reads; of these:
971 (100.00%) were unpaired; of these:
0 (0.00%) aligned 0 times
971 (100.00%) aligned exactly 1 time
0 (0.00%) aligned >1 times
100.00% overall alignment rate
10000 reads; of these:
10000 (100.00%) were unpaired; of these:
0 (0.00%) aligned 0 times
10000 (100.00%) aligned exactly 1 time
0 (0.00%) aligned >1 times
100.00% overall alignment rate
0 reads
0.00% overall alignment rate
10000 reads; of these:
10000 (100.00%) were unpaired; of these:
0 (0.00%) aligned 0 times
10000 (100.00%) aligned exactly 1 time
0 (0.00%) aligned >1 times
100.00% overall alignment rate
0 reads
0.00% overall alignment rate
10000 reads; of these:
10000 (100.00%) were unpaired; of these:
0 (0.00%) aligned 0 times
10000 (100.00%) aligned exactly 1 time
0 (0.00%) aligned >1 times
100.00% overall alignment rate
0 reads
0.00% overall alignment rate
10000 reads; of these:
10000 (100.00%) were unpaired; of these:
1041 (10.41%) aligned 0 times
8959 (89.59%) aligned exactly 1 time
0 (0.00%) aligned >1 times
89.59% overall alignment rate
1041 reads; of these:
1041 (100.00%) were unpaired; of these:
0 (0.00%) aligned 0 times
1041 (100.00%) aligned exactly 1 time
0 (0.00%) aligned >1 times
100.00% overall alignment rate
10000 reads; of these:
10000 (100.00%) were unpaired; of these:
0 (0.00%) aligned 0 times
10000 (100.00%) aligned exactly 1 time
0 (0.00%) aligned >1 times
100.00% overall alignment rate
0 reads
0.00% overall alignment rate
10000 reads; of these:
10000 (100.00%) were unpaired; of these:
27 (0.27%) aligned 0 times
9973 (99.73%) aligned exactly 1 time
0 (0.00%) aligned >1 times
99.73% overall alignment rate
27 reads; of these:
27 (100.00%) were unpaired; of these:
0 (0.00%) aligned 0 times
27 (100.00%) aligned exactly 1 time
0 (0.00%) aligned >1 times
100.00% overall alignment rate
10000 reads; of these:
10000 (100.00%) were unpaired; of these:
2696 (26.96%) aligned 0 times
7304 (73.04%) aligned exactly 1 time
0 (0.00%) aligned >1 times
73.04% overall alignment rate
2696 reads; of these:
2696 (100.00%) were unpaired; of these:
0 (0.00%) aligned 0 times
2696 (100.00%) aligned exactly 1 time
0 (0.00%) aligned >1 times
100.00% overall alignment rate
10000 reads; of these:
10000 (100.00%) were unpaired; of these:
0 (0.00%) aligned 0 times
10000 (100.00%) aligned exactly 1 time
0 (0.00%) aligned >1 times
100.00% overall alignment rate
0 reads
0.00% overall alignment rate
[ FAIL 0 | WARN 19 | SKIP 5 | PASS 0 ]
══ Skipped tests (5) ═══════════════════════════════════════════════════════════
• empty test (5): 'test_workflow.R:1:1', 'test_workflow.R:16:1',
'test_workflow.R:32:1', 'test_workflow.R:53:1', 'test_workflow.R:73:1'
[ FAIL 0 | WARN 19 | SKIP 5 | PASS 0 ]
>
> proc.time()
user system elapsed
16.961 1.628 19.090
CircSeqAlignTk.Rcheck/CircSeqAlignTk-Ex.timings
| name | user | system | elapsed | |
| CircSeqAlignTk-package | 0.001 | 0.000 | 0.001 | |
| align_reads | 2.332 | 0.167 | 2.619 | |
| build_app | 0 | 0 | 0 | |
| build_index | 0.043 | 0.037 | 0.090 | |
| calc_coverage | 1.805 | 0.155 | 2.020 | |
| filter_reads | 0.475 | 0.011 | 0.501 | |
| generate_reads | 0.862 | 0.032 | 0.919 | |
| merge.CircSeqAlignTkSim | 0.111 | 0.019 | 0.133 | |
| plot_coverage | 1.630 | 0.170 | 1.824 | |