| Back to Multiple platform build/check report for BioC 3.22: simplified long |
|
This page was generated on 2025-10-24 12:06 -0400 (Fri, 24 Oct 2025).
| Hostname | OS | Arch (*) | R version | Installed pkgs |
|---|---|---|---|---|
| nebbiolo2 | Linux (Ubuntu 24.04.3 LTS) | x86_64 | 4.5.1 Patched (2025-08-23 r88802) -- "Great Square Root" | 4898 |
| lconway | macOS 12.7.6 Monterey | x86_64 | 4.5.1 Patched (2025-09-10 r88807) -- "Great Square Root" | 4688 |
| kjohnson3 | macOS 13.7.7 Ventura | arm64 | 4.5.1 Patched (2025-09-10 r88807) -- "Great Square Root" | 4634 |
| taishan | Linux (openEuler 24.03 LTS) | aarch64 | 4.5.0 (2025-04-11) -- "How About a Twenty-Six" | 4658 |
| Click on any hostname to see more info about the system (e.g. compilers) (*) as reported by 'uname -p', except on Windows and Mac OS X | ||||
| Package 289/2359 | Hostname | OS / Arch | INSTALL | BUILD | CHECK | BUILD BIN | ||||||||
| CatsCradle 1.3.1 (landing page) Michael Shapiro
| nebbiolo2 | Linux (Ubuntu 24.04.3 LTS) / x86_64 | OK | OK | OK | |||||||||
| lconway | macOS 12.7.6 Monterey / x86_64 | OK | OK | OK | OK | |||||||||
| kjohnson3 | macOS 13.7.7 Ventura / arm64 | OK | OK | OK | OK | |||||||||
| taishan | Linux (openEuler 24.03 LTS) / aarch64 | OK | NA | NA | ||||||||||
|
To the developers/maintainers of the CatsCradle package: - Allow up to 24 hours (and sometimes 48 hours) for your latest push to git@git.bioconductor.org:packages/CatsCradle.git to reflect on this report. See Troubleshooting Build Report for more information. - Use the following Renviron settings to reproduce errors and warnings. - If 'R CMD check' started to fail recently on the Linux builder(s) over a missing dependency, add the missing dependency to 'Suggests:' in your DESCRIPTION file. See Renviron.bioc for more information. |
| Package: CatsCradle |
| Version: 1.3.1 |
| Command: /Library/Frameworks/R.framework/Resources/bin/R CMD check --install=check:CatsCradle.install-out.txt --library=/Library/Frameworks/R.framework/Resources/library --no-vignettes --timings CatsCradle_1.3.1.tar.gz |
| StartedAt: 2025-10-23 18:55:11 -0400 (Thu, 23 Oct 2025) |
| EndedAt: 2025-10-23 18:59:02 -0400 (Thu, 23 Oct 2025) |
| EllapsedTime: 230.8 seconds |
| RetCode: 0 |
| Status: OK |
| CheckDir: CatsCradle.Rcheck |
| Warnings: 0 |
##############################################################################
##############################################################################
###
### Running command:
###
### /Library/Frameworks/R.framework/Resources/bin/R CMD check --install=check:CatsCradle.install-out.txt --library=/Library/Frameworks/R.framework/Resources/library --no-vignettes --timings CatsCradle_1.3.1.tar.gz
###
##############################################################################
##############################################################################
* using log directory ‘/Users/biocbuild/bbs-3.22-bioc/meat/CatsCradle.Rcheck’
* using R version 4.5.1 Patched (2025-09-10 r88807)
* using platform: aarch64-apple-darwin20
* R was compiled by
Apple clang version 16.0.0 (clang-1600.0.26.6)
GNU Fortran (GCC) 14.2.0
* running under: macOS Ventura 13.7.7
* using session charset: UTF-8
* using option ‘--no-vignettes’
* checking for file ‘CatsCradle/DESCRIPTION’ ... OK
* this is package ‘CatsCradle’ version ‘1.3.1’
* package encoding: UTF-8
* checking package namespace information ... OK
* checking package dependencies ... INFO
Imports includes 21 non-default packages.
Importing from so many packages makes the package vulnerable to any of
them becoming unavailable. Move as many as possible to Suggests and
use conditionally.
* checking if this is a source package ... OK
* checking if there is a namespace ... OK
* checking for hidden files and directories ... OK
* checking for portable file names ... OK
* checking for sufficient/correct file permissions ... OK
* checking whether package ‘CatsCradle’ can be installed ... OK
* checking installed package size ... OK
* checking package directory ... OK
* checking ‘build’ directory ... OK
* checking DESCRIPTION meta-information ... OK
* checking top-level files ... OK
* checking for left-over files ... OK
* checking index information ... OK
* checking package subdirectories ... OK
* checking code files for non-ASCII characters ... OK
* checking R files for syntax errors ... OK
* checking whether the package can be loaded ... OK
* checking whether the package can be loaded with stated dependencies ... OK
* checking whether the package can be unloaded cleanly ... OK
* checking whether the namespace can be loaded with stated dependencies ... OK
* checking whether the namespace can be unloaded cleanly ... OK
* checking dependencies in R code ... OK
* checking S3 generic/method consistency ... OK
* checking replacement functions ... OK
* checking foreign function calls ... OK
* checking R code for possible problems ... NOTE
edgeLengthPlot: no visible binding for global variable ‘cellTypePair’
edgeLengthPlot: no visible binding for global variable ‘cutoff’
make.getExample : getExample: no visible binding for global variable
‘seuratGenes’
make.getExample : getExample: no visible binding for global variable
‘seuratCells’
make.getExample : getExample: no visible binding for global variable
‘xeniumCells’
make.getExample : getExample: no visible binding for global variable
‘moransI’
make.getExample : getExample: no visible binding for global variable
‘moransILigandReceptor’
make.getExample : getExample: no visible binding for global variable
‘humanLRN’
make.getExample : getExample: no visible binding for global variable
‘mouseLRN’
meanGeneClusterOnCellUMAP: no visible binding for global variable
‘UMAP_1’
meanGeneClusterOnCellUMAP: no visible binding for global variable
‘UMAP_2’
Undefined global functions or variables:
UMAP_1 UMAP_2 cellTypePair cutoff humanLRN moransI
moransILigandReceptor mouseLRN seuratCells seuratGenes xeniumCells
* checking Rd files ... OK
* checking Rd metadata ... OK
* checking Rd cross-references ... OK
* checking for missing documentation entries ... OK
* checking for code/documentation mismatches ... OK
* checking Rd \usage sections ... OK
* checking Rd contents ... OK
* checking for unstated dependencies in examples ... OK
* checking contents of ‘data’ directory ... OK
* checking data for non-ASCII characters ... OK
* checking data for ASCII and uncompressed saves ... OK
* checking files in ‘vignettes’ ... OK
* checking examples ... OK
Examples with CPU (user + system) or elapsed time > 5s
user system elapsed
annotateGeneAsVector 17.994 0.124 18.192
computeNBHDVsCTObject 9.355 0.074 9.473
randomiseNodeIndices 6.986 0.107 7.380
getObjectSubsetClusteringPValue 6.039 0.370 6.447
transposeObject 5.031 0.056 5.310
* checking for unstated dependencies in vignettes ... OK
* checking package vignettes ... OK
* checking running R code from vignettes ... SKIPPED
* checking re-building of vignette outputs ... SKIPPED
* checking PDF version of manual ... OK
* DONE
Status: 1 NOTE
See
‘/Users/biocbuild/bbs-3.22-bioc/meat/CatsCradle.Rcheck/00check.log’
for details.
CatsCradle.Rcheck/00install.out
############################################################################## ############################################################################## ### ### Running command: ### ### /Library/Frameworks/R.framework/Resources/bin/R CMD INSTALL CatsCradle ### ############################################################################## ############################################################################## * installing to library ‘/Library/Frameworks/R.framework/Versions/4.5-arm64/Resources/library’ * installing *source* package ‘CatsCradle’ ... ** this is package ‘CatsCradle’ version ‘1.3.1’ ** using staged installation ** R ** data ** inst ** byte-compile and prepare package for lazy loading ** help *** installing help indices ** building package indices ** installing vignettes ** testing if installed package can be loaded from temporary location ** testing if installed package can be loaded from final location ** testing if installed package keeps a record of temporary installation path * DONE (CatsCradle)
CatsCradle.Rcheck/CatsCradle-Ex.timings
| name | user | system | elapsed | |
| aggregateGeneExpression | 4.731 | 0.133 | 4.997 | |
| annotateGeneAsVector | 17.994 | 0.124 | 18.192 | |
| annotateGenesByGeneSet | 0.716 | 0.107 | 0.826 | |
| cellTypesPerCellTypeGraphFromCellMatrix | 0.074 | 0.003 | 0.078 | |
| collapseExtendedNBHDs | 0.946 | 0.024 | 0.965 | |
| combinatorialSpheres | 2.616 | 0.028 | 2.716 | |
| computeCellTypesPerCellTypeMatrix | 0.047 | 0.003 | 0.050 | |
| computeEdgeGraph | 0.079 | 0.006 | 0.073 | |
| computeEdgeObject | 0.324 | 0.018 | 0.346 | |
| computeGraphEmbedding | 4.859 | 0.036 | 4.914 | |
| computeNBHDByCTMatrix | 0.043 | 0.005 | 0.048 | |
| computeNBHDVsCTObject | 9.355 | 0.074 | 9.473 | |
| computeNeighbourEnrichment | 0.170 | 0.020 | 0.191 | |
| computeNeighboursDelaunay | 0.038 | 0.002 | 0.041 | |
| computeNeighboursEuclidean | 0.206 | 0.022 | 0.227 | |
| cullEdges | 0.232 | 0.041 | 0.273 | |
| desymmetriseNN | 2.342 | 0.033 | 2.375 | |
| directedHausdorfDistance | 0.000 | 0.000 | 0.001 | |
| edgeCutoffsByClustering | 0.146 | 0.012 | 0.159 | |
| edgeCutoffsByPercentile | 0.102 | 0.004 | 0.106 | |
| edgeCutoffsByWatershed | 0.115 | 0.004 | 0.119 | |
| edgeCutoffsByZScore | 0.135 | 0.006 | 0.140 | |
| edgeLengthPlot | 0.129 | 0.007 | 0.143 | |
| edgeLengthsAndCellTypePairs | 0.136 | 0.004 | 0.141 | |
| exampleObjects | 0 | 0 | 0 | |
| geneSetsVsGeneClustersPValueMatrix | 2.613 | 0.033 | 2.683 | |
| getAverageExpressionDF | 2.583 | 0.029 | 2.688 | |
| getAverageExpressionMatrix | 2.597 | 0.034 | 2.683 | |
| getClusterOrder | 2.446 | 0.023 | 2.554 | |
| getExtendedNBHDs | 0.451 | 0.030 | 0.524 | |
| getFeatureZScores | 0.082 | 0.007 | 0.088 | |
| getGeneClusterAveragesPerCell | 2.514 | 0.038 | 2.598 | |
| getGeneNeighbors | 2.445 | 0.030 | 2.495 | |
| getLigandReceptorNetwork | 0.009 | 0.001 | 0.010 | |
| getLigandReceptorPairsInPanel | 0.044 | 0.002 | 0.047 | |
| getNearbyGenes | 2.572 | 0.029 | 2.643 | |
| getNearestNeighbourLists | 2.462 | 0.021 | 2.520 | |
| getObjectSubsetClusteringPValue | 6.039 | 0.370 | 6.447 | |
| getObjectSubsetClusteringStatistics | 2.575 | 0.049 | 2.647 | |
| make.getExample | 0.038 | 0.004 | 0.041 | |
| makeLRInteractionHeatmap | 0.097 | 0.006 | 0.108 | |
| makeSummedLRInteractionHeatmap | 0.061 | 0.004 | 0.065 | |
| meanGeneClusterOnCellUMAP | 2.470 | 0.029 | 2.552 | |
| meanZPerCluster | 2.459 | 0.023 | 2.504 | |
| meanZPerClusterOnUMAP | 2.429 | 0.030 | 2.466 | |
| medianComplementDistance | 0.001 | 0.000 | 0.000 | |
| medianComplementPValue | 2.758 | 0.039 | 2.906 | |
| nbhdsAsEdgesToNbhdsAsList | 0.337 | 0.076 | 0.414 | |
| neighbourhoodDiameter | 0.347 | 0.068 | 0.423 | |
| performLigandReceptorAnalysis | 0.895 | 0.342 | 1.258 | |
| predictAnnotation | 3.766 | 0.259 | 4.181 | |
| predictAnnotationAllGenes | 3.398 | 0.173 | 3.744 | |
| predictGeneAnnotationImpl | 3.194 | 0.158 | 3.513 | |
| randomiseNodeIndices | 6.986 | 0.107 | 7.380 | |
| runGeometricClusteringTrials | 2.604 | 0.058 | 2.729 | |
| runMoransI | 0.428 | 0.065 | 0.503 | |
| sankeyFromMatrix | 0.001 | 0.000 | 0.001 | |
| symmetriseNN | 2.525 | 0.051 | 2.610 | |
| symmetryCheckNN | 2.518 | 0.030 | 2.603 | |
| tagRowAndColNames | 2.525 | 0.038 | 2.622 | |
| transposeObject | 5.031 | 0.056 | 5.310 | |