| Back to Multiple platform build/check report for BioC 3.22: simplified long |
|
This page was generated on 2025-10-24 12:06 -0400 (Fri, 24 Oct 2025).
| Hostname | OS | Arch (*) | R version | Installed pkgs |
|---|---|---|---|---|
| nebbiolo2 | Linux (Ubuntu 24.04.3 LTS) | x86_64 | 4.5.1 Patched (2025-08-23 r88802) -- "Great Square Root" | 4898 |
| lconway | macOS 12.7.6 Monterey | x86_64 | 4.5.1 Patched (2025-09-10 r88807) -- "Great Square Root" | 4688 |
| kjohnson3 | macOS 13.7.7 Ventura | arm64 | 4.5.1 Patched (2025-09-10 r88807) -- "Great Square Root" | 4634 |
| taishan | Linux (openEuler 24.03 LTS) | aarch64 | 4.5.0 (2025-04-11) -- "How About a Twenty-Six" | 4658 |
| Click on any hostname to see more info about the system (e.g. compilers) (*) as reported by 'uname -p', except on Windows and Mac OS X | ||||
| Package 221/2359 | Hostname | OS / Arch | INSTALL | BUILD | CHECK | BUILD BIN | ||||||||
| BioNAR 1.11.0 (landing page) Anatoly Sorokin
| nebbiolo2 | Linux (Ubuntu 24.04.3 LTS) / x86_64 | OK | OK | ERROR | |||||||||
| lconway | macOS 12.7.6 Monterey / x86_64 | OK | OK | ERROR | OK | |||||||||
| kjohnson3 | macOS 13.7.7 Ventura / arm64 | OK | OK | ERROR | OK | |||||||||
| taishan | Linux (openEuler 24.03 LTS) / aarch64 | OK | OK | TIMEOUT | ||||||||||
|
To the developers/maintainers of the BioNAR package: - Allow up to 24 hours (and sometimes 48 hours) for your latest push to git@git.bioconductor.org:packages/BioNAR.git to reflect on this report. See Troubleshooting Build Report for more information. - Use the following Renviron settings to reproduce errors and warnings. - If 'R CMD check' started to fail recently on the Linux builder(s) over a missing dependency, add the missing dependency to 'Suggests:' in your DESCRIPTION file. See Renviron.bioc for more information. |
| Package: BioNAR |
| Version: 1.11.0 |
| Command: /Library/Frameworks/R.framework/Resources/bin/R CMD check --install=check:BioNAR.install-out.txt --library=/Library/Frameworks/R.framework/Resources/library --no-vignettes --timings BioNAR_1.11.0.tar.gz |
| StartedAt: 2025-10-23 18:47:03 -0400 (Thu, 23 Oct 2025) |
| EndedAt: 2025-10-23 18:49:28 -0400 (Thu, 23 Oct 2025) |
| EllapsedTime: 144.6 seconds |
| RetCode: 1 |
| Status: ERROR |
| CheckDir: BioNAR.Rcheck |
| Warnings: NA |
##############################################################################
##############################################################################
###
### Running command:
###
### /Library/Frameworks/R.framework/Resources/bin/R CMD check --install=check:BioNAR.install-out.txt --library=/Library/Frameworks/R.framework/Resources/library --no-vignettes --timings BioNAR_1.11.0.tar.gz
###
##############################################################################
##############################################################################
* using log directory ‘/Users/biocbuild/bbs-3.22-bioc/meat/BioNAR.Rcheck’
* using R version 4.5.1 Patched (2025-09-10 r88807)
* using platform: aarch64-apple-darwin20
* R was compiled by
Apple clang version 16.0.0 (clang-1600.0.26.6)
GNU Fortran (GCC) 14.2.0
* running under: macOS Ventura 13.7.7
* using session charset: UTF-8
* using option ‘--no-vignettes’
* checking for file ‘BioNAR/DESCRIPTION’ ... OK
* this is package ‘BioNAR’ version ‘1.11.0’
* package encoding: UTF-8
* checking package namespace information ... OK
* checking package dependencies ... OK
* checking if this is a source package ... OK
* checking if there is a namespace ... OK
* checking for hidden files and directories ... OK
* checking for portable file names ... OK
* checking for sufficient/correct file permissions ... OK
* checking whether package ‘BioNAR’ can be installed ... OK
* checking installed package size ... INFO
installed size is 6.8Mb
sub-directories of 1Mb or more:
extdata 6.1Mb
* checking package directory ... OK
* checking ‘build’ directory ... OK
* checking DESCRIPTION meta-information ... OK
* checking top-level files ... OK
* checking for left-over files ... OK
* checking index information ... OK
* checking package subdirectories ... OK
* checking code files for non-ASCII characters ... OK
* checking R files for syntax errors ... OK
* checking whether the package can be loaded ... OK
* checking whether the package can be loaded with stated dependencies ... OK
* checking whether the package can be unloaded cleanly ... OK
* checking whether the namespace can be loaded with stated dependencies ... OK
* checking whether the namespace can be unloaded cleanly ... OK
* checking dependencies in R code ... NOTE
Package in Depends field not imported from: ‘Rdpack’
These packages need to be imported from (in the NAMESPACE file)
for when this namespace is loaded but not attached.
There are ::: calls to the package's namespace in its code. A package
almost never needs to use ::: for its own objects:
‘addNoise’ ‘gofs’ ‘highlightRate’ ‘plotSigmoid’
* checking S3 generic/method consistency ... OK
* checking replacement functions ... OK
* checking foreign function calls ... OK
* checking R code for possible problems ... OK
* checking Rd files ... OK
* checking Rd metadata ... OK
* checking Rd cross-references ... NOTE
Unknown package ‘clusterCons’ in Rd xrefs
* checking for missing documentation entries ... OK
* checking for code/documentation mismatches ... OK
* checking Rd \usage sections ... OK
* checking Rd contents ... OK
* checking for unstated dependencies in examples ... OK
* checking contents of ‘data’ directory ... OK
* checking data for non-ASCII characters ... OK
* checking LazyData ... OK
* checking data for ASCII and uncompressed saves ... OK
* checking files in ‘vignettes’ ... OK
* checking examples ... OK
Examples with CPU (user + system) or elapsed time > 5s
user system elapsed
plotEntropy 4.067 0.962 5.07
* checking for unstated dependencies in ‘tests’ ... OK
* checking tests ...
Running ‘testthat.R’
ERROR
Running the tests in ‘tests/testthat.R’ failed.
Last 13 lines of output:
[ FAIL 1 | WARN 0 | SKIP 2 | PASS 124 ]
══ Skipped tests (2) ═══════════════════════════════════════════════════════════
• On CRAN (2): 'test_bridgeness.R:38:5', 'test_bridgeness.R:81:5'
══ Failed tests ════════════════════════════════════════════════════════════════
── Failure ('test_bridgeness.R:101:5'): Norm Modularity ────────────────────────
`nm` (`actual`) not equal to 0.009390085 (`expected`).
`actual`: 0.0070
`expected`: 0.0094
[ FAIL 1 | WARN 0 | SKIP 2 | PASS 124 ]
Error: Test failures
Execution halted
* checking for unstated dependencies in vignettes ... OK
* checking package vignettes ... OK
* checking running R code from vignettes ... SKIPPED
* checking re-building of vignette outputs ... SKIPPED
* checking PDF version of manual ... OK
* DONE
Status: 1 ERROR, 2 NOTEs
See
‘/Users/biocbuild/bbs-3.22-bioc/meat/BioNAR.Rcheck/00check.log’
for details.
BioNAR.Rcheck/00install.out
############################################################################## ############################################################################## ### ### Running command: ### ### /Library/Frameworks/R.framework/Resources/bin/R CMD INSTALL BioNAR ### ############################################################################## ############################################################################## * installing to library ‘/Library/Frameworks/R.framework/Versions/4.5-arm64/Resources/library’ * installing *source* package ‘BioNAR’ ... ** this is package ‘BioNAR’ version ‘1.11.0’ ** using staged installation ** R ** data *** moving datasets to lazyload DB ** inst ** byte-compile and prepare package for lazy loading ** help *** installing help indices ** building package indices ** installing vignettes ** testing if installed package can be loaded from temporary location ** testing if installed package can be loaded from final location ** testing if installed package keeps a record of temporary installation path * DONE (BioNAR)
BioNAR.Rcheck/tests/testthat.Rout.fail
R version 4.5.1 Patched (2025-09-10 r88807) -- "Great Square Root"
Copyright (C) 2025 The R Foundation for Statistical Computing
Platform: aarch64-apple-darwin20
R is free software and comes with ABSOLUTELY NO WARRANTY.
You are welcome to redistribute it under certain conditions.
Type 'license()' or 'licence()' for distribution details.
R is a collaborative project with many contributors.
Type 'contributors()' for more information and
'citation()' on how to cite R or R packages in publications.
Type 'demo()' for some demos, 'help()' for on-line help, or
'help.start()' for an HTML browser interface to help.
Type 'q()' to quit R.
> library(testthat)
> library(BioNAR)
Loading required package: igraph
Attaching package: 'igraph'
The following object is masked from 'package:testthat':
compare
The following objects are masked from 'package:stats':
decompose, spectrum
The following object is masked from 'package:base':
union
Loading required package: poweRlaw
Loading required package: latex2exp
Loading required package: RSpectra
Loading required package: Rdpack
Attaching package: 'BioNAR'
The following object is masked from 'package:igraph':
permute
>
> test_check("BioNAR")
[ FAIL 1 | WARN 0 | SKIP 2 | PASS 124 ]
══ Skipped tests (2) ═══════════════════════════════════════════════════════════
• On CRAN (2): 'test_bridgeness.R:38:5', 'test_bridgeness.R:81:5'
══ Failed tests ════════════════════════════════════════════════════════════════
── Failure ('test_bridgeness.R:101:5'): Norm Modularity ────────────────────────
`nm` (`actual`) not equal to 0.009390085 (`expected`).
`actual`: 0.0070
`expected`: 0.0094
[ FAIL 1 | WARN 0 | SKIP 2 | PASS 124 ]
Error: Test failures
Execution halted
BioNAR.Rcheck/BioNAR-Ex.timings
| name | user | system | elapsed | |
| FitDegree | 0.327 | 0.023 | 1.845 | |
| addEdgeAtts | 3.512 | 1.033 | 4.570 | |
| annotateGOont | 2.028 | 0.349 | 2.394 | |
| annotateGeneNames | 0.081 | 0.005 | 0.086 | |
| annotateGoBP | 1.065 | 0.375 | 1.443 | |
| annotateGoCC | 1.133 | 0.280 | 1.416 | |
| annotateGoMF | 0.877 | 0.351 | 1.243 | |
| annotatePresynaptic | 0.411 | 0.145 | 0.557 | |
| annotateSCHanno | 1.932 | 0.578 | 2.519 | |
| annotateTopOntoOVG | 2.886 | 0.675 | 3.573 | |
| annotateVertex | 0.002 | 0.000 | 0.001 | |
| applpMatrixToGraph | 0.000 | 0.000 | 0.001 | |
| buildNetwork | 0.001 | 0.000 | 0.001 | |
| calcAllClustering | 1.709 | 0.006 | 1.716 | |
| calcBridgeness | 0.020 | 0.001 | 0.021 | |
| calcCentrality | 0.028 | 0.001 | 0.029 | |
| calcCentralityExternalDistances | 0.153 | 0.015 | 0.167 | |
| calcCentralityInternalDistances | 0.154 | 0.004 | 0.160 | |
| calcClustering | 0.001 | 0.000 | 0.001 | |
| calcDiseasePairs | 0.199 | 0.008 | 0.206 | |
| calcEntropy | 3.252 | 1.008 | 4.273 | |
| calcMembership | 0.002 | 0.001 | 0.002 | |
| calcReclusterMatrix | 0.011 | 0.000 | 0.011 | |
| calcSparsness | 1.768 | 0.359 | 2.134 | |
| clusterORA | 0.116 | 0.008 | 0.125 | |
| clusteringSummary | 3.915 | 0.004 | 3.920 | |
| degreeBinnedGDAs | 0.084 | 0.007 | 0.090 | |
| escapeAnnotation | 0 | 0 | 0 | |
| evalCentralitySignificance | 0.159 | 0.022 | 0.180 | |
| findLCC | 0.001 | 0.000 | 0.001 | |
| getAnnotationList | 0.018 | 0.002 | 0.020 | |
| getAnnotationVertexList | 0.023 | 0.004 | 0.026 | |
| getBridgeness | 0.017 | 0.001 | 0.018 | |
| getCentralityMatrix | 2.961 | 0.524 | 3.493 | |
| getClusterSubgraphByID | 0.007 | 0.001 | 0.007 | |
| getClustering | 0.006 | 0.000 | 0.007 | |
| getCommunityGraph | 0.006 | 0.000 | 0.007 | |
| getDType | 0.001 | 0.000 | 0.000 | |
| getDYNAMO | 0.011 | 0.000 | 0.012 | |
| getDiseases | 0 | 0 | 0 | |
| getEntropy | 3.407 | 0.975 | 4.402 | |
| getEntropyRate | 0.002 | 0.000 | 0.001 | |
| getGNP | 0.005 | 0.001 | 0.006 | |
| getGraphCentralityECDF | 2.769 | 0.625 | 3.405 | |
| getPA | 0.007 | 0.000 | 0.007 | |
| getRandomGraphCentrality | 0.158 | 0.010 | 3.787 | |
| getRobustness | 0.143 | 0.010 | 0.152 | |
| layoutByCluster | 0.034 | 0.001 | 0.035 | |
| layoutByRecluster | 0.029 | 0.001 | 0.030 | |
| makeConsensusMatrix | 0.143 | 0.007 | 0.155 | |
| makeMembership | 0.001 | 0.000 | 0.001 | |
| metlMatrix | 0.003 | 0.001 | 0.003 | |
| normModularity | 1.717 | 0.529 | 2.266 | |
| permute | 0 | 0 | 0 | |
| plotBridgeness | 0.156 | 0.007 | 0.163 | |
| plotEntropy | 4.067 | 0.962 | 5.070 | |
| prepareGDA | 0.083 | 0.007 | 0.090 | |
| recluster | 0.011 | 0.002 | 0.013 | |
| removeVertexTerm | 0.001 | 0.001 | 0.002 | |
| runPermDisease | 3.414 | 0.094 | 3.550 | |
| sampleDegBinnedGDA | 0.117 | 0.012 | 0.128 | |
| sampleGraphClust | 0.008 | 0.000 | 0.008 | |
| unescapeAnnotation | 0.000 | 0.001 | 0.000 | |
| zeroNA | 0 | 0 | 0 | |