| Back to Multiple platform build/check report for BioC 3.22: simplified long |
|
This page was generated on 2025-10-24 12:06 -0400 (Fri, 24 Oct 2025).
| Hostname | OS | Arch (*) | R version | Installed pkgs |
|---|---|---|---|---|
| nebbiolo2 | Linux (Ubuntu 24.04.3 LTS) | x86_64 | 4.5.1 Patched (2025-08-23 r88802) -- "Great Square Root" | 4898 |
| lconway | macOS 12.7.6 Monterey | x86_64 | 4.5.1 Patched (2025-09-10 r88807) -- "Great Square Root" | 4688 |
| kjohnson3 | macOS 13.7.7 Ventura | arm64 | 4.5.1 Patched (2025-09-10 r88807) -- "Great Square Root" | 4634 |
| taishan | Linux (openEuler 24.03 LTS) | aarch64 | 4.5.0 (2025-04-11) -- "How About a Twenty-Six" | 4658 |
| Click on any hostname to see more info about the system (e.g. compilers) (*) as reported by 'uname -p', except on Windows and Mac OS X | ||||
| Package 170/2359 | Hostname | OS / Arch | INSTALL | BUILD | CHECK | BUILD BIN | ||||||||
| BgeeCall 1.25.1 (landing page) Julien Wollbrett
| nebbiolo2 | Linux (Ubuntu 24.04.3 LTS) / x86_64 | OK | OK | OK | |||||||||
| lconway | macOS 12.7.6 Monterey / x86_64 | OK | OK | OK | OK | |||||||||
| kjohnson3 | macOS 13.7.7 Ventura / arm64 | OK | OK | OK | OK | |||||||||
| taishan | Linux (openEuler 24.03 LTS) / aarch64 | OK | OK | ERROR | ||||||||||
|
To the developers/maintainers of the BgeeCall package: - Allow up to 24 hours (and sometimes 48 hours) for your latest push to git@git.bioconductor.org:packages/BgeeCall.git to reflect on this report. See Troubleshooting Build Report for more information. - Use the following Renviron settings to reproduce errors and warnings. - If 'R CMD check' started to fail recently on the Linux builder(s) over a missing dependency, add the missing dependency to 'Suggests:' in your DESCRIPTION file. See Renviron.bioc for more information. |
| Package: BgeeCall |
| Version: 1.25.1 |
| Command: /Library/Frameworks/R.framework/Resources/bin/R CMD check --install=check:BgeeCall.install-out.txt --library=/Library/Frameworks/R.framework/Resources/library --no-vignettes --timings BgeeCall_1.25.1.tar.gz |
| StartedAt: 2025-10-23 18:42:38 -0400 (Thu, 23 Oct 2025) |
| EndedAt: 2025-10-23 18:45:09 -0400 (Thu, 23 Oct 2025) |
| EllapsedTime: 150.3 seconds |
| RetCode: 0 |
| Status: OK |
| CheckDir: BgeeCall.Rcheck |
| Warnings: 0 |
##############################################################################
##############################################################################
###
### Running command:
###
### /Library/Frameworks/R.framework/Resources/bin/R CMD check --install=check:BgeeCall.install-out.txt --library=/Library/Frameworks/R.framework/Resources/library --no-vignettes --timings BgeeCall_1.25.1.tar.gz
###
##############################################################################
##############################################################################
* using log directory ‘/Users/biocbuild/bbs-3.22-bioc/meat/BgeeCall.Rcheck’
* using R version 4.5.1 Patched (2025-09-10 r88807)
* using platform: aarch64-apple-darwin20
* R was compiled by
Apple clang version 16.0.0 (clang-1600.0.26.6)
GNU Fortran (GCC) 14.2.0
* running under: macOS Ventura 13.7.7
* using session charset: UTF-8
* using option ‘--no-vignettes’
* checking for file ‘BgeeCall/DESCRIPTION’ ... OK
* checking extension type ... Package
* this is package ‘BgeeCall’ version ‘1.25.1’
* package encoding: UTF-8
* checking package namespace information ... OK
* checking package dependencies ... INFO
Imports includes 21 non-default packages.
Importing from so many packages makes the package vulnerable to any of
them becoming unavailable. Move as many as possible to Suggests and
use conditionally.
* checking if this is a source package ... OK
* checking if there is a namespace ... OK
* checking for hidden files and directories ... OK
* checking for portable file names ... OK
* checking for sufficient/correct file permissions ... OK
* checking whether package ‘BgeeCall’ can be installed ... OK
* checking installed package size ... INFO
installed size is 9.2Mb
sub-directories of 1Mb or more:
extdata 8.6Mb
* checking package directory ... OK
* checking ‘build’ directory ... OK
* checking DESCRIPTION meta-information ... OK
* checking top-level files ... OK
* checking for left-over files ... OK
* checking index information ... OK
* checking package subdirectories ... OK
* checking code files for non-ASCII characters ... OK
* checking R files for syntax errors ... OK
* checking whether the package can be loaded ... OK
* checking whether the package can be loaded with stated dependencies ... OK
* checking whether the package can be unloaded cleanly ... OK
* checking whether the namespace can be loaded with stated dependencies ... OK
* checking whether the namespace can be unloaded cleanly ... OK
* checking dependencies in R code ... OK
* checking S3 generic/method consistency ... OK
* checking replacement functions ... OK
* checking foreign function calls ... OK
* checking R code for possible problems ... NOTE
galaxy_calls: no visible binding for global variable ‘output_file’
generate_calls_workflow: no visible binding for global variable
‘myUserMetadata’
generate_fasta_intergenic_regions: no visible binding for global
variable ‘classification’
generate_theoretical_pValue: no visible binding for global variable
‘abundance’
get_run_accessions_by_experiment: no visible binding for global
variable ‘sra_con’
retrieve_gtf_files: no visible global function definition for ‘cols’
Undefined global functions or variables:
abundance classification cols myUserMetadata output_file sra_con
* checking Rd files ... OK
* checking Rd metadata ... OK
* checking Rd cross-references ... OK
* checking for missing documentation entries ... OK
* checking for code/documentation mismatches ... OK
* checking Rd \usage sections ... OK
* checking Rd contents ... OK
* checking for unstated dependencies in examples ... OK
* checking files in ‘vignettes’ ... OK
* checking examples ... OK
Examples with CPU (user + system) or elapsed time > 5s
user system elapsed
generate_presence_absence 1.667 0.095 5.955
* checking for unstated dependencies in ‘tests’ ... OK
* checking tests ...
Running ‘testthat.R’
OK
* checking for unstated dependencies in vignettes ... OK
* checking package vignettes ... OK
* checking running R code from vignettes ... SKIPPED
* checking re-building of vignette outputs ... SKIPPED
* checking PDF version of manual ... OK
* DONE
Status: 1 NOTE
See
‘/Users/biocbuild/bbs-3.22-bioc/meat/BgeeCall.Rcheck/00check.log’
for details.
BgeeCall.Rcheck/00install.out
############################################################################## ############################################################################## ### ### Running command: ### ### /Library/Frameworks/R.framework/Resources/bin/R CMD INSTALL BgeeCall ### ############################################################################## ############################################################################## * installing to library ‘/Library/Frameworks/R.framework/Versions/4.5-arm64/Resources/library’ * installing *source* package ‘BgeeCall’ ... ** this is package ‘BgeeCall’ version ‘1.25.1’ ** using staged installation ** R ** inst ** byte-compile and prepare package for lazy loading ** help *** installing help indices ** building package indices ** installing vignettes ** testing if installed package can be loaded from temporary location ** testing if installed package can be loaded from final location ** testing if installed package keeps a record of temporary installation path * DONE (BgeeCall)
BgeeCall.Rcheck/tests/testthat.Rout
R version 4.5.1 Patched (2025-09-10 r88807) -- "Great Square Root"
Copyright (C) 2025 The R Foundation for Statistical Computing
Platform: aarch64-apple-darwin20
R is free software and comes with ABSOLUTELY NO WARRANTY.
You are welcome to redistribute it under certain conditions.
Type 'license()' or 'licence()' for distribution details.
R is a collaborative project with many contributors.
Type 'contributors()' for more information and
'citation()' on how to cite R or R packages in publications.
Type 'demo()' for some demos, 'help()' for on-line help, or
'help.start()' for an HTML browser interface to help.
Type 'q()' to quit R.
> library(testthat)
> library(BgeeCall)
>
> Sys.setenv("R_TESTS" = "")
> test_check("BgeeCall")
trying URL 'https://www.bgee.org/ftp/intergenic/0.1/ref_intergenic/6239_intergenic.fa.gz'
Content type 'application/x-gzip' length 4420457 bytes (4.2 MB)
==================================================
downloaded 4.2 MB
trying URL 'https://www.bgee.org/ftp/intergenic/0.1/ref_intergenic/6239_intergenic.fa.gz'
Content type 'application/x-gzip' length 4420457 bytes (4.2 MB)
==================================================
downloaded 4.2 MB
trying URL 'https://www.bgee.org/ftp/intergenic/0.1/ref_intergenic/6239_intergenic.fa.gz'
Content type 'application/x-gzip' length 4420457 bytes (4.2 MB)
==================================================
downloaded 4.2 MB
[ FAIL 0 | WARN 0 | SKIP 0 | PASS 12 ]
>
> proc.time()
user system elapsed
7.097 0.553 23.139
BgeeCall.Rcheck/BgeeCall-Ex.timings
| name | user | system | elapsed | |
| Pvalue_averaging | 0 | 0 | 0 | |
| create_kallisto_index | 0 | 0 | 0 | |
| download_fasta_intergenic | 0.001 | 0.000 | 0.001 | |
| download_kallisto | 0.023 | 0.012 | 0.331 | |
| generate_calls_workflow | 0.000 | 0.000 | 0.001 | |
| generate_presence_absence | 1.667 | 0.095 | 5.955 | |
| generate_slurm_calls | 0 | 0 | 0 | |
| generate_slurm_indexes | 0 | 0 | 0 | |
| getIntergenicPrefix | 0.007 | 0.002 | 0.508 | |
| getIntergenicRelease | 0.008 | 0.002 | 0.667 | |
| getRunIds | 0.000 | 0.000 | 0.001 | |
| getSimpleArborescence | 0 | 0 | 0 | |
| getWorkingPath | 0 | 0 | 0 | |
| list_bgee_ref_intergenic_species | 0.028 | 0.005 | 1.513 | |
| list_community_ref_intergenic_species | 0.009 | 0.001 | 1.689 | |
| list_intergenic_release | 0.008 | 0.002 | 0.514 | |
| merge_transcriptome_and_intergenic | 0.194 | 0.047 | 4.927 | |
| merging_libraries | 0 | 0 | 0 | |
| run_kallisto | 0 | 0 | 0 | |
| run_tximport | 0.691 | 0.022 | 1.145 | |
| setAnnotationFromFile | 0.686 | 0.219 | 1.787 | |
| setAnnotationFromObject | 0.074 | 0.002 | 0.401 | |
| setIntergenicRelease | 0.008 | 0.003 | 0.511 | |
| setOutputDir | 0 | 0 | 0 | |
| setRNASeqLibPath | 0 | 0 | 0 | |
| setRunIds | 0.000 | 0.000 | 0.001 | |
| setSimpleArborescence | 0 | 0 | 0 | |
| setTranscriptomeFromFile | 0.007 | 0.001 | 0.007 | |
| setTranscriptomeFromObject | 0.001 | 0.000 | 0.002 | |
| setWorkingPath | 0 | 0 | 0 | |