| Back to Multiple platform build/check report for BioC 3.22: simplified long |
|
This page was generated on 2025-10-24 12:06 -0400 (Fri, 24 Oct 2025).
| Hostname | OS | Arch (*) | R version | Installed pkgs |
|---|---|---|---|---|
| nebbiolo2 | Linux (Ubuntu 24.04.3 LTS) | x86_64 | 4.5.1 Patched (2025-08-23 r88802) -- "Great Square Root" | 4898 |
| lconway | macOS 12.7.6 Monterey | x86_64 | 4.5.1 Patched (2025-09-10 r88807) -- "Great Square Root" | 4688 |
| kjohnson3 | macOS 13.7.7 Ventura | arm64 | 4.5.1 Patched (2025-09-10 r88807) -- "Great Square Root" | 4634 |
| taishan | Linux (openEuler 24.03 LTS) | aarch64 | 4.5.0 (2025-04-11) -- "How About a Twenty-Six" | 4658 |
| Click on any hostname to see more info about the system (e.g. compilers) (*) as reported by 'uname -p', except on Windows and Mac OS X | ||||
| Package 265/2359 | Hostname | OS / Arch | INSTALL | BUILD | CHECK | BUILD BIN | ||||||||
| BUScorrect 1.27.0 (landing page) Xiangyu Luo
| nebbiolo2 | Linux (Ubuntu 24.04.3 LTS) / x86_64 | OK | OK | OK | |||||||||
| lconway | macOS 12.7.6 Monterey / x86_64 | OK | OK | OK | OK | |||||||||
| kjohnson3 | macOS 13.7.7 Ventura / arm64 | OK | OK | OK | OK | |||||||||
| taishan | Linux (openEuler 24.03 LTS) / aarch64 | OK | OK | OK | ||||||||||
|
To the developers/maintainers of the BUScorrect package: - Allow up to 24 hours (and sometimes 48 hours) for your latest push to git@git.bioconductor.org:packages/BUScorrect.git to reflect on this report. See Troubleshooting Build Report for more information. - Use the following Renviron settings to reproduce errors and warnings. - If 'R CMD check' started to fail recently on the Linux builder(s) over a missing dependency, add the missing dependency to 'Suggests:' in your DESCRIPTION file. See Renviron.bioc for more information. |
| Package: BUScorrect |
| Version: 1.27.0 |
| Command: /Library/Frameworks/R.framework/Resources/bin/R CMD check --install=check:BUScorrect.install-out.txt --library=/Library/Frameworks/R.framework/Resources/library --no-vignettes --timings BUScorrect_1.27.0.tar.gz |
| StartedAt: 2025-10-23 18:52:00 -0400 (Thu, 23 Oct 2025) |
| EndedAt: 2025-10-23 18:53:15 -0400 (Thu, 23 Oct 2025) |
| EllapsedTime: 74.9 seconds |
| RetCode: 0 |
| Status: OK |
| CheckDir: BUScorrect.Rcheck |
| Warnings: 0 |
##############################################################################
##############################################################################
###
### Running command:
###
### /Library/Frameworks/R.framework/Resources/bin/R CMD check --install=check:BUScorrect.install-out.txt --library=/Library/Frameworks/R.framework/Resources/library --no-vignettes --timings BUScorrect_1.27.0.tar.gz
###
##############################################################################
##############################################################################
* using log directory ‘/Users/biocbuild/bbs-3.22-bioc/meat/BUScorrect.Rcheck’
* using R version 4.5.1 Patched (2025-09-10 r88807)
* using platform: aarch64-apple-darwin20
* R was compiled by
Apple clang version 16.0.0 (clang-1600.0.26.6)
GNU Fortran (GCC) 14.2.0
* running under: macOS Ventura 13.7.7
* using session charset: UTF-8
* using option ‘--no-vignettes’
* checking for file ‘BUScorrect/DESCRIPTION’ ... OK
* checking extension type ... Package
* this is package ‘BUScorrect’ version ‘1.27.0’
* checking package namespace information ... OK
* checking package dependencies ... OK
* checking if this is a source package ... OK
* checking if there is a namespace ... OK
* checking for hidden files and directories ... OK
* checking for portable file names ... OK
* checking for sufficient/correct file permissions ... OK
* checking whether package ‘BUScorrect’ can be installed ... OK
* used C compiler: ‘Apple clang version 15.0.0 (clang-1500.1.0.2.5)’
* used SDK: ‘MacOSX11.3.1.sdk’
* checking installed package size ... OK
* checking package directory ... OK
* checking ‘build’ directory ... OK
* checking DESCRIPTION meta-information ... OK
* checking top-level files ... OK
* checking for left-over files ... OK
* checking index information ... OK
* checking package subdirectories ... OK
* checking code files for non-ASCII characters ... OK
* checking R files for syntax errors ... OK
* checking whether the package can be loaded ... OK
* checking whether the package can be loaded with stated dependencies ... OK
* checking whether the package can be unloaded cleanly ... OK
* checking whether the namespace can be loaded with stated dependencies ... OK
* checking whether the namespace can be unloaded cleanly ... OK
* checking dependencies in R code ... OK
* checking S3 generic/method consistency ... OK
* checking replacement functions ... OK
* checking foreign function calls ... OK
* checking R code for possible problems ... OK
* checking Rd files ... NOTE
checkRd: (-1) NEWS.Rd:12: Escaped LaTeX specials: \_ \_ \_
checkRd: (-1) BUSgibbs.Rd:34: Lost braces; missing escapes or markup?
34 | \code{a_inv_gamma}: the shape of the gamma prior for 1/sigma^2_{bg};
| ^
checkRd: (-1) BUSgibbs.Rd:35: Lost braces; missing escapes or markup?
35 | \code{b_inv_gamma}: the rate of the gamma prior for 1/sigma^2_{bg};
| ^
checkRd: (-1) BUSgibbs.Rd:36: Lost braces; missing escapes or markup?
36 | \code{a_tau0}: the shape of the gamma prior for 1/tau^2_{mu 0};
| ^
checkRd: (-1) BUSgibbs.Rd:39: Lost braces; missing escapes or markup?
39 | \code{tau_{mu1}}: the standard deviation of the normal prior of mu_{gk} (k >= 2) when the gene expression level in subtype k is different from that in subtype one.
| ^
checkRd: (-1) BUSgibbs.Rd:52: Lost braces; missing escapes or markup?
52 | \item{tau_mu_zero}{The estimated tau_{mu 0}, which is the prior normal distribution's standard deviation of the subtype effects when there is no differential expression.}
| ^
checkRd: (-1) BUSgibbs.Rd:57: Lost braces; missing escapes or markup?
57 | \item{gamma}{The estimated location batch effects, a G by B matrix, where gamma_{gb} is the ``location'' batch effect on gene g in the batch b. Note that the first column is zero as the first batch is taken as the reference batch without batch effects.}
| ^
* checking Rd metadata ... OK
* checking Rd cross-references ... OK
* checking for missing documentation entries ... OK
* checking for code/documentation mismatches ... OK
* checking Rd \usage sections ... OK
* checking Rd contents ... OK
* checking for unstated dependencies in examples ... OK
* checking contents of ‘data’ directory ... OK
* checking data for non-ASCII characters ... OK
* checking data for ASCII and uncompressed saves ... OK
* checking line endings in C/C++/Fortran sources/headers ... OK
* checking compiled code ... NOTE
Note: information on .o files is not available
* checking sizes of PDF files under ‘inst/doc’ ... OK
* checking files in ‘vignettes’ ... OK
* checking examples ... OK
Examples with CPU (user + system) or elapsed time > 5s
user system elapsed
BUScorrect-package 6.653 0.753 7.496
BUSgibbs 6.499 0.837 7.382
* checking for unstated dependencies in ‘tests’ ... OK
* checking tests ...
Running ‘runTests.R’
OK
* checking for unstated dependencies in vignettes ... OK
* checking package vignettes ... OK
* checking running R code from vignettes ... SKIPPED
* checking re-building of vignette outputs ... SKIPPED
* checking PDF version of manual ... OK
* DONE
Status: 2 NOTEs
See
‘/Users/biocbuild/bbs-3.22-bioc/meat/BUScorrect.Rcheck/00check.log’
for details.
BUScorrect.Rcheck/00install.out
############################################################################## ############################################################################## ### ### Running command: ### ### /Library/Frameworks/R.framework/Resources/bin/R CMD INSTALL BUScorrect ### ############################################################################## ############################################################################## * installing to library ‘/Library/Frameworks/R.framework/Versions/4.5-arm64/Resources/library’ * installing *source* package ‘BUScorrect’ ... ** this is package ‘BUScorrect’ version ‘1.27.0’ ** using staged installation ** libs using C compiler: ‘Apple clang version 15.0.0 (clang-1500.1.0.2.5)’ using SDK: ‘MacOSX11.3.1.sdk’ clang -arch arm64 -std=gnu2x -I"/Library/Frameworks/R.framework/Resources/include" -DNDEBUG -I/opt/R/arm64/include -fPIC -falign-functions=64 -Wall -g -O2 -c BUS_Cfunctions.c -o BUS_Cfunctions.o clang -arch arm64 -std=gnu2x -dynamiclib -Wl,-headerpad_max_install_names -undefined dynamic_lookup -L/Library/Frameworks/R.framework/Resources/lib -L/opt/R/arm64/lib -o BUScorrect.so BUS_Cfunctions.o -F/Library/Frameworks/R.framework/.. -framework R installing to /Library/Frameworks/R.framework/Versions/4.5-arm64/Resources/library/00LOCK-BUScorrect/00new/BUScorrect/libs ** R ** data ** inst ** byte-compile and prepare package for lazy loading ** help *** installing help indices ** building package indices ** installing vignettes ** testing if installed package can be loaded from temporary location ** checking absolute paths in shared objects and dynamic libraries ** testing if installed package can be loaded from final location ** testing if installed package keeps a record of temporary installation path * DONE (BUScorrect)
BUScorrect.Rcheck/tests/runTests.Rout
R version 4.5.1 Patched (2025-09-10 r88807) -- "Great Square Root"
Copyright (C) 2025 The R Foundation for Statistical Computing
Platform: aarch64-apple-darwin20
R is free software and comes with ABSOLUTELY NO WARRANTY.
You are welcome to redistribute it under certain conditions.
Type 'license()' or 'licence()' for distribution details.
R is a collaborative project with many contributors.
Type 'contributors()' for more information and
'citation()' on how to cite R or R packages in publications.
Type 'demo()' for some demos, 'help()' for on-line help, or
'help.start()' for an HTML browser interface to help.
Type 'q()' to quit R.
> BiocGenerics:::testPackage("BUScorrect")
running the Gibbs sampler ...
The Gibbs sampler takes: 0 mins
calculating posterior means and posterior modes...
calculating BIC...
RUNIT TEST PROTOCOL -- Thu Oct 23 18:53:10 2025
***********************************************
Number of test functions: 1
Number of errors: 0
Number of failures: 0
1 Test Suite :
BUScorrect RUnit Tests - 1 test function, 0 errors, 0 failures
Number of test functions: 1
Number of errors: 0
Number of failures: 0
>
> proc.time()
user system elapsed
2.431 0.128 2.608
BUScorrect.Rcheck/BUScorrect-Ex.timings
| name | user | system | elapsed | |
| BIC_BUS | 0.022 | 0.003 | 0.025 | |
| BUScorrect-package | 6.653 | 0.753 | 7.496 | |
| BUSexample_data | 0 | 0 | 0 | |
| BUSgibbs | 6.499 | 0.837 | 7.382 | |
| IG_index | 0.022 | 0.002 | 0.024 | |
| Subtypes | 0.021 | 0.003 | 0.025 | |
| adjusted_values | 0.021 | 0.004 | 0.025 | |
| baseline_expression_values | 0.021 | 0.002 | 0.026 | |
| calculate_EPSR_gamma | 0.001 | 0.001 | 0.001 | |
| calculate_EPSR_mu | 0.001 | 0.000 | 0.001 | |
| calculate_EPSR_sigma_sq | 0.001 | 0.000 | 0.001 | |
| estimate_IG_indicators | 0.022 | 0.003 | 0.026 | |
| location_batch_effects | 0.020 | 0.003 | 0.023 | |
| postprob_DE | 0.028 | 0.006 | 0.033 | |
| postprob_DE_thr_fun | 0.020 | 0.001 | 0.021 | |
| print.BUSfits | 0.020 | 0.001 | 0.021 | |
| scale_batch_effects | 0.020 | 0.001 | 0.020 | |
| subtype_effects | 0.020 | 0.001 | 0.021 | |
| summary.BUSfits | 0.020 | 0.001 | 0.022 | |
| visualize_data | 0.010 | 0.001 | 0.011 | |