| Back to Multiple platform build/check report for BioC 3.22: simplified long | 
 | 
This page was generated on 2025-10-24 12:05 -0400 (Fri, 24 Oct 2025).
| Hostname | OS | Arch (*) | R version | Installed pkgs | 
|---|---|---|---|---|
| nebbiolo2 | Linux (Ubuntu 24.04.3 LTS) | x86_64 | 4.5.1 Patched (2025-08-23 r88802) -- "Great Square Root" | 4898 | 
| lconway | macOS 12.7.6 Monterey | x86_64 | 4.5.1 Patched (2025-09-10 r88807) -- "Great Square Root" | 4688 | 
| kjohnson3 | macOS 13.7.7 Ventura | arm64 | 4.5.1 Patched (2025-09-10 r88807) -- "Great Square Root" | 4634 | 
| taishan | Linux (openEuler 24.03 LTS) | aarch64 | 4.5.0 (2025-04-11) -- "How About a Twenty-Six" | 4658 | 
| Click on any hostname to see more info about the system (e.g. compilers) (*) as reported by 'uname -p', except on Windows and Mac OS X | ||||
| Package 13/2359 | Hostname | OS / Arch | INSTALL | BUILD | CHECK | BUILD BIN | ||||||||
| ACME 2.65.0  (landing page) Sean Davis 
 | nebbiolo2 | Linux (Ubuntu 24.04.3 LTS) / x86_64 | OK | OK | WARNINGS |  | ||||||||
| lconway | macOS 12.7.6 Monterey / x86_64 | OK | OK | OK | OK |  | ||||||||
| kjohnson3 | macOS 13.7.7 Ventura / arm64 | OK | OK | OK | OK |  | ||||||||
| taishan | Linux (openEuler 24.03 LTS) / aarch64 | ERROR | ERROR | skipped | ||||||||||
| To the developers/maintainers of the ACME package: - Allow up to 24 hours (and sometimes 48 hours) for your latest push to git@git.bioconductor.org:packages/ACME.git to reflect on this report. See Troubleshooting Build Report for more information. - Use the following Renviron settings to reproduce errors and warnings. - If 'R CMD check' started to fail recently on the Linux builder(s) over a missing dependency, add the missing dependency to 'Suggests:' in your DESCRIPTION file. See Renviron.bioc for more information. | 
| Package: ACME | 
| Version: 2.65.0 | 
| Command: /Library/Frameworks/R.framework/Resources/bin/R CMD INSTALL ACME | 
| StartedAt: 2025-10-23 15:06:53 -0400 (Thu, 23 Oct 2025) | 
| EndedAt: 2025-10-23 15:06:56 -0400 (Thu, 23 Oct 2025) | 
| EllapsedTime: 2.7 seconds | 
| RetCode: 0 | 
| Status: OK | 
##############################################################################
##############################################################################
###
### Running command:
###
###   /Library/Frameworks/R.framework/Resources/bin/R CMD INSTALL ACME
###
##############################################################################
##############################################################################
* installing to library ‘/Library/Frameworks/R.framework/Versions/4.5-arm64/Resources/library’
* installing *source* package ‘ACME’ ...
** this is package ‘ACME’ version ‘2.65.0’
** using staged installation
** libs
using C compiler: ‘Apple clang version 15.0.0 (clang-1500.1.0.2.5)’
using SDK: ‘MacOSX11.3.1.sdk’
clang -arch arm64 -std=gnu2x -I"/Library/Frameworks/R.framework/Resources/include" -DNDEBUG   -I/opt/R/arm64/include    -fPIC  -falign-functions=64 -Wall -g -O2  -c windowChisq.c -o windowChisq.o
windowChisq.c:57:71: warning: & has lower precedence than >; > will be evaluated first [-Wparentheses]
    while((xlocations[i]-xlocations[firstprobe-1] < (halfWindowSize)) &
                                                                      ^
windowChisq.c:57:71: note: place parentheses around the '>' expression to silence this warning
    while((xlocations[i]-xlocations[firstprobe-1] < (halfWindowSize)) &
                                                                      ^
windowChisq.c:57:71: note: place parentheses around the & expression to evaluate it first
    while((xlocations[i]-xlocations[firstprobe-1] < (halfWindowSize)) &
                                                                      ^
          (
windowChisq.c:62:70: warning: & has lower precedence than <; < will be evaluated first [-Wparentheses]
    while((xlocations[lastprobe+1]-xlocations[i] < (halfWindowSize)) &
                                                                     ^
windowChisq.c:62:70: note: place parentheses around the '<' expression to silence this warning
    while((xlocations[lastprobe+1]-xlocations[i] < (halfWindowSize)) &
                                                                     ^
windowChisq.c:62:70: note: place parentheses around the & expression to evaluate it first
    while((xlocations[lastprobe+1]-xlocations[i] < (halfWindowSize)) &
                                                                     ^
          (
windowChisq.c:21:11: warning: unused variable 'xa' [-Wunused-variable]
  double *xa,*xlocations,*xchivals;
          ^
windowChisq.c:86:20: warning: incompatible function pointer types initializing 'DL_FUNC' (aka 'void *(*)(void)') with an expression of type 'SEXP (*)(SEXP, SEXP, SEXP, SEXP, SEXP)' (aka 'struct SEXPREC *(*)(struct SEXPREC *, struct SEXPREC *, struct SEXPREC *, struct SEXPREC *, struct SEXPREC *)') [-Wincompatible-function-pointer-types]
    {"windowChisq",&windowChisq,5},
                   ^~~~~~~~~~~~
4 warnings generated.
clang -arch arm64 -std=gnu2x -dynamiclib -Wl,-headerpad_max_install_names -undefined dynamic_lookup -L/Library/Frameworks/R.framework/Resources/lib -L/opt/R/arm64/lib -o ACME.so windowChisq.o -F/Library/Frameworks/R.framework/.. -framework R
installing to /Library/Frameworks/R.framework/Versions/4.5-arm64/Resources/library/00LOCK-ACME/00new/ACME/libs
** R
** data
** inst
** byte-compile and prepare package for lazy loading
** help
*** installing help indices
** building package indices
** installing vignettes
** testing if installed package can be loaded from temporary location
** checking absolute paths in shared objects and dynamic libraries
** testing if installed package can be loaded from final location
** testing if installed package keeps a record of temporary installation path
* DONE (ACME)