| Back to Multiple platform build/check report for BioC 3.21: simplified long |
|
This page was generated on 2025-10-16 11:38 -0400 (Thu, 16 Oct 2025).
| Hostname | OS | Arch (*) | R version | Installed pkgs |
|---|---|---|---|---|
| nebbiolo1 | Linux (Ubuntu 24.04.3 LTS) | x86_64 | 4.5.1 (2025-06-13) -- "Great Square Root" | 4833 |
| merida1 | macOS 12.7.6 Monterey | x86_64 | 4.5.1 RC (2025-06-05 r88288) -- "Great Square Root" | 4614 |
| kjohnson1 | macOS 13.7.5 Ventura | arm64 | 4.5.1 Patched (2025-06-14 r88325) -- "Great Square Root" | 4555 |
| kunpeng2 | Linux (openEuler 24.03 LTS) | aarch64 | R Under development (unstable) (2025-02-19 r87757) -- "Unsuffered Consequences" | 4586 |
| Click on any hostname to see more info about the system (e.g. compilers) (*) as reported by 'uname -p', except on Windows and Mac OS X | ||||
| Package 2260/2341 | Hostname | OS / Arch | INSTALL | BUILD | CHECK | BUILD BIN | ||||||||
| twoddpcr 1.32.0 (landing page) Anthony Chiu
| nebbiolo1 | Linux (Ubuntu 24.04.3 LTS) / x86_64 | OK | OK | OK | |||||||||
| merida1 | macOS 12.7.6 Monterey / x86_64 | OK | OK | OK | OK | |||||||||
| kjohnson1 | macOS 13.7.5 Ventura / arm64 | OK | OK | OK | OK | |||||||||
| kunpeng2 | Linux (openEuler 24.03 LTS) / aarch64 | OK | OK | NA | ||||||||||
|
To the developers/maintainers of the twoddpcr package: - Allow up to 24 hours (and sometimes 48 hours) for your latest push to git@git.bioconductor.org:packages/twoddpcr.git to reflect on this report. See Troubleshooting Build Report for more information. - Use the following Renviron settings to reproduce errors and warnings. - If 'R CMD check' started to fail recently on the Linux builder(s) over a missing dependency, add the missing dependency to 'Suggests:' in your DESCRIPTION file. See Renviron.bioc for more information. |
| Package: twoddpcr |
| Version: 1.32.0 |
| Command: /home/biocbuild/bbs-3.21-bioc/R/bin/R CMD check --install=check:twoddpcr.install-out.txt --library=/home/biocbuild/bbs-3.21-bioc/R/site-library --timings twoddpcr_1.32.0.tar.gz |
| StartedAt: 2025-10-16 04:38:44 -0400 (Thu, 16 Oct 2025) |
| EndedAt: 2025-10-16 04:42:53 -0400 (Thu, 16 Oct 2025) |
| EllapsedTime: 249.4 seconds |
| RetCode: 0 |
| Status: OK |
| CheckDir: twoddpcr.Rcheck |
| Warnings: 0 |
##############################################################################
##############################################################################
###
### Running command:
###
### /home/biocbuild/bbs-3.21-bioc/R/bin/R CMD check --install=check:twoddpcr.install-out.txt --library=/home/biocbuild/bbs-3.21-bioc/R/site-library --timings twoddpcr_1.32.0.tar.gz
###
##############################################################################
##############################################################################
* using log directory ‘/home/biocbuild/bbs-3.21-bioc/meat/twoddpcr.Rcheck’
* using R version 4.5.1 (2025-06-13)
* using platform: x86_64-pc-linux-gnu
* R was compiled by
gcc (Ubuntu 13.3.0-6ubuntu2~24.04) 13.3.0
GNU Fortran (Ubuntu 13.3.0-6ubuntu2~24.04) 13.3.0
* running under: Ubuntu 24.04.3 LTS
* using session charset: UTF-8
* checking for file ‘twoddpcr/DESCRIPTION’ ... OK
* this is package ‘twoddpcr’ version ‘1.32.0’
* checking package namespace information ... OK
* checking package dependencies ... OK
* checking if this is a source package ... OK
* checking if there is a namespace ... OK
* checking for hidden files and directories ... OK
* checking for portable file names ... OK
* checking for sufficient/correct file permissions ... OK
* checking whether package ‘twoddpcr’ can be installed ... OK
* checking installed package size ... OK
* checking package directory ... OK
* checking ‘build’ directory ... OK
* checking DESCRIPTION meta-information ... OK
* checking top-level files ... OK
* checking for left-over files ... OK
* checking index information ... OK
* checking package subdirectories ... OK
* checking code files for non-ASCII characters ... OK
* checking R files for syntax errors ... OK
* checking whether the package can be loaded ... OK
* checking whether the package can be loaded with stated dependencies ... OK
* checking whether the package can be unloaded cleanly ... OK
* checking whether the namespace can be loaded with stated dependencies ... OK
* checking whether the namespace can be unloaded cleanly ... OK
* checking loading without being on the library search path ... OK
* checking dependencies in R code ... OK
* checking S3 generic/method consistency ... OK
* checking replacement functions ... OK
* checking foreign function calls ... OK
* checking R code for possible problems ... OK
* checking Rd files ... OK
* checking Rd metadata ... OK
* checking Rd cross-references ... OK
* checking for missing documentation entries ... OK
* checking for code/documentation mismatches ... OK
* checking Rd \usage sections ... NOTE
S3 methods shown with full name in Rd file 'ggplot.well.Rd':
‘ggplot.well’ ‘ggplot.plate’
The \usage entries for S3 methods should use the \method markup and not
their full name.
See chapter ‘Writing R documentation files’ in the ‘Writing R
Extensions’ manual.
* checking Rd contents ... OK
* checking for unstated dependencies in examples ... OK
* checking contents of ‘data’ directory ... OK
* checking data for non-ASCII characters ... OK
* checking LazyData ... OK
* checking data for ASCII and uncompressed saves ... OK
* checking files in ‘vignettes’ ... OK
* checking examples ... OK
Examples with CPU (user + system) or elapsed time > 5s
user system elapsed
knnClassify 7.211 0.078 7.290
ggplot.well 6.220 0.105 6.327
* checking for unstated dependencies in ‘tests’ ... OK
* checking tests ...
Running ‘testthat.R’
OK
* checking for unstated dependencies in vignettes ... OK
* checking package vignettes ... OK
* checking re-building of vignette outputs ... OK
* checking PDF version of manual ... OK
* DONE
Status: 1 NOTE
See
‘/home/biocbuild/bbs-3.21-bioc/meat/twoddpcr.Rcheck/00check.log’
for details.
twoddpcr.Rcheck/00install.out
############################################################################## ############################################################################## ### ### Running command: ### ### /home/biocbuild/bbs-3.21-bioc/R/bin/R CMD INSTALL twoddpcr ### ############################################################################## ############################################################################## * installing to library ‘/home/biocbuild/bbs-3.21-bioc/R/site-library’ * installing *source* package ‘twoddpcr’ ... ** this is package ‘twoddpcr’ version ‘1.32.0’ ** using staged installation ** R ** data *** moving datasets to lazyload DB ** inst ** byte-compile and prepare package for lazy loading ** help *** installing help indices ** building package indices ** installing vignettes ** testing if installed package can be loaded from temporary location ** testing if installed package can be loaded from final location ** testing if installed package keeps a record of temporary installation path * DONE (twoddpcr)
twoddpcr.Rcheck/tests/testthat.Rout
R version 4.5.1 (2025-06-13) -- "Great Square Root"
Copyright (C) 2025 The R Foundation for Statistical Computing
Platform: x86_64-pc-linux-gnu
R is free software and comes with ABSOLUTELY NO WARRANTY.
You are welcome to redistribute it under certain conditions.
Type 'license()' or 'licence()' for distribution details.
R is a collaborative project with many contributors.
Type 'contributors()' for more information and
'citation()' on how to cite R or R packages in publications.
Type 'demo()' for some demos, 'help()' for on-line help, or
'help.start()' for an HTML browser interface to help.
Type 'q()' to quit R.
> library(testthat)
> library(twoddpcr)
>
> test_check("twoddpcr")
[ FAIL 0 | WARN 2 | SKIP 0 | PASS 155 ]
[ FAIL 0 | WARN 2 | SKIP 0 | PASS 155 ]
>
> proc.time()
user system elapsed
5.602 0.316 5.906
twoddpcr.Rcheck/twoddpcr-Ex.timings
| name | user | system | elapsed | |
| amplitudes | 0.258 | 0.023 | 0.283 | |
| basicsSummary | 0.004 | 0.001 | 0.005 | |
| castSummary | 0.015 | 0.004 | 0.019 | |
| classCov | 0.055 | 0.002 | 0.058 | |
| classMeans | 0.054 | 0.003 | 0.057 | |
| classStats | 0.064 | 0.004 | 0.067 | |
| clusterCentres | 0.606 | 0.007 | 0.612 | |
| copiesSummary | 0.003 | 0.002 | 0.005 | |
| ddpcrPlate-class | 0.220 | 0.006 | 0.225 | |
| ddpcrWell-class | 0.017 | 0.001 | 0.019 | |
| ddpcrWell-methods | 0.183 | 0.001 | 0.184 | |
| dropletPlot | 4.728 | 0.079 | 4.807 | |
| exportTable | 0.120 | 0.007 | 0.127 | |
| extractPlateName | 0.001 | 0.000 | 0.000 | |
| extractWellNames | 0.000 | 0.000 | 0.001 | |
| facetPlot | 1.987 | 0.029 | 2.018 | |
| flatPlot | 4.258 | 0.101 | 4.362 | |
| fullCopiesSummary | 0.005 | 0.001 | 0.007 | |
| fullCountsSummary | 0.024 | 0.005 | 0.029 | |
| ggplot.well | 6.220 | 0.105 | 6.327 | |
| gridClassify | 4.682 | 0.072 | 4.752 | |
| heatPlot | 1.496 | 0.020 | 1.517 | |
| kmeansClassify | 0.872 | 0.004 | 0.876 | |
| knnClassify | 7.211 | 0.078 | 7.290 | |
| mahalanobisRain | 0.600 | 0.003 | 0.604 | |
| mutantCopiesSummary | 0.004 | 0.001 | 0.004 | |
| numDroplets | 0.199 | 0.002 | 0.201 | |
| parseClusterCounts | 0.008 | 0.004 | 0.012 | |
| plateClassification | 1.022 | 0.028 | 1.052 | |
| plateClassificationMethod | 0.284 | 0.014 | 0.300 | |
| plateSummary | 1.754 | 0.007 | 1.762 | |
| positiveCounts | 0.024 | 0.000 | 0.024 | |
| readCSVDataFrame | 0.011 | 0.002 | 0.013 | |
| relabelClasses | 0.044 | 0.000 | 0.045 | |
| removeDropletClasses | 0.553 | 0.007 | 0.562 | |
| renormalisePlate | 2.663 | 0.020 | 2.683 | |
| sdRain | 2.845 | 0.001 | 2.846 | |
| setChannelNames | 0.001 | 0.000 | 0.001 | |
| setDropletVolume | 0.000 | 0.000 | 0.001 | |
| sortDataFrame | 0.002 | 0.000 | 0.002 | |
| sortWells | 0.207 | 0.001 | 0.207 | |
| thresholdClassify | 1.478 | 0.061 | 1.541 | |
| wellClassification | 0.012 | 0.002 | 0.014 | |
| wellClassificationMethod | 0.014 | 0.001 | 0.015 | |
| whiteTheme | 1.428 | 0.011 | 1.441 | |
| wildTypeCopiesSummary | 0.004 | 0.000 | 0.004 | |