| Back to Multiple platform build/check report for BioC 3.21: simplified long | 
 | 
This page was generated on 2025-10-16 11:41 -0400 (Thu, 16 Oct 2025).
| Hostname | OS | Arch (*) | R version | Installed pkgs | 
|---|---|---|---|---|
| nebbiolo1 | Linux (Ubuntu 24.04.3 LTS) | x86_64 | 4.5.1 (2025-06-13) -- "Great Square Root" | 4833 | 
| merida1 | macOS 12.7.6 Monterey | x86_64 | 4.5.1 RC (2025-06-05 r88288) -- "Great Square Root" | 4614 | 
| kjohnson1 | macOS 13.7.5 Ventura | arm64 | 4.5.1 Patched (2025-06-14 r88325) -- "Great Square Root" | 4555 | 
| kunpeng2 | Linux (openEuler 24.03 LTS) | aarch64 | R Under development (unstable) (2025-02-19 r87757) -- "Unsuffered Consequences" | 4586 | 
| Click on any hostname to see more info about the system (e.g. compilers) (*) as reported by 'uname -p', except on Windows and Mac OS X | ||||
| Package 2260/2341 | Hostname | OS / Arch | INSTALL | BUILD | CHECK | BUILD BIN | ||||||||
| twoddpcr 1.32.0  (landing page) Anthony Chiu 
 | nebbiolo1 | Linux (Ubuntu 24.04.3 LTS) / x86_64 | OK | OK | OK |  | ||||||||
| merida1 | macOS 12.7.6 Monterey / x86_64 | OK | OK | OK | OK |  | ||||||||
| kjohnson1 | macOS 13.7.5 Ventura / arm64 | OK | OK | OK | OK |  | ||||||||
| kunpeng2 | Linux (openEuler 24.03 LTS) / aarch64 | OK | OK | NA | ||||||||||
| To the developers/maintainers of the twoddpcr package: - Allow up to 24 hours (and sometimes 48 hours) for your latest push to git@git.bioconductor.org:packages/twoddpcr.git to reflect on this report. See Troubleshooting Build Report for more information. - Use the following Renviron settings to reproduce errors and warnings. - If 'R CMD check' started to fail recently on the Linux builder(s) over a missing dependency, add the missing dependency to 'Suggests:' in your DESCRIPTION file. See Renviron.bioc for more information. | 
| Package: twoddpcr | 
| Version: 1.32.0 | 
| Command: /Library/Frameworks/R.framework/Resources/bin/R CMD check --install=check:twoddpcr.install-out.txt --library=/Library/Frameworks/R.framework/Resources/library --no-vignettes --timings twoddpcr_1.32.0.tar.gz | 
| StartedAt: 2025-10-15 16:10:19 -0400 (Wed, 15 Oct 2025) | 
| EndedAt: 2025-10-15 16:12:53 -0400 (Wed, 15 Oct 2025) | 
| EllapsedTime: 154.6 seconds | 
| RetCode: 0 | 
| Status: OK | 
| CheckDir: twoddpcr.Rcheck | 
| Warnings: 0 | 
##############################################################################
##############################################################################
###
### Running command:
###
###   /Library/Frameworks/R.framework/Resources/bin/R CMD check --install=check:twoddpcr.install-out.txt --library=/Library/Frameworks/R.framework/Resources/library --no-vignettes --timings twoddpcr_1.32.0.tar.gz
###
##############################################################################
##############################################################################
* using log directory ‘/Users/biocbuild/bbs-3.21-bioc/meat/twoddpcr.Rcheck’
* using R version 4.5.1 Patched (2025-06-14 r88325)
* using platform: aarch64-apple-darwin20
* R was compiled by
    Apple clang version 16.0.0 (clang-1600.0.26.6)
    GNU Fortran (GCC) 14.2.0
* running under: macOS Ventura 13.7.5
* using session charset: UTF-8
* using option ‘--no-vignettes’
* checking for file ‘twoddpcr/DESCRIPTION’ ... OK
* this is package ‘twoddpcr’ version ‘1.32.0’
* checking package namespace information ... OK
* checking package dependencies ... OK
* checking if this is a source package ... OK
* checking if there is a namespace ... OK
* checking for hidden files and directories ... OK
* checking for portable file names ... OK
* checking for sufficient/correct file permissions ... OK
* checking whether package ‘twoddpcr’ can be installed ... OK
* checking installed package size ... OK
* checking package directory ... OK
* checking ‘build’ directory ... OK
* checking DESCRIPTION meta-information ... OK
* checking top-level files ... OK
* checking for left-over files ... OK
* checking index information ... OK
* checking package subdirectories ... OK
* checking code files for non-ASCII characters ... OK
* checking R files for syntax errors ... OK
* checking whether the package can be loaded ... OK
* checking whether the package can be loaded with stated dependencies ... OK
* checking whether the package can be unloaded cleanly ... OK
* checking whether the namespace can be loaded with stated dependencies ... OK
* checking whether the namespace can be unloaded cleanly ... OK
* checking dependencies in R code ... OK
* checking S3 generic/method consistency ... OK
* checking replacement functions ... OK
* checking foreign function calls ... OK
* checking R code for possible problems ... OK
* checking Rd files ... OK
* checking Rd metadata ... OK
* checking Rd cross-references ... OK
* checking for missing documentation entries ... OK
* checking for code/documentation mismatches ... OK
* checking Rd \usage sections ... NOTE
S3 methods shown with full name in Rd file 'ggplot.well.Rd':
  ‘ggplot.well’ ‘ggplot.plate’
The \usage entries for S3 methods should use the \method markup and not
their full name.
See chapter ‘Writing R documentation files’ in the ‘Writing R
Extensions’ manual.
* checking Rd contents ... OK
* checking for unstated dependencies in examples ... OK
* checking contents of ‘data’ directory ... OK
* checking data for non-ASCII characters ... OK
* checking LazyData ... OK
* checking data for ASCII and uncompressed saves ... OK
* checking files in ‘vignettes’ ... OK
* checking examples ... OK
Examples with CPU (user + system) or elapsed time > 5s
              user system elapsed
knnClassify  9.264  0.132   9.475
ggplot.well  8.673  0.231   8.937
gridClassify 7.321  0.132   7.468
dropletPlot  6.015  0.216   6.308
flatPlot     5.000  0.154   5.162
* checking for unstated dependencies in ‘tests’ ... OK
* checking tests ...
  Running ‘testthat.R’
 OK
* checking for unstated dependencies in vignettes ... OK
* checking package vignettes ... OK
* checking running R code from vignettes ... SKIPPED
* checking re-building of vignette outputs ... SKIPPED
* checking PDF version of manual ... OK
* DONE
Status: 1 NOTE
See
  ‘/Users/biocbuild/bbs-3.21-bioc/meat/twoddpcr.Rcheck/00check.log’
for details.
twoddpcr.Rcheck/00install.out
############################################################################## ############################################################################## ### ### Running command: ### ### /Library/Frameworks/R.framework/Resources/bin/R CMD INSTALL twoddpcr ### ############################################################################## ############################################################################## * installing to library ‘/Library/Frameworks/R.framework/Versions/4.5-arm64/Resources/library’ * installing *source* package ‘twoddpcr’ ... ** this is package ‘twoddpcr’ version ‘1.32.0’ ** using staged installation ** R ** data *** moving datasets to lazyload DB ** inst ** byte-compile and prepare package for lazy loading ** help *** installing help indices ** building package indices ** installing vignettes ** testing if installed package can be loaded from temporary location ** testing if installed package can be loaded from final location ** testing if installed package keeps a record of temporary installation path * DONE (twoddpcr)
twoddpcr.Rcheck/tests/testthat.Rout
R version 4.5.1 Patched (2025-06-14 r88325) -- "Great Square Root"
Copyright (C) 2025 The R Foundation for Statistical Computing
Platform: aarch64-apple-darwin20
R is free software and comes with ABSOLUTELY NO WARRANTY.
You are welcome to redistribute it under certain conditions.
Type 'license()' or 'licence()' for distribution details.
R is a collaborative project with many contributors.
Type 'contributors()' for more information and
'citation()' on how to cite R or R packages in publications.
Type 'demo()' for some demos, 'help()' for on-line help, or
'help.start()' for an HTML browser interface to help.
Type 'q()' to quit R.
> library(testthat)
> library(twoddpcr)
> 
> test_check("twoddpcr")
[ FAIL 0 | WARN 2 | SKIP 0 | PASS 155 ]
[ FAIL 0 | WARN 2 | SKIP 0 | PASS 155 ]
> 
> proc.time()
   user  system elapsed 
  7.524   0.499   8.066 
twoddpcr.Rcheck/twoddpcr-Ex.timings
| name | user | system | elapsed | |
| amplitudes | 0.355 | 0.030 | 0.390 | |
| basicsSummary | 0.005 | 0.001 | 0.005 | |
| castSummary | 0.017 | 0.005 | 0.024 | |
| classCov | 0.070 | 0.011 | 0.081 | |
| classMeans | 0.075 | 0.013 | 0.088 | |
| classStats | 0.076 | 0.012 | 0.089 | |
| clusterCentres | 0.831 | 0.087 | 0.927 | |
| copiesSummary | 0.007 | 0.000 | 0.008 | |
| ddpcrPlate-class | 0.316 | 0.013 | 0.335 | |
| ddpcrWell-class | 0.055 | 0.015 | 0.072 | |
| ddpcrWell-methods | 0.290 | 0.022 | 0.314 | |
| dropletPlot | 6.015 | 0.216 | 6.308 | |
| exportTable | 0.126 | 0.022 | 0.152 | |
| extractPlateName | 0.000 | 0.000 | 0.001 | |
| extractWellNames | 0.000 | 0.000 | 0.001 | |
| facetPlot | 2.484 | 0.088 | 2.583 | |
| flatPlot | 5.000 | 0.154 | 5.162 | |
| fullCopiesSummary | 0.007 | 0.002 | 0.008 | |
| fullCountsSummary | 0.025 | 0.008 | 0.032 | |
| ggplot.well | 8.673 | 0.231 | 8.937 | |
| gridClassify | 7.321 | 0.132 | 7.468 | |
| heatPlot | 1.950 | 0.063 | 2.021 | |
| kmeansClassify | 1.165 | 0.074 | 1.246 | |
| knnClassify | 9.264 | 0.132 | 9.475 | |
| mahalanobisRain | 0.602 | 0.088 | 0.696 | |
| mutantCopiesSummary | 0.004 | 0.001 | 0.005 | |
| numDroplets | 0.294 | 0.013 | 0.308 | |
| parseClusterCounts | 0.010 | 0.003 | 0.013 | |
| plateClassification | 1.119 | 0.047 | 1.166 | |
| plateClassificationMethod | 0.398 | 0.009 | 0.406 | |
| plateSummary | 2.042 | 0.021 | 2.062 | |
| positiveCounts | 0.027 | 0.001 | 0.029 | |
| readCSVDataFrame | 0.011 | 0.003 | 0.015 | |
| relabelClasses | 0.088 | 0.007 | 0.095 | |
| removeDropletClasses | 0.657 | 0.052 | 0.708 | |
| renormalisePlate | 3.427 | 0.225 | 3.654 | |
| sdRain | 2.974 | 0.058 | 3.066 | |
| setChannelNames | 0.001 | 0.001 | 0.001 | |
| setDropletVolume | 0.000 | 0.000 | 0.001 | |
| sortDataFrame | 0.002 | 0.001 | 0.003 | |
| sortWells | 0.285 | 0.007 | 0.294 | |
| thresholdClassify | 1.743 | 0.058 | 1.819 | |
| wellClassification | 0.022 | 0.002 | 0.024 | |
| wellClassificationMethod | 0.025 | 0.002 | 0.027 | |
| whiteTheme | 2.246 | 0.036 | 2.293 | |
| wildTypeCopiesSummary | 0.004 | 0.001 | 0.005 | |