| Back to Multiple platform build/check report for BioC 3.21: simplified long |
|
This page was generated on 2025-04-22 13:19 -0400 (Tue, 22 Apr 2025).
| Hostname | OS | Arch (*) | R version | Installed pkgs |
|---|---|---|---|---|
| nebbiolo1 | Linux (Ubuntu 24.04.1 LTS) | x86_64 | 4.5.0 RC (2025-04-04 r88126) -- "How About a Twenty-Six" | 4831 |
| palomino7 | Windows Server 2022 Datacenter | x64 | 4.5.0 RC (2025-04-04 r88126 ucrt) -- "How About a Twenty-Six" | 4573 |
| lconway | macOS 12.7.1 Monterey | x86_64 | 4.5.0 RC (2025-04-04 r88126) -- "How About a Twenty-Six" | 4599 |
| kjohnson3 | macOS 13.7.1 Ventura | arm64 | 4.5.0 RC (2025-04-04 r88126) -- "How About a Twenty-Six" | 4553 |
| kunpeng2 | Linux (openEuler 24.03 LTS) | aarch64 | R Under development (unstable) (2025-02-19 r87757) -- "Unsuffered Consequences" | 4570 |
| Click on any hostname to see more info about the system (e.g. compilers) (*) as reported by 'uname -p', except on Windows and Mac OS X | ||||
| Package 2260/2341 | Hostname | OS / Arch | INSTALL | BUILD | CHECK | BUILD BIN | ||||||||
| twoddpcr 1.32.0 (landing page) Anthony Chiu
| nebbiolo1 | Linux (Ubuntu 24.04.1 LTS) / x86_64 | OK | OK | OK | |||||||||
| palomino7 | Windows Server 2022 Datacenter / x64 | OK | OK | OK | OK | |||||||||
| lconway | macOS 12.7.1 Monterey / x86_64 | OK | OK | OK | OK | |||||||||
| kjohnson3 | macOS 13.7.1 Ventura / arm64 | OK | OK | OK | OK | |||||||||
| kunpeng2 | Linux (openEuler 24.03 LTS) / aarch64 | OK | OK | OK | ||||||||||
|
To the developers/maintainers of the twoddpcr package: - Allow up to 24 hours (and sometimes 48 hours) for your latest push to git@git.bioconductor.org:packages/twoddpcr.git to reflect on this report. See Troubleshooting Build Report for more information. - Use the following Renviron settings to reproduce errors and warnings. - If 'R CMD check' started to fail recently on the Linux builder(s) over a missing dependency, add the missing dependency to 'Suggests:' in your DESCRIPTION file. See Renviron.bioc for more information. |
| Package: twoddpcr |
| Version: 1.32.0 |
| Command: /Library/Frameworks/R.framework/Resources/bin/R CMD check --install=check:twoddpcr.install-out.txt --library=/Library/Frameworks/R.framework/Resources/library --no-vignettes --timings twoddpcr_1.32.0.tar.gz |
| StartedAt: 2025-04-21 22:13:52 -0400 (Mon, 21 Apr 2025) |
| EndedAt: 2025-04-21 22:14:42 -0400 (Mon, 21 Apr 2025) |
| EllapsedTime: 50.7 seconds |
| RetCode: 0 |
| Status: OK |
| CheckDir: twoddpcr.Rcheck |
| Warnings: 0 |
##############################################################################
##############################################################################
###
### Running command:
###
### /Library/Frameworks/R.framework/Resources/bin/R CMD check --install=check:twoddpcr.install-out.txt --library=/Library/Frameworks/R.framework/Resources/library --no-vignettes --timings twoddpcr_1.32.0.tar.gz
###
##############################################################################
##############################################################################
* using log directory ‘/Users/biocbuild/bbs-3.21-bioc/meat/twoddpcr.Rcheck’
* using R version 4.5.0 RC (2025-04-04 r88126)
* using platform: aarch64-apple-darwin20
* R was compiled by
Apple clang version 14.0.0 (clang-1400.0.29.202)
GNU Fortran (GCC) 14.2.0
* running under: macOS Ventura 13.7.1
* using session charset: UTF-8
* using option ‘--no-vignettes’
* checking for file ‘twoddpcr/DESCRIPTION’ ... OK
* this is package ‘twoddpcr’ version ‘1.32.0’
* checking package namespace information ... OK
* checking package dependencies ... OK
* checking if this is a source package ... OK
* checking if there is a namespace ... OK
* checking for hidden files and directories ... OK
* checking for portable file names ... OK
* checking for sufficient/correct file permissions ... OK
* checking whether package ‘twoddpcr’ can be installed ... OK
* checking installed package size ... OK
* checking package directory ... OK
* checking ‘build’ directory ... OK
* checking DESCRIPTION meta-information ... OK
* checking top-level files ... OK
* checking for left-over files ... OK
* checking index information ... OK
* checking package subdirectories ... OK
* checking code files for non-ASCII characters ... OK
* checking R files for syntax errors ... OK
* checking whether the package can be loaded ... OK
* checking whether the package can be loaded with stated dependencies ... OK
* checking whether the package can be unloaded cleanly ... OK
* checking whether the namespace can be loaded with stated dependencies ... OK
* checking whether the namespace can be unloaded cleanly ... OK
* checking dependencies in R code ... OK
* checking S3 generic/method consistency ... OK
* checking replacement functions ... OK
* checking foreign function calls ... OK
* checking R code for possible problems ... OK
* checking Rd files ... OK
* checking Rd metadata ... OK
* checking Rd cross-references ... OK
* checking for missing documentation entries ... OK
* checking for code/documentation mismatches ... OK
* checking Rd \usage sections ... NOTE
S3 methods shown with full name in Rd file 'ggplot.well.Rd':
‘ggplot.well’ ‘ggplot.plate’
The \usage entries for S3 methods should use the \method markup and not
their full name.
See chapter ‘Writing R documentation files’ in the ‘Writing R
Extensions’ manual.
* checking Rd contents ... OK
* checking for unstated dependencies in examples ... OK
* checking contents of ‘data’ directory ... OK
* checking data for non-ASCII characters ... OK
* checking LazyData ... OK
* checking data for ASCII and uncompressed saves ... OK
* checking files in ‘vignettes’ ... OK
* checking examples ... OK
* checking for unstated dependencies in ‘tests’ ... OK
* checking tests ...
Running ‘testthat.R’
OK
* checking for unstated dependencies in vignettes ... OK
* checking package vignettes ... OK
* checking running R code from vignettes ... SKIPPED
* checking re-building of vignette outputs ... SKIPPED
* checking PDF version of manual ... OK
* DONE
Status: 1 NOTE
See
‘/Users/biocbuild/bbs-3.21-bioc/meat/twoddpcr.Rcheck/00check.log’
for details.
twoddpcr.Rcheck/00install.out
############################################################################## ############################################################################## ### ### Running command: ### ### /Library/Frameworks/R.framework/Resources/bin/R CMD INSTALL twoddpcr ### ############################################################################## ############################################################################## * installing to library ‘/Library/Frameworks/R.framework/Versions/4.5-arm64/Resources/library’ * installing *source* package ‘twoddpcr’ ... ** this is package ‘twoddpcr’ version ‘1.32.0’ ** using staged installation ** R ** data *** moving datasets to lazyload DB ** inst ** byte-compile and prepare package for lazy loading ** help *** installing help indices ** building package indices ** installing vignettes ** testing if installed package can be loaded from temporary location ** testing if installed package can be loaded from final location ** testing if installed package keeps a record of temporary installation path * DONE (twoddpcr)
twoddpcr.Rcheck/tests/testthat.Rout
R version 4.5.0 RC (2025-04-04 r88126) -- "How About a Twenty-Six"
Copyright (C) 2025 The R Foundation for Statistical Computing
Platform: aarch64-apple-darwin20
R is free software and comes with ABSOLUTELY NO WARRANTY.
You are welcome to redistribute it under certain conditions.
Type 'license()' or 'licence()' for distribution details.
R is a collaborative project with many contributors.
Type 'contributors()' for more information and
'citation()' on how to cite R or R packages in publications.
Type 'demo()' for some demos, 'help()' for on-line help, or
'help.start()' for an HTML browser interface to help.
Type 'q()' to quit R.
> library(testthat)
> library(twoddpcr)
>
> test_check("twoddpcr")
[ FAIL 0 | WARN 3 | SKIP 0 | PASS 155 ]
[ FAIL 0 | WARN 3 | SKIP 0 | PASS 155 ]
>
> proc.time()
user system elapsed
2.180 0.135 2.320
twoddpcr.Rcheck/twoddpcr-Ex.timings
| name | user | system | elapsed | |
| amplitudes | 0.115 | 0.007 | 0.120 | |
| basicsSummary | 0.002 | 0.000 | 0.002 | |
| castSummary | 0.006 | 0.001 | 0.006 | |
| classCov | 0.017 | 0.002 | 0.019 | |
| classMeans | 0.023 | 0.003 | 0.024 | |
| classStats | 0.024 | 0.003 | 0.027 | |
| clusterCentres | 0.268 | 0.015 | 0.286 | |
| copiesSummary | 0.001 | 0.001 | 0.002 | |
| ddpcrPlate-class | 0.094 | 0.005 | 0.099 | |
| ddpcrWell-class | 0.008 | 0.001 | 0.009 | |
| ddpcrWell-methods | 0.098 | 0.007 | 0.107 | |
| dropletPlot | 1.715 | 0.060 | 1.807 | |
| exportTable | 0.044 | 0.007 | 0.054 | |
| extractPlateName | 0 | 0 | 0 | |
| extractWellNames | 0.000 | 0.000 | 0.001 | |
| facetPlot | 0.777 | 0.038 | 0.818 | |
| flatPlot | 1.597 | 0.087 | 1.691 | |
| fullCopiesSummary | 0.002 | 0.001 | 0.003 | |
| fullCountsSummary | 0.008 | 0.002 | 0.009 | |
| ggplot.well | 2.835 | 0.093 | 2.941 | |
| gridClassify | 2.237 | 0.038 | 2.278 | |
| heatPlot | 0.609 | 0.024 | 0.634 | |
| kmeansClassify | 0.349 | 0.032 | 0.383 | |
| knnClassify | 3.027 | 0.063 | 3.128 | |
| mahalanobisRain | 0.227 | 0.023 | 0.258 | |
| mutantCopiesSummary | 0.001 | 0.000 | 0.002 | |
| numDroplets | 0.098 | 0.004 | 0.109 | |
| parseClusterCounts | 0.003 | 0.001 | 0.004 | |
| plateClassification | 0.358 | 0.015 | 0.392 | |
| plateClassificationMethod | 0.129 | 0.010 | 0.140 | |
| plateSummary | 0.657 | 0.011 | 0.680 | |
| positiveCounts | 0.008 | 0.001 | 0.009 | |
| readCSVDataFrame | 0.003 | 0.001 | 0.005 | |
| relabelClasses | 0.016 | 0.004 | 0.019 | |
| removeDropletClasses | 0.254 | 0.024 | 0.280 | |
| renormalisePlate | 1.126 | 0.081 | 1.209 | |
| sdRain | 0.817 | 0.020 | 0.842 | |
| setChannelNames | 0 | 0 | 0 | |
| setDropletVolume | 0.000 | 0.001 | 0.000 | |
| sortDataFrame | 0.001 | 0.000 | 0.001 | |
| sortWells | 0.098 | 0.004 | 0.102 | |
| thresholdClassify | 0.503 | 0.020 | 0.532 | |
| wellClassification | 0.006 | 0.000 | 0.007 | |
| wellClassificationMethod | 0.008 | 0.000 | 0.008 | |
| whiteTheme | 0.684 | 0.010 | 0.709 | |
| wildTypeCopiesSummary | 0.002 | 0.000 | 0.002 | |