| Back to Multiple platform build/check report for BioC 3.21: simplified long |
|
This page was generated on 2025-10-16 11:38 -0400 (Thu, 16 Oct 2025).
| Hostname | OS | Arch (*) | R version | Installed pkgs |
|---|---|---|---|---|
| nebbiolo1 | Linux (Ubuntu 24.04.3 LTS) | x86_64 | 4.5.1 (2025-06-13) -- "Great Square Root" | 4833 |
| merida1 | macOS 12.7.6 Monterey | x86_64 | 4.5.1 RC (2025-06-05 r88288) -- "Great Square Root" | 4614 |
| kjohnson1 | macOS 13.7.5 Ventura | arm64 | 4.5.1 Patched (2025-06-14 r88325) -- "Great Square Root" | 4555 |
| kunpeng2 | Linux (openEuler 24.03 LTS) | aarch64 | R Under development (unstable) (2025-02-19 r87757) -- "Unsuffered Consequences" | 4586 |
| Click on any hostname to see more info about the system (e.g. compilers) (*) as reported by 'uname -p', except on Windows and Mac OS X | ||||
| Package 1473/2341 | Hostname | OS / Arch | INSTALL | BUILD | CHECK | BUILD BIN | ||||||||
| omada 1.10.0 (landing page) Sokratis Kariotis
| nebbiolo1 | Linux (Ubuntu 24.04.3 LTS) / x86_64 | OK | OK | OK | |||||||||
| merida1 | macOS 12.7.6 Monterey / x86_64 | OK | OK | OK | OK | |||||||||
| kjohnson1 | macOS 13.7.5 Ventura / arm64 | OK | OK | OK | OK | |||||||||
| kunpeng2 | Linux (openEuler 24.03 LTS) / aarch64 | OK | OK | OK | ||||||||||
|
To the developers/maintainers of the omada package: - Allow up to 24 hours (and sometimes 48 hours) for your latest push to git@git.bioconductor.org:packages/omada.git to reflect on this report. See Troubleshooting Build Report for more information. - Use the following Renviron settings to reproduce errors and warnings. - If 'R CMD check' started to fail recently on the Linux builder(s) over a missing dependency, add the missing dependency to 'Suggests:' in your DESCRIPTION file. See Renviron.bioc for more information. |
| Package: omada |
| Version: 1.10.0 |
| Command: /home/biocbuild/bbs-3.21-bioc/R/bin/R CMD check --install=check:omada.install-out.txt --library=/home/biocbuild/bbs-3.21-bioc/R/site-library --timings omada_1.10.0.tar.gz |
| StartedAt: 2025-10-16 01:47:48 -0400 (Thu, 16 Oct 2025) |
| EndedAt: 2025-10-16 02:03:01 -0400 (Thu, 16 Oct 2025) |
| EllapsedTime: 913.7 seconds |
| RetCode: 0 |
| Status: OK |
| CheckDir: omada.Rcheck |
| Warnings: 0 |
##############################################################################
##############################################################################
###
### Running command:
###
### /home/biocbuild/bbs-3.21-bioc/R/bin/R CMD check --install=check:omada.install-out.txt --library=/home/biocbuild/bbs-3.21-bioc/R/site-library --timings omada_1.10.0.tar.gz
###
##############################################################################
##############################################################################
* using log directory ‘/home/biocbuild/bbs-3.21-bioc/meat/omada.Rcheck’
* using R version 4.5.1 (2025-06-13)
* using platform: x86_64-pc-linux-gnu
* R was compiled by
gcc (Ubuntu 13.3.0-6ubuntu2~24.04) 13.3.0
GNU Fortran (Ubuntu 13.3.0-6ubuntu2~24.04) 13.3.0
* running under: Ubuntu 24.04.3 LTS
* using session charset: UTF-8
* checking for file ‘omada/DESCRIPTION’ ... OK
* checking extension type ... Package
* this is package ‘omada’ version ‘1.10.0’
* package encoding: UTF-8
* checking package namespace information ... OK
* checking package dependencies ... INFO
Depends: includes the non-default packages:
'pdfCluster', 'kernlab', 'fpc', 'Rcpp', 'diceR', 'ggplot2',
'reshape', 'genieclust', 'clValid', 'glmnet', 'dplyr'
Adding so many packages to the search path is excessive and importing
selectively is preferable.
* checking if this is a source package ... OK
* checking if there is a namespace ... OK
* checking for hidden files and directories ... OK
* checking for portable file names ... OK
* checking for sufficient/correct file permissions ... OK
* checking whether package ‘omada’ can be installed ... OK
* checking installed package size ... OK
* checking package directory ... OK
* checking ‘build’ directory ... OK
* checking DESCRIPTION meta-information ... OK
* checking top-level files ... NOTE
File
LICENSE
is not mentioned in the DESCRIPTION file.
* checking for left-over files ... OK
* checking index information ... OK
* checking package subdirectories ... OK
* checking code files for non-ASCII characters ... OK
* checking R files for syntax errors ... OK
* checking whether the package can be loaded ... OK
* checking whether the package can be loaded with stated dependencies ... OK
* checking whether the package can be unloaded cleanly ... OK
* checking whether the namespace can be loaded with stated dependencies ... OK
* checking whether the namespace can be unloaded cleanly ... OK
* checking loading without being on the library search path ... OK
* checking dependencies in R code ... NOTE
Packages in Depends field not imported from:
‘Rcpp’ ‘dplyr’ ‘genieclust’ ‘glmnet’ ‘kernlab’ ‘reshape’
These packages need to be imported from (in the NAMESPACE file)
for when this namespace is loaded but not attached.
* checking S3 generic/method consistency ... OK
* checking replacement functions ... OK
* checking foreign function calls ... OK
* checking R code for possible problems ... NOTE
Index.15and28: no visible global function definition for ‘dist’
Index.15and28: no visible global function definition for ‘as.dist’
Index.sPlussMoins: no visible global function definition for ‘dist’
Index.sPlussMoins: no visible global function definition for ‘as.dist’
Index.sPlussMoins: no visible global function definition for ‘median’
Indice.cindex: no visible global function definition for ‘dist’
clusterVoting: no visible global function definition for ‘calinhara’
clusterVoting: no visible global function definition for
‘generalised_dunn_index’
clusterVoting: no visible global function definition for
‘silhouette_index’
clusterVoting: no visible global function definition for
‘negated_davies_bouldin_index’
clusterVoting: no visible binding for global variable ‘k’
clusterVoting: no visible binding for global variable ‘Frequency’
clusteringMethodSelection: no visible binding for global variable
‘value’
clusteringMethodSelection: no visible binding for global variable
‘methods’
featureSelection: no visible binding for global variable ‘featureSet’
featureSelection: no visible binding for global variable ‘means’
Undefined global functions or variables:
Frequency as.dist calinhara dist featureSet generalised_dunn_index k
means median methods negated_davies_bouldin_index silhouette_index
value
Consider adding
importFrom("stats", "as.dist", "dist", "median")
importFrom("utils", "methods")
to your NAMESPACE file.
* checking Rd files ... OK
* checking Rd metadata ... OK
* checking Rd cross-references ... OK
* checking for missing documentation entries ... OK
* checking for code/documentation mismatches ... OK
* checking Rd \usage sections ... OK
* checking Rd contents ... OK
* checking for unstated dependencies in examples ... OK
* checking contents of ‘data’ directory ... OK
* checking data for non-ASCII characters ... OK
* checking LazyData ... OK
* checking data for ASCII and uncompressed saves ... OK
* checking files in ‘vignettes’ ... OK
* checking examples ... OK
Examples with CPU (user + system) or elapsed time > 5s
user system elapsed
get_feature_selection_optimal_number_of_features 42.803 0.081 42.900
get_feature_selection_scores 40.749 0.109 40.859
get_cluster_voting_k_votes 30.416 0.205 30.627
plot_partition_agreement 28.665 0.028 28.696
get_cluster_voting_metric_votes 28.521 0.105 28.630
get_partition_agreement_scores 28.334 0.084 28.417
plot_feature_selection 28.152 0.008 28.167
get_cluster_voting_memberships 27.941 0.092 28.034
get_sample_memberships 27.854 0.054 27.908
get_feature_selection_optimal_features 27.279 0.055 27.341
get_cluster_voting_scores 27.124 0.090 27.213
omada 22.708 0.034 22.885
plot_cluster_voting 21.429 0.014 21.443
plot_average_stabilities 10.433 0.007 10.440
get_optimal_features 9.979 0.013 9.992
get_optimal_number_of_features 8.213 0.005 8.218
get_optimal_memberships 7.507 0.011 7.519
get_optimal_stability_score 7.402 0.003 7.405
get_optimal_parameter_used 7.232 0.005 7.237
featureSelection 6.876 0.015 6.891
* checking for unstated dependencies in ‘tests’ ... OK
* checking tests ...
Running ‘testthat.R’
OK
* checking for unstated dependencies in vignettes ... OK
* checking package vignettes ... OK
* checking re-building of vignette outputs ... OK
* checking PDF version of manual ... OK
* DONE
Status: 3 NOTEs
See
‘/home/biocbuild/bbs-3.21-bioc/meat/omada.Rcheck/00check.log’
for details.
omada.Rcheck/00install.out
############################################################################## ############################################################################## ### ### Running command: ### ### /home/biocbuild/bbs-3.21-bioc/R/bin/R CMD INSTALL omada ### ############################################################################## ############################################################################## * installing to library ‘/home/biocbuild/bbs-3.21-bioc/R/site-library’ * installing *source* package ‘omada’ ... ** this is package ‘omada’ version ‘1.10.0’ ** using staged installation ** R ** data *** moving datasets to lazyload DB ** inst ** byte-compile and prepare package for lazy loading ** help *** installing help indices ** building package indices ** installing vignettes ** testing if installed package can be loaded from temporary location ** testing if installed package can be loaded from final location ** testing if installed package keeps a record of temporary installation path * DONE (omada)
omada.Rcheck/tests/testthat.Rout
R version 4.5.1 (2025-06-13) -- "Great Square Root"
Copyright (C) 2025 The R Foundation for Statistical Computing
Platform: x86_64-pc-linux-gnu
R is free software and comes with ABSOLUTELY NO WARRANTY.
You are welcome to redistribute it under certain conditions.
Type 'license()' or 'licence()' for distribution details.
R is a collaborative project with many contributors.
Type 'contributors()' for more information and
'citation()' on how to cite R or R packages in publications.
Type 'demo()' for some demos, 'help()' for on-line help, or
'help.start()' for an HTML browser interface to help.
Type 'q()' to quit R.
> library(testthat)
> library(omada)
Loading required package: pdfCluster
pdfCluster 1.0-4
Loading required package: kernlab
Loading required package: fpc
Loading required package: Rcpp
Loading required package: diceR
Loading required package: ggplot2
Attaching package: 'ggplot2'
The following object is masked from 'package:kernlab':
alpha
Loading required package: reshape
Loading required package: genieclust
Loading required package: clValid
Loading required package: cluster
Loading required package: glmnet
Loading required package: Matrix
Attaching package: 'Matrix'
The following object is masked from 'package:reshape':
expand
Loaded glmnet 4.1-10
Loading required package: dplyr
Attaching package: 'dplyr'
The following object is masked from 'package:reshape':
rename
The following object is masked from 'package:pdfCluster':
groups
The following object is masked from 'package:testthat':
matches
The following objects are masked from 'package:stats':
filter, lag
The following objects are masked from 'package:base':
intersect, setdiff, setequal, union
>
> test_check("omada")
[ FAIL 0 | WARN 1 | SKIP 0 | PASS 38 ]
[ FAIL 0 | WARN 1 | SKIP 0 | PASS 38 ]
>
> proc.time()
user system elapsed
127.578 1.129 143.702
omada.Rcheck/omada-Ex.timings
| name | user | system | elapsed | |
| clusterVoting | 3.713 | 0.071 | 3.784 | |
| clusteringMethodSelection | 1.824 | 0.033 | 1.857 | |
| feasibilityAnalysis | 1.142 | 0.039 | 1.181 | |
| feasibilityAnalysisDataBased | 2.761 | 0.070 | 2.831 | |
| featureSelection | 6.876 | 0.015 | 6.891 | |
| get_agreement_scores | 0.148 | 0.012 | 0.160 | |
| get_average_feature_k_stabilities | 4.807 | 0.070 | 4.877 | |
| get_average_stabilities_per_k | 0.766 | 0.011 | 0.777 | |
| get_average_stability | 0.786 | 0.001 | 0.786 | |
| get_cluster_memberships_k | 0.760 | 0.048 | 0.809 | |
| get_cluster_voting_k_votes | 30.416 | 0.205 | 30.627 | |
| get_cluster_voting_memberships | 27.941 | 0.092 | 28.034 | |
| get_cluster_voting_metric_votes | 28.521 | 0.105 | 28.630 | |
| get_cluster_voting_scores | 27.124 | 0.090 | 27.213 | |
| get_feature_selection_optimal_features | 27.279 | 0.055 | 27.341 | |
| get_feature_selection_optimal_number_of_features | 42.803 | 0.081 | 42.900 | |
| get_feature_selection_scores | 40.749 | 0.109 | 40.859 | |
| get_generated_dataset | 2.816 | 0.006 | 2.823 | |
| get_internal_metric_scores | 0.977 | 0.004 | 0.982 | |
| get_max_stability | 0.749 | 0.009 | 0.758 | |
| get_metric_votes_k | 0.725 | 0.021 | 0.746 | |
| get_optimal_features | 9.979 | 0.013 | 9.992 | |
| get_optimal_memberships | 7.507 | 0.011 | 7.519 | |
| get_optimal_number_of_features | 8.213 | 0.005 | 8.218 | |
| get_optimal_parameter_used | 7.232 | 0.005 | 7.237 | |
| get_optimal_stability_score | 7.402 | 0.003 | 7.405 | |
| get_partition_agreement_scores | 28.334 | 0.084 | 28.417 | |
| get_sample_memberships | 27.854 | 0.054 | 27.908 | |
| get_vote_frequencies_k | 0.739 | 0.003 | 0.742 | |
| omada | 22.708 | 0.034 | 22.885 | |
| optimalClustering | 0.078 | 0.003 | 0.080 | |
| partitionAgreement | 0.313 | 0.011 | 0.324 | |
| plot_average_stabilities | 10.433 | 0.007 | 10.440 | |
| plot_cluster_voting | 21.429 | 0.014 | 21.443 | |
| plot_feature_selection | 28.152 | 0.008 | 28.167 | |
| plot_partition_agreement | 28.665 | 0.028 | 28.696 | |
| plot_vote_frequencies | 0.966 | 0.023 | 0.988 | |
| toy_gene_memberships | 0.015 | 0.002 | 0.016 | |
| toy_genes | 0.002 | 0.000 | 0.001 | |