| Back to Multiple platform build/check report for BioC 3.21: simplified long |
|
This page was generated on 2025-10-16 11:40 -0400 (Thu, 16 Oct 2025).
| Hostname | OS | Arch (*) | R version | Installed pkgs |
|---|---|---|---|---|
| nebbiolo1 | Linux (Ubuntu 24.04.3 LTS) | x86_64 | 4.5.1 (2025-06-13) -- "Great Square Root" | 4833 |
| merida1 | macOS 12.7.6 Monterey | x86_64 | 4.5.1 RC (2025-06-05 r88288) -- "Great Square Root" | 4614 |
| kjohnson1 | macOS 13.7.5 Ventura | arm64 | 4.5.1 Patched (2025-06-14 r88325) -- "Great Square Root" | 4555 |
| kunpeng2 | Linux (openEuler 24.03 LTS) | aarch64 | R Under development (unstable) (2025-02-19 r87757) -- "Unsuffered Consequences" | 4586 |
| Click on any hostname to see more info about the system (e.g. compilers) (*) as reported by 'uname -p', except on Windows and Mac OS X | ||||
| Package 1473/2341 | Hostname | OS / Arch | INSTALL | BUILD | CHECK | BUILD BIN | ||||||||
| omada 1.10.0 (landing page) Sokratis Kariotis
| nebbiolo1 | Linux (Ubuntu 24.04.3 LTS) / x86_64 | OK | OK | OK | |||||||||
| merida1 | macOS 12.7.6 Monterey / x86_64 | OK | OK | OK | OK | |||||||||
| kjohnson1 | macOS 13.7.5 Ventura / arm64 | OK | OK | OK | OK | |||||||||
| kunpeng2 | Linux (openEuler 24.03 LTS) / aarch64 | OK | OK | OK | ||||||||||
|
To the developers/maintainers of the omada package: - Allow up to 24 hours (and sometimes 48 hours) for your latest push to git@git.bioconductor.org:packages/omada.git to reflect on this report. See Troubleshooting Build Report for more information. - Use the following Renviron settings to reproduce errors and warnings. - If 'R CMD check' started to fail recently on the Linux builder(s) over a missing dependency, add the missing dependency to 'Suggests:' in your DESCRIPTION file. See Renviron.bioc for more information. |
| Package: omada |
| Version: 1.10.0 |
| Command: /Library/Frameworks/R.framework/Resources/bin/R CMD check --install=check:omada.install-out.txt --library=/Library/Frameworks/R.framework/Resources/library --no-vignettes --timings omada_1.10.0.tar.gz |
| StartedAt: 2025-10-15 06:16:15 -0400 (Wed, 15 Oct 2025) |
| EndedAt: 2025-10-15 06:28:40 -0400 (Wed, 15 Oct 2025) |
| EllapsedTime: 744.7 seconds |
| RetCode: 0 |
| Status: OK |
| CheckDir: omada.Rcheck |
| Warnings: 0 |
##############################################################################
##############################################################################
###
### Running command:
###
### /Library/Frameworks/R.framework/Resources/bin/R CMD check --install=check:omada.install-out.txt --library=/Library/Frameworks/R.framework/Resources/library --no-vignettes --timings omada_1.10.0.tar.gz
###
##############################################################################
##############################################################################
* using log directory ‘/Users/biocbuild/bbs-3.21-bioc/meat/omada.Rcheck’
* using R version 4.5.1 Patched (2025-06-14 r88325)
* using platform: aarch64-apple-darwin20
* R was compiled by
Apple clang version 16.0.0 (clang-1600.0.26.6)
GNU Fortran (GCC) 14.2.0
* running under: macOS Ventura 13.7.5
* using session charset: UTF-8
* using option ‘--no-vignettes’
* checking for file ‘omada/DESCRIPTION’ ... OK
* checking extension type ... Package
* this is package ‘omada’ version ‘1.10.0’
* package encoding: UTF-8
* checking package namespace information ... OK
* checking package dependencies ... INFO
Depends: includes the non-default packages:
'pdfCluster', 'kernlab', 'fpc', 'Rcpp', 'diceR', 'ggplot2',
'reshape', 'genieclust', 'clValid', 'glmnet', 'dplyr'
Adding so many packages to the search path is excessive and importing
selectively is preferable.
* checking if this is a source package ... OK
* checking if there is a namespace ... OK
* checking for hidden files and directories ... OK
* checking for portable file names ... OK
* checking for sufficient/correct file permissions ... OK
* checking whether package ‘omada’ can be installed ... OK
* checking installed package size ... OK
* checking package directory ... OK
* checking ‘build’ directory ... OK
* checking DESCRIPTION meta-information ... OK
* checking top-level files ... NOTE
File
LICENSE
is not mentioned in the DESCRIPTION file.
* checking for left-over files ... OK
* checking index information ... OK
* checking package subdirectories ... OK
* checking code files for non-ASCII characters ... OK
* checking R files for syntax errors ... OK
* checking whether the package can be loaded ... OK
* checking whether the package can be loaded with stated dependencies ... OK
* checking whether the package can be unloaded cleanly ... OK
* checking whether the namespace can be loaded with stated dependencies ... OK
* checking whether the namespace can be unloaded cleanly ... OK
* checking dependencies in R code ... NOTE
Packages in Depends field not imported from:
‘Rcpp’ ‘dplyr’ ‘genieclust’ ‘glmnet’ ‘kernlab’ ‘reshape’
These packages need to be imported from (in the NAMESPACE file)
for when this namespace is loaded but not attached.
* checking S3 generic/method consistency ... OK
* checking replacement functions ... OK
* checking foreign function calls ... OK
* checking R code for possible problems ... NOTE
Index.15and28: no visible global function definition for ‘dist’
Index.15and28: no visible global function definition for ‘as.dist’
Index.sPlussMoins: no visible global function definition for ‘dist’
Index.sPlussMoins: no visible global function definition for ‘as.dist’
Index.sPlussMoins: no visible global function definition for ‘median’
Indice.cindex: no visible global function definition for ‘dist’
clusterVoting: no visible global function definition for ‘calinhara’
clusterVoting: no visible global function definition for
‘generalised_dunn_index’
clusterVoting: no visible global function definition for
‘silhouette_index’
clusterVoting: no visible global function definition for
‘negated_davies_bouldin_index’
clusterVoting: no visible binding for global variable ‘k’
clusterVoting: no visible binding for global variable ‘Frequency’
clusteringMethodSelection: no visible binding for global variable
‘value’
clusteringMethodSelection: no visible binding for global variable
‘methods’
featureSelection: no visible binding for global variable ‘featureSet’
featureSelection: no visible binding for global variable ‘means’
Undefined global functions or variables:
Frequency as.dist calinhara dist featureSet generalised_dunn_index k
means median methods negated_davies_bouldin_index silhouette_index
value
Consider adding
importFrom("stats", "as.dist", "dist", "median")
importFrom("utils", "methods")
to your NAMESPACE file.
* checking Rd files ... OK
* checking Rd metadata ... OK
* checking Rd cross-references ... OK
* checking for missing documentation entries ... OK
* checking for code/documentation mismatches ... OK
* checking Rd \usage sections ... OK
* checking Rd contents ... OK
* checking for unstated dependencies in examples ... OK
* checking contents of ‘data’ directory ... OK
* checking data for non-ASCII characters ... OK
* checking LazyData ... OK
* checking data for ASCII and uncompressed saves ... OK
* checking files in ‘vignettes’ ... OK
* checking examples ... OK
Examples with CPU (user + system) or elapsed time > 5s
user system elapsed
get_feature_selection_scores 49.237 2.047 51.337
get_feature_selection_optimal_number_of_features 46.231 1.893 48.291
plot_partition_agreement 38.549 1.000 39.605
get_cluster_voting_metric_votes 34.947 1.072 36.277
get_sample_memberships 34.098 1.218 35.363
get_cluster_voting_k_votes 33.899 1.263 35.218
get_cluster_voting_memberships 34.184 0.695 35.909
plot_feature_selection 33.204 1.243 34.675
get_partition_agreement_scores 32.830 1.092 33.948
get_feature_selection_optimal_features 32.094 1.582 33.718
get_cluster_voting_scores 31.156 1.066 32.318
plot_cluster_voting 24.809 0.704 25.967
omada 23.854 0.927 24.801
plot_average_stabilities 11.933 0.313 12.288
get_optimal_features 10.808 0.343 11.158
get_optimal_stability_score 10.331 0.293 10.631
get_optimal_memberships 10.319 0.289 10.638
get_optimal_number_of_features 9.493 0.262 9.890
get_optimal_parameter_used 9.361 0.269 9.703
featureSelection 7.893 0.203 8.190
get_average_feature_k_stabilities 5.058 0.167 5.243
* checking for unstated dependencies in ‘tests’ ... OK
* checking tests ...
Running ‘testthat.R’
OK
* checking for unstated dependencies in vignettes ... OK
* checking package vignettes ... OK
* checking running R code from vignettes ... SKIPPED
* checking re-building of vignette outputs ... SKIPPED
* checking PDF version of manual ... OK
* DONE
Status: 3 NOTEs
See
‘/Users/biocbuild/bbs-3.21-bioc/meat/omada.Rcheck/00check.log’
for details.
omada.Rcheck/00install.out
############################################################################## ############################################################################## ### ### Running command: ### ### /Library/Frameworks/R.framework/Resources/bin/R CMD INSTALL omada ### ############################################################################## ############################################################################## * installing to library ‘/Library/Frameworks/R.framework/Versions/4.5-arm64/Resources/library’ * installing *source* package ‘omada’ ... ** this is package ‘omada’ version ‘1.10.0’ ** using staged installation ** R ** data *** moving datasets to lazyload DB ** inst ** byte-compile and prepare package for lazy loading ** help *** installing help indices ** building package indices ** installing vignettes ** testing if installed package can be loaded from temporary location ** testing if installed package can be loaded from final location ** testing if installed package keeps a record of temporary installation path * DONE (omada)
omada.Rcheck/tests/testthat.Rout
R version 4.5.1 Patched (2025-06-14 r88325) -- "Great Square Root"
Copyright (C) 2025 The R Foundation for Statistical Computing
Platform: aarch64-apple-darwin20
R is free software and comes with ABSOLUTELY NO WARRANTY.
You are welcome to redistribute it under certain conditions.
Type 'license()' or 'licence()' for distribution details.
R is a collaborative project with many contributors.
Type 'contributors()' for more information and
'citation()' on how to cite R or R packages in publications.
Type 'demo()' for some demos, 'help()' for on-line help, or
'help.start()' for an HTML browser interface to help.
Type 'q()' to quit R.
> library(testthat)
> library(omada)
Loading required package: pdfCluster
pdfCluster 1.0-4
Loading required package: kernlab
Loading required package: fpc
Loading required package: Rcpp
Loading required package: diceR
Loading required package: ggplot2
Attaching package: 'ggplot2'
The following object is masked from 'package:kernlab':
alpha
Loading required package: reshape
Loading required package: genieclust
Loading required package: clValid
Loading required package: cluster
Loading required package: glmnet
Loading required package: Matrix
Attaching package: 'Matrix'
The following object is masked from 'package:reshape':
expand
Loaded glmnet 4.1-10
Loading required package: dplyr
Attaching package: 'dplyr'
The following object is masked from 'package:reshape':
rename
The following object is masked from 'package:pdfCluster':
groups
The following object is masked from 'package:testthat':
matches
The following objects are masked from 'package:stats':
filter, lag
The following objects are masked from 'package:base':
intersect, setdiff, setequal, union
>
> test_check("omada")
[ FAIL 0 | WARN 1 | SKIP 0 | PASS 38 ]
[ FAIL 0 | WARN 1 | SKIP 0 | PASS 38 ]
>
> proc.time()
user system elapsed
87.198 4.455 91.840
omada.Rcheck/omada-Ex.timings
| name | user | system | elapsed | |
| clusterVoting | 4.342 | 0.576 | 4.931 | |
| clusteringMethodSelection | 1.806 | 0.069 | 1.881 | |
| feasibilityAnalysis | 1.078 | 0.025 | 1.112 | |
| feasibilityAnalysisDataBased | 2.956 | 0.115 | 3.108 | |
| featureSelection | 7.893 | 0.203 | 8.190 | |
| get_agreement_scores | 0.191 | 0.012 | 0.207 | |
| get_average_feature_k_stabilities | 5.058 | 0.167 | 5.243 | |
| get_average_stabilities_per_k | 0.712 | 0.020 | 0.731 | |
| get_average_stability | 0.717 | 0.007 | 0.724 | |
| get_cluster_memberships_k | 0.998 | 0.160 | 1.159 | |
| get_cluster_voting_k_votes | 33.899 | 1.263 | 35.218 | |
| get_cluster_voting_memberships | 34.184 | 0.695 | 35.909 | |
| get_cluster_voting_metric_votes | 34.947 | 1.072 | 36.277 | |
| get_cluster_voting_scores | 31.156 | 1.066 | 32.318 | |
| get_feature_selection_optimal_features | 32.094 | 1.582 | 33.718 | |
| get_feature_selection_optimal_number_of_features | 46.231 | 1.893 | 48.291 | |
| get_feature_selection_scores | 49.237 | 2.047 | 51.337 | |
| get_generated_dataset | 2.804 | 0.063 | 2.868 | |
| get_internal_metric_scores | 0.979 | 0.196 | 1.176 | |
| get_max_stability | 0.71 | 0.03 | 0.74 | |
| get_metric_votes_k | 1.380 | 0.184 | 1.564 | |
| get_optimal_features | 10.808 | 0.343 | 11.158 | |
| get_optimal_memberships | 10.319 | 0.289 | 10.638 | |
| get_optimal_number_of_features | 9.493 | 0.262 | 9.890 | |
| get_optimal_parameter_used | 9.361 | 0.269 | 9.703 | |
| get_optimal_stability_score | 10.331 | 0.293 | 10.631 | |
| get_partition_agreement_scores | 32.830 | 1.092 | 33.948 | |
| get_sample_memberships | 34.098 | 1.218 | 35.363 | |
| get_vote_frequencies_k | 0.964 | 0.116 | 1.088 | |
| omada | 23.854 | 0.927 | 24.801 | |
| optimalClustering | 0.069 | 0.005 | 0.073 | |
| partitionAgreement | 0.392 | 0.024 | 0.416 | |
| plot_average_stabilities | 11.933 | 0.313 | 12.288 | |
| plot_cluster_voting | 24.809 | 0.704 | 25.967 | |
| plot_feature_selection | 33.204 | 1.243 | 34.675 | |
| plot_partition_agreement | 38.549 | 1.000 | 39.605 | |
| plot_vote_frequencies | 1.525 | 0.163 | 1.690 | |
| toy_gene_memberships | 0.018 | 0.006 | 0.025 | |
| toy_genes | 0.001 | 0.003 | 0.005 | |