| Back to Multiple platform build/check report for BioC 3.21: simplified long |
|
This page was generated on 2025-04-22 13:18 -0400 (Tue, 22 Apr 2025).
| Hostname | OS | Arch (*) | R version | Installed pkgs |
|---|---|---|---|---|
| nebbiolo1 | Linux (Ubuntu 24.04.1 LTS) | x86_64 | 4.5.0 RC (2025-04-04 r88126) -- "How About a Twenty-Six" | 4831 |
| palomino7 | Windows Server 2022 Datacenter | x64 | 4.5.0 RC (2025-04-04 r88126 ucrt) -- "How About a Twenty-Six" | 4573 |
| lconway | macOS 12.7.1 Monterey | x86_64 | 4.5.0 RC (2025-04-04 r88126) -- "How About a Twenty-Six" | 4599 |
| kjohnson3 | macOS 13.7.1 Ventura | arm64 | 4.5.0 RC (2025-04-04 r88126) -- "How About a Twenty-Six" | 4553 |
| kunpeng2 | Linux (openEuler 24.03 LTS) | aarch64 | R Under development (unstable) (2025-02-19 r87757) -- "Unsuffered Consequences" | 4570 |
| Click on any hostname to see more info about the system (e.g. compilers) (*) as reported by 'uname -p', except on Windows and Mac OS X | ||||
| Package 794/2341 | Hostname | OS / Arch | INSTALL | BUILD | CHECK | BUILD BIN | ||||||||
| gDRimport 1.6.0 (landing page) Arkadiusz Gladki
| nebbiolo1 | Linux (Ubuntu 24.04.1 LTS) / x86_64 | OK | OK | OK | |||||||||
| palomino7 | Windows Server 2022 Datacenter / x64 | OK | OK | OK | OK | |||||||||
| lconway | macOS 12.7.1 Monterey / x86_64 | OK | OK | OK | OK | |||||||||
| kjohnson3 | macOS 13.7.1 Ventura / arm64 | OK | OK | OK | OK | |||||||||
| kunpeng2 | Linux (openEuler 24.03 LTS) / aarch64 | OK | OK | OK | ||||||||||
|
To the developers/maintainers of the gDRimport package: - Allow up to 24 hours (and sometimes 48 hours) for your latest push to git@git.bioconductor.org:packages/gDRimport.git to reflect on this report. See Troubleshooting Build Report for more information. - Use the following Renviron settings to reproduce errors and warnings. - If 'R CMD check' started to fail recently on the Linux builder(s) over a missing dependency, add the missing dependency to 'Suggests:' in your DESCRIPTION file. See Renviron.bioc for more information. |
| Package: gDRimport |
| Version: 1.6.0 |
| Command: /Library/Frameworks/R.framework/Resources/bin/R CMD check --install=check:gDRimport.install-out.txt --library=/Library/Frameworks/R.framework/Resources/library --no-vignettes --timings gDRimport_1.6.0.tar.gz |
| StartedAt: 2025-04-21 19:29:19 -0400 (Mon, 21 Apr 2025) |
| EndedAt: 2025-04-21 19:30:29 -0400 (Mon, 21 Apr 2025) |
| EllapsedTime: 69.8 seconds |
| RetCode: 0 |
| Status: OK |
| CheckDir: gDRimport.Rcheck |
| Warnings: 0 |
##############################################################################
##############################################################################
###
### Running command:
###
### /Library/Frameworks/R.framework/Resources/bin/R CMD check --install=check:gDRimport.install-out.txt --library=/Library/Frameworks/R.framework/Resources/library --no-vignettes --timings gDRimport_1.6.0.tar.gz
###
##############################################################################
##############################################################################
* using log directory ‘/Users/biocbuild/bbs-3.21-bioc/meat/gDRimport.Rcheck’
* using R version 4.5.0 RC (2025-04-04 r88126)
* using platform: aarch64-apple-darwin20
* R was compiled by
Apple clang version 14.0.0 (clang-1400.0.29.202)
GNU Fortran (GCC) 14.2.0
* running under: macOS Ventura 13.7.1
* using session charset: UTF-8
* using option ‘--no-vignettes’
* checking for file ‘gDRimport/DESCRIPTION’ ... OK
* checking extension type ... Package
* this is package ‘gDRimport’ version ‘1.6.0’
* package encoding: UTF-8
* checking package namespace information ... OK
* checking package dependencies ... OK
* checking if this is a source package ... OK
* checking if there is a namespace ... OK
* checking for hidden files and directories ... OK
* checking for portable file names ... OK
* checking for sufficient/correct file permissions ... OK
* checking whether package ‘gDRimport’ can be installed ... OK
* checking installed package size ... OK
* checking package directory ... OK
* checking ‘build’ directory ... OK
* checking DESCRIPTION meta-information ... OK
* checking top-level files ... OK
* checking for left-over files ... OK
* checking index information ... OK
* checking package subdirectories ... OK
* checking code files for non-ASCII characters ... OK
* checking R files for syntax errors ... OK
* checking whether the package can be loaded ... OK
* checking whether the package can be loaded with stated dependencies ... OK
* checking whether the package can be unloaded cleanly ... OK
* checking whether the namespace can be loaded with stated dependencies ... OK
* checking whether the namespace can be unloaded cleanly ... OK
* checking dependencies in R code ... OK
* checking S3 generic/method consistency ... OK
* checking replacement functions ... OK
* checking foreign function calls ... OK
* checking R code for possible problems ... OK
* checking Rd files ... OK
* checking Rd metadata ... OK
* checking Rd cross-references ... OK
* checking for missing documentation entries ... OK
* checking for code/documentation mismatches ... OK
* checking Rd \usage sections ... OK
* checking Rd contents ... OK
* checking for unstated dependencies in examples ... OK
* checking files in ‘vignettes’ ... OK
* checking examples ... OK
* checking for unstated dependencies in ‘tests’ ... OK
* checking tests ...
Running ‘testthat.R’
OK
* checking for unstated dependencies in vignettes ... OK
* checking package vignettes ... OK
* checking running R code from vignettes ... SKIPPED
* checking re-building of vignette outputs ... SKIPPED
* checking PDF version of manual ... OK
* DONE
Status: OK
gDRimport.Rcheck/00install.out
############################################################################## ############################################################################## ### ### Running command: ### ### /Library/Frameworks/R.framework/Resources/bin/R CMD INSTALL gDRimport ### ############################################################################## ############################################################################## * installing to library ‘/Library/Frameworks/R.framework/Versions/4.5-arm64/Resources/library’ * installing *source* package ‘gDRimport’ ... ** this is package ‘gDRimport’ version ‘1.6.0’ ** using staged installation ** R ** inst ** byte-compile and prepare package for lazy loading ** help *** installing help indices ** building package indices ** installing vignettes ** testing if installed package can be loaded from temporary location ** testing if installed package can be loaded from final location ** testing if installed package keeps a record of temporary installation path * DONE (gDRimport)
gDRimport.Rcheck/tests/testthat.Rout
R version 4.5.0 RC (2025-04-04 r88126) -- "How About a Twenty-Six"
Copyright (C) 2025 The R Foundation for Statistical Computing
Platform: aarch64-apple-darwin20
R is free software and comes with ABSOLUTELY NO WARRANTY.
You are welcome to redistribute it under certain conditions.
Type 'license()' or 'licence()' for distribution details.
R is a collaborative project with many contributors.
Type 'contributors()' for more information and
'citation()' on how to cite R or R packages in publications.
Type 'demo()' for some demos, 'help()' for on-line help, or
'help.start()' for an HTML browser interface to help.
Type 'q()' to quit R.
> library(testthat)
> library(gDRimport)
>
> test_check("gDRimport")
2025-04-21 19:30:18 Building assay index...
2025-04-21 19:30:18 Joining rowData to assayIndex...
2025-04-21 19:30:18 Joining colData to assayIndex...
2025-04-21 19:30:19 Joining assays to assayIndex...
2025-04-21 19:30:20 Setting assayIndex key...
2025-04-21 19:30:20 Building LongTable...
2025-04-21 19:30:20 Building assay index...
2025-04-21 19:30:20 Joining rowData to assayIndex...
2025-04-21 19:30:21 Joining colData to assayIndex...
2025-04-21 19:30:21 Joining assays to assayIndex...
2025-04-21 19:30:22 Setting assayIndex key...
2025-04-21 19:30:22 Building LongTable...
INFO [2025-04-21 19:30:22] Manifest loaded successfully
INFO [2025-04-21 19:30:22] Manifest loaded successfully
INFO [2025-04-21 19:30:22] Reading file /Library/Frameworks/R.framework/Versions/4.5-arm64/Resources/library/gDRimport/extdata/data1/RawData_day0.xlsx, sheet Readout_0077vs0068_day7
INFO [2025-04-21 19:30:22] Plate 201904190a read; 384 wells
INFO [2025-04-21 19:30:22] Plate 201904190b read; 384 wells
INFO [2025-04-21 19:30:22] Plate 201904190c read; 384 wells
INFO [2025-04-21 19:30:22] Plate 201904190d read; 384 wells
INFO [2025-04-21 19:30:22] Plate 201904190e read; 384 wells
INFO [2025-04-21 19:30:22] Plate 201904190f read; 384 wells
INFO [2025-04-21 19:30:22] File done
INFO [2025-04-21 19:30:22] Reading file /Library/Frameworks/R.framework/Versions/4.5-arm64/Resources/library/gDRimport/extdata/data1/RawData_day7.xlsx, sheet Readout_0077vs0068_day7
INFO [2025-04-21 19:30:22] Plate 201904197a read; 384 wells
INFO [2025-04-21 19:30:22] Plate 201904197b read; 384 wells
INFO [2025-04-21 19:30:22] Plate 201904197c read; 384 wells
INFO [2025-04-21 19:30:22] Plate 201904197d read; 384 wells
INFO [2025-04-21 19:30:22] Plate 201904197e read; 384 wells
INFO [2025-04-21 19:30:22] Plate 201904197f read; 384 wells
INFO [2025-04-21 19:30:22] File done
INFO [2025-04-21 19:30:22] Reading file /Library/Frameworks/R.framework/Versions/4.5-arm64/Resources/library/gDRimport/extdata/data1/RawData_day0.xlsx, sheet Readout_0077vs0068_day7
INFO [2025-04-21 19:30:23] Plate 201904190a read; 384 wells
INFO [2025-04-21 19:30:23] Plate 201904190b read; 384 wells
INFO [2025-04-21 19:30:23] Plate 201904190c read; 384 wells
INFO [2025-04-21 19:30:23] Plate 201904190d read; 384 wells
INFO [2025-04-21 19:30:23] Plate 201904190e read; 384 wells
INFO [2025-04-21 19:30:23] Plate 201904190f read; 384 wells
INFO [2025-04-21 19:30:23] File done
INFO [2025-04-21 19:30:23] Reading file /Library/Frameworks/R.framework/Versions/4.5-arm64/Resources/library/gDRimport/extdata/data1/RawData_day7.xlsx, sheet Readout_0077vs0068_day7
INFO [2025-04-21 19:30:23] Plate 201904197a read; 384 wells
INFO [2025-04-21 19:30:23] Plate 201904197b read; 384 wells
INFO [2025-04-21 19:30:23] Plate 201904197c read; 384 wells
INFO [2025-04-21 19:30:23] Plate 201904197d read; 384 wells
INFO [2025-04-21 19:30:23] Plate 201904197e read; 384 wells
INFO [2025-04-21 19:30:23] Plate 201904197f read; 384 wells
INFO [2025-04-21 19:30:23] File done
INFO [2025-04-21 19:30:23] Reading file /Library/Frameworks/R.framework/Versions/4.5-arm64/Resources/library/gDRimport/extdata/data1/RawData_day0.xlsx, sheet Readout_0077vs0068_day7
INFO [2025-04-21 19:30:23] Plate 201904190a read; 384 wells
INFO [2025-04-21 19:30:23] Plate 201904190b read; 384 wells
INFO [2025-04-21 19:30:23] Plate 201904190c read; 384 wells
INFO [2025-04-21 19:30:23] Plate 201904190d read; 384 wells
INFO [2025-04-21 19:30:23] Plate 201904190e read; 384 wells
INFO [2025-04-21 19:30:23] Plate 201904190f read; 384 wells
INFO [2025-04-21 19:30:23] File done
INFO [2025-04-21 19:30:23] Reading file /Library/Frameworks/R.framework/Versions/4.5-arm64/Resources/library/gDRimport/extdata/data2/RawData_Tecan_96_well_plates.xlsx, sheet H2122-2
INFO [2025-04-21 19:30:23] Reading file /Library/Frameworks/R.framework/Versions/4.5-arm64/Resources/library/gDRimport/extdata/data2/RawData_Tecan_96_well_plates.xlsx, sheet H358-2
INFO [2025-04-21 19:30:23] Reading file /Library/Frameworks/R.framework/Versions/4.5-arm64/Resources/library/gDRimport/extdata/data2/RawData_Tecan_96_well_plates.xlsx, sheet H358-1
INFO [2025-04-21 19:30:23] Reading file /Library/Frameworks/R.framework/Versions/4.5-arm64/Resources/library/gDRimport/extdata/data2/RawData_Tecan_96_well_plates.xlsx, sheet H2122-1
INFO [2025-04-21 19:30:23] Reading Template_7daytreated.xlsx with load_templates_xlsx
INFO [2025-04-21 19:30:23] Loading Template_7daytreated.xlsx
INFO [2025-04-21 19:30:23] Loading Template_Untreated.xlsx
INFO [2025-04-21 19:30:23] Templates loaded successfully!
INFO [2025-04-21 19:30:23] Reading Template_7daytreated.xlsx with load_templates_xlsx
INFO [2025-04-21 19:30:23] Loading Template_7daytreated.xlsx
INFO [2025-04-21 19:30:23] Loading Template_Untreated.xlsx
INFO [2025-04-21 19:30:23] Templates loaded successfully!
INFO [2025-04-21 19:30:23] Reading D300_trt_Tecan_96_well_plates.xlsx with load_templates_xlsx
INFO [2025-04-21 19:30:23] Loading D300_trt_Tecan_96_well_plates.xlsx
INFO [2025-04-21 19:30:23] Templates loaded successfully!
INFO [2025-04-21 19:30:23] Reading Template_7daytreated.xlsx with load_templates_xlsx
INFO [2025-04-21 19:30:23] Loading Template_7daytreated.xlsx
INFO [2025-04-21 19:30:23] Templates loaded successfully!
INFO [2025-04-21 19:30:23] Manifest loaded successfully
INFO [2025-04-21 19:30:23] Reading Template_7daytreated.xlsx with load_templates_xlsx
INFO [2025-04-21 19:30:23] Loading Template_7daytreated.xlsx
INFO [2025-04-21 19:30:23] Loading Template_Untreated.xlsx
INFO [2025-04-21 19:30:23] Templates loaded successfully!
INFO [2025-04-21 19:30:23] Reading file /Library/Frameworks/R.framework/Versions/4.5-arm64/Resources/library/gDRimport/extdata/data1/RawData_day0.xlsx, sheet Readout_0077vs0068_day7
INFO [2025-04-21 19:30:23] Plate 201904190a read; 384 wells
INFO [2025-04-21 19:30:23] Plate 201904190b read; 384 wells
INFO [2025-04-21 19:30:23] Plate 201904190c read; 384 wells
INFO [2025-04-21 19:30:23] Plate 201904190d read; 384 wells
INFO [2025-04-21 19:30:23] Plate 201904190e read; 384 wells
INFO [2025-04-21 19:30:23] Plate 201904190f read; 384 wells
INFO [2025-04-21 19:30:23] File done
INFO [2025-04-21 19:30:23] Reading file /Library/Frameworks/R.framework/Versions/4.5-arm64/Resources/library/gDRimport/extdata/data1/RawData_day7.xlsx, sheet Readout_0077vs0068_day7
INFO [2025-04-21 19:30:23] Plate 201904197a read; 384 wells
INFO [2025-04-21 19:30:24] Plate 201904197b read; 384 wells
INFO [2025-04-21 19:30:24] Plate 201904197c read; 384 wells
INFO [2025-04-21 19:30:24] Plate 201904197d read; 384 wells
INFO [2025-04-21 19:30:24] Plate 201904197e read; 384 wells
INFO [2025-04-21 19:30:24] Plate 201904197f read; 384 wells
INFO [2025-04-21 19:30:24] File done
INFO [2025-04-21 19:30:24] Manifest loaded successfully
INFO [2025-04-21 19:30:24] Reading D300_trt_Tecan_96_well_plates.xlsx with load_templates_xlsx
INFO [2025-04-21 19:30:24] Loading D300_trt_Tecan_96_well_plates.xlsx
INFO [2025-04-21 19:30:24] Templates loaded successfully!
INFO [2025-04-21 19:30:24] Reading file /Library/Frameworks/R.framework/Versions/4.5-arm64/Resources/library/gDRimport/extdata/data2/RawData_Tecan_96_well_plates.xlsx, sheet H2122-2
INFO [2025-04-21 19:30:24] Reading file /Library/Frameworks/R.framework/Versions/4.5-arm64/Resources/library/gDRimport/extdata/data2/RawData_Tecan_96_well_plates.xlsx, sheet H358-2
INFO [2025-04-21 19:30:24] Reading file /Library/Frameworks/R.framework/Versions/4.5-arm64/Resources/library/gDRimport/extdata/data2/RawData_Tecan_96_well_plates.xlsx, sheet H358-1
INFO [2025-04-21 19:30:24] Reading file /Library/Frameworks/R.framework/Versions/4.5-arm64/Resources/library/gDRimport/extdata/data2/RawData_Tecan_96_well_plates.xlsx, sheet H2122-1
INFO [2025-04-21 19:30:24] Manifest loaded successfully
INFO [2025-04-21 19:30:24] Reading Project40.treated.template.xlsx with load_templates_xlsx
INFO [2025-04-21 19:30:24] Loading Project40.treated.template.xlsx
INFO [2025-04-21 19:30:24] Loading Project40.untreated.template.xlsx
INFO [2025-04-21 19:30:24] Templates loaded successfully!
INFO [2025-04-21 19:30:24] Reading file /Library/Frameworks/R.framework/Versions/4.5-arm64/Resources/library/gDRimport/extdata/data4/H0109269D00.csv, sheet 0
INFO [2025-04-21 19:30:24] Plate H0109269D00 read; 384 wells
INFO [2025-04-21 19:30:24] File done
INFO [2025-04-21 19:30:24] Reading file /Library/Frameworks/R.framework/Versions/4.5-arm64/Resources/library/gDRimport/extdata/data4/H0109269D01.csv, sheet 0
INFO [2025-04-21 19:30:24] Plate H0109269D01 read; 384 wells
INFO [2025-04-21 19:30:24] File done
INFO [2025-04-21 19:30:24] Reading file /Library/Frameworks/R.framework/Versions/4.5-arm64/Resources/library/gDRimport/extdata/data4/H0309269D00.csv, sheet 0
INFO [2025-04-21 19:30:24] Plate H0309269D00 read; 384 wells
INFO [2025-04-21 19:30:24] File done
INFO [2025-04-21 19:30:24] Reading file /Library/Frameworks/R.framework/Versions/4.5-arm64/Resources/library/gDRimport/extdata/data4/H0309269D01.csv, sheet 0
INFO [2025-04-21 19:30:24] Plate H0309269D01 read; 384 wells
INFO [2025-04-21 19:30:24] File done
INFO [2025-04-21 19:30:24] Reading file /Library/Frameworks/R.framework/Versions/4.5-arm64/Resources/library/gDRimport/extdata/data4/H0409269D00.csv, sheet 0
INFO [2025-04-21 19:30:24] Plate H0409269D00 read; 384 wells
INFO [2025-04-21 19:30:24] File done
INFO [2025-04-21 19:30:24] Reading file /Library/Frameworks/R.framework/Versions/4.5-arm64/Resources/library/gDRimport/extdata/data4/H0409269D01.csv, sheet 0
INFO [2025-04-21 19:30:24] Plate H0409269D01 read; 384 wells
INFO [2025-04-21 19:30:24] File done
INFO [2025-04-21 19:30:24] Reading file /Library/Frameworks/R.framework/Versions/4.5-arm64/Resources/library/gDRimport/extdata/data4/H0509269D00.csv, sheet 0
INFO [2025-04-21 19:30:24] Plate H0509269D00 read; 384 wells
INFO [2025-04-21 19:30:24] File done
INFO [2025-04-21 19:30:24] Reading file /Library/Frameworks/R.framework/Versions/4.5-arm64/Resources/library/gDRimport/extdata/data4/H0509269D01.csv, sheet 0
INFO [2025-04-21 19:30:24] Plate H0509269D01 read; 384 wells
INFO [2025-04-21 19:30:24] File done
INFO [2025-04-21 19:30:24] Reading file /Library/Frameworks/R.framework/Versions/4.5-arm64/Resources/library/gDRimport/extdata/data4/H0609269D00.csv, sheet 0
INFO [2025-04-21 19:30:24] Plate H0609269D00 read; 384 wells
INFO [2025-04-21 19:30:24] File done
INFO [2025-04-21 19:30:24] Reading file /Library/Frameworks/R.framework/Versions/4.5-arm64/Resources/library/gDRimport/extdata/data4/H0609269D01.csv, sheet 0
INFO [2025-04-21 19:30:24] Plate H0609269D01 read; 384 wells
INFO [2025-04-21 19:30:24] File done
INFO [2025-04-21 19:30:24] Reading file /Library/Frameworks/R.framework/Versions/4.5-arm64/Resources/library/gDRimport/extdata/data4/H0709269D00.csv, sheet 0
INFO [2025-04-21 19:30:24] Plate H0709269D00 read; 384 wells
INFO [2025-04-21 19:30:24] File done
INFO [2025-04-21 19:30:24] Reading file /Library/Frameworks/R.framework/Versions/4.5-arm64/Resources/library/gDRimport/extdata/data4/H0709269D01.csv, sheet 0
INFO [2025-04-21 19:30:24] Plate H0709269D01 read; 384 wells
INFO [2025-04-21 19:30:24] File done
INFO [2025-04-21 19:30:24] Reading file /Library/Frameworks/R.framework/Versions/4.5-arm64/Resources/library/gDRimport/extdata/data4/H0809269D00.csv, sheet 0
INFO [2025-04-21 19:30:24] Plate H0809269D00 read; 384 wells
INFO [2025-04-21 19:30:24] File done
INFO [2025-04-21 19:30:24] Reading file /Library/Frameworks/R.framework/Versions/4.5-arm64/Resources/library/gDRimport/extdata/data4/H0809269D01.csv, sheet 0
INFO [2025-04-21 19:30:24] Plate H0809269D01 read; 384 wells
INFO [2025-04-21 19:30:24] File done
INFO [2025-04-21 19:30:24] Reading file /Library/Frameworks/R.framework/Versions/4.5-arm64/Resources/library/gDRimport/extdata/data4/H0909269D00.csv, sheet 0
INFO [2025-04-21 19:30:24] Plate H0909269D00 read; 384 wells
INFO [2025-04-21 19:30:24] File done
INFO [2025-04-21 19:30:24] Reading file /Library/Frameworks/R.framework/Versions/4.5-arm64/Resources/library/gDRimport/extdata/data4/H0909269D01.csv, sheet 0
INFO [2025-04-21 19:30:24] Plate H0909269D01 read; 384 wells
INFO [2025-04-21 19:30:24] File done
INFO [2025-04-21 19:30:24] Reading file /Library/Frameworks/R.framework/Versions/4.5-arm64/Resources/library/gDRimport/extdata/data4/H1109269D00.csv, sheet 0
INFO [2025-04-21 19:30:24] Plate H1109269D00 read; 384 wells
INFO [2025-04-21 19:30:24] File done
INFO [2025-04-21 19:30:24] Reading file /Library/Frameworks/R.framework/Versions/4.5-arm64/Resources/library/gDRimport/extdata/data4/H1109269D01.csv, sheet 0
INFO [2025-04-21 19:30:24] Plate H1109269D01 read; 384 wells
INFO [2025-04-21 19:30:24] File done
INFO [2025-04-21 19:30:24] Reading file /Library/Frameworks/R.framework/Versions/4.5-arm64/Resources/library/gDRimport/extdata/data4/H1209269D00.csv, sheet 0
INFO [2025-04-21 19:30:24] Plate H1209269D00 read; 384 wells
INFO [2025-04-21 19:30:24] File done
INFO [2025-04-21 19:30:24] Reading file /Library/Frameworks/R.framework/Versions/4.5-arm64/Resources/library/gDRimport/extdata/data4/H1209269D01.csv, sheet 0
INFO [2025-04-21 19:30:24] Plate H1209269D01 read; 384 wells
INFO [2025-04-21 19:30:24] File done
INFO [2025-04-21 19:30:24] Reading file /Library/Frameworks/R.framework/Versions/4.5-arm64/Resources/library/gDRimport/extdata/data4/H1409269D00.csv, sheet 0
INFO [2025-04-21 19:30:24] Plate H1409269D00 read; 384 wells
INFO [2025-04-21 19:30:24] File done
INFO [2025-04-21 19:30:24] Reading file /Library/Frameworks/R.framework/Versions/4.5-arm64/Resources/library/gDRimport/extdata/data4/H1409269D01.csv, sheet 0
INFO [2025-04-21 19:30:24] Plate H1409269D01 read; 384 wells
INFO [2025-04-21 19:30:24] File done
INFO [2025-04-21 19:30:24] Reading file /Library/Frameworks/R.framework/Versions/4.5-arm64/Resources/library/gDRimport/extdata/data4/K0209269D00.csv, sheet 0
INFO [2025-04-21 19:30:24] Plate K0209269D00 read; 384 wells
INFO [2025-04-21 19:30:24] File done
INFO [2025-04-21 19:30:24] Reading file /Library/Frameworks/R.framework/Versions/4.5-arm64/Resources/library/gDRimport/extdata/data4/K0209269D01.csv, sheet 0
INFO [2025-04-21 19:30:24] Plate K0209269D01 read; 384 wells
INFO [2025-04-21 19:30:24] File done
INFO [2025-04-21 19:30:24] Reading file /Library/Frameworks/R.framework/Versions/4.5-arm64/Resources/library/gDRimport/extdata/data4/K0809269D00.csv, sheet 0
INFO [2025-04-21 19:30:24] Plate K0809269D00 read; 384 wells
INFO [2025-04-21 19:30:24] File done
INFO [2025-04-21 19:30:24] Reading file /Library/Frameworks/R.framework/Versions/4.5-arm64/Resources/library/gDRimport/extdata/data4/K0809269D01.csv, sheet 0
INFO [2025-04-21 19:30:24] Plate K0809269D01 read; 384 wells
INFO [2025-04-21 19:30:24] File done
INFO [2025-04-21 19:30:24] Reading file /Library/Frameworks/R.framework/Versions/4.5-arm64/Resources/library/gDRimport/extdata/data4/K1009269D00.csv, sheet 0
INFO [2025-04-21 19:30:24] Plate K1009269D00 read; 384 wells
INFO [2025-04-21 19:30:24] File done
INFO [2025-04-21 19:30:24] Reading file /Library/Frameworks/R.framework/Versions/4.5-arm64/Resources/library/gDRimport/extdata/data4/K1009269D01.csv, sheet 0
INFO [2025-04-21 19:30:24] Plate K1009269D01 read; 384 wells
INFO [2025-04-21 19:30:24] File done
INFO [2025-04-21 19:30:24] Manifest loaded successfully
INFO [2025-04-21 19:30:24] Reading Template_7daytreated.xlsx with load_templates_xlsx
INFO [2025-04-21 19:30:24] Loading Template_7daytreated.xlsx
INFO [2025-04-21 19:30:24] Loading Template_Untreated.xlsx
INFO [2025-04-21 19:30:24] Templates loaded successfully!
INFO [2025-04-21 19:30:24] Manifest loaded successfully
INFO [2025-04-21 19:30:24] Reading Template_7daytreated.xlsx with load_templates_xlsx
INFO [2025-04-21 19:30:24] Loading Template_7daytreated.xlsx
INFO [2025-04-21 19:30:24] Loading Template_Untreated.xlsx
INFO [2025-04-21 19:30:24] Templates loaded successfully!
INFO [2025-04-21 19:30:24] Manifest loaded successfully
INFO [2025-04-21 19:30:24] Reading Template_trt.tsv with load_templates_tsv
INFO [2025-04-21 19:30:24] Loading Template_trt.tsv
INFO [2025-04-21 19:30:24] Loading Template_untrt.tsv
INFO [2025-04-21 19:30:24] Templates loaded successfully!
INFO [2025-04-21 19:30:24] Reading file /Library/Frameworks/R.framework/Versions/4.5-arm64/Resources/library/gDRimport/extdata/data5/RawData.tsv
WARN [2025-04-21 19:30:25] Metadata field names for cannot contain spaces --> corrected to: Gnumber
WARN [2025-04-21 19:30:25] Header Gnumber in corrected to Gnumber
[ FAIL 0 | WARN 0 | SKIP 0 | PASS 157 ]
>
>
> proc.time()
user system elapsed
17.102 1.114 16.370
gDRimport.Rcheck/gDRimport-Ex.timings
| name | user | system | elapsed | |
| check_metadata_names | 0.057 | 0.005 | 0.062 | |
| convert_LEVEL5_prism_to_gDR_input | 0.007 | 0.001 | 0.008 | |
| convert_LEVEL6_prism_to_gDR_input | 0.007 | 0.001 | 0.009 | |
| convert_MAE_to_PSet | 3.223 | 0.073 | 3.314 | |
| convert_pset_to_df | 0.074 | 0.010 | 0.068 | |
| detect_file_format | 0.147 | 0.027 | 0.091 | |
| getPSet | 0.070 | 0.013 | 0.043 | |
| get_exception_data | 0.006 | 0.001 | 0.004 | |
| get_test_D300_data | 0.001 | 0.001 | 0.001 | |
| get_test_EnVision_data | 0.001 | 0.000 | 0.001 | |
| get_test_Tecan_data | 0.000 | 0.000 | 0.001 | |
| get_test_data | 0.001 | 0.000 | 0.001 | |
| get_test_tsv_data | 0.001 | 0.000 | 0.001 | |
| import_D300 | 0.937 | 0.198 | 0.894 | |
| is_readable_v | 0.000 | 0.001 | 0.001 | |
| load_data | 0.339 | 0.023 | 0.363 | |
| load_manifest | 0.026 | 0.002 | 0.014 | |
| load_results | 0.477 | 0.022 | 0.315 | |
| load_templates | 0.100 | 0.022 | 0.075 | |
| manifest_path-method | 0.002 | 0.000 | 0.000 | |
| parse_D300_xml | 0.428 | 0.008 | 0.313 | |
| read_excel_to_dt | 0.011 | 0.004 | 0.008 | |
| result_path-method | 0.001 | 0.001 | 0.001 | |
| setEnvForPSet | 0.001 | 0.000 | 0.000 | |
| standardize_record_values | 0 | 0 | 0 | |
| template_path-method | 0.001 | 0.000 | 0.000 | |