| Back to Multiple platform build/check report for BioC 3.21: simplified long |
|
This page was generated on 2025-10-16 11:38 -0400 (Thu, 16 Oct 2025).
| Hostname | OS | Arch (*) | R version | Installed pkgs |
|---|---|---|---|---|
| nebbiolo1 | Linux (Ubuntu 24.04.3 LTS) | x86_64 | 4.5.1 (2025-06-13) -- "Great Square Root" | 4833 |
| merida1 | macOS 12.7.6 Monterey | x86_64 | 4.5.1 RC (2025-06-05 r88288) -- "Great Square Root" | 4614 |
| kjohnson1 | macOS 13.7.5 Ventura | arm64 | 4.5.1 Patched (2025-06-14 r88325) -- "Great Square Root" | 4555 |
| kunpeng2 | Linux (openEuler 24.03 LTS) | aarch64 | R Under development (unstable) (2025-02-19 r87757) -- "Unsuffered Consequences" | 4586 |
| Click on any hostname to see more info about the system (e.g. compilers) (*) as reported by 'uname -p', except on Windows and Mac OS X | ||||
| Package 794/2341 | Hostname | OS / Arch | INSTALL | BUILD | CHECK | BUILD BIN | ||||||||
| gDRimport 1.6.0 (landing page) Arkadiusz Gladki
| nebbiolo1 | Linux (Ubuntu 24.04.3 LTS) / x86_64 | OK | OK | OK | |||||||||
| merida1 | macOS 12.7.6 Monterey / x86_64 | OK | OK | OK | OK | |||||||||
| kjohnson1 | macOS 13.7.5 Ventura / arm64 | OK | OK | OK | OK | |||||||||
| kunpeng2 | Linux (openEuler 24.03 LTS) / aarch64 | OK | OK | OK | ||||||||||
|
To the developers/maintainers of the gDRimport package: - Allow up to 24 hours (and sometimes 48 hours) for your latest push to git@git.bioconductor.org:packages/gDRimport.git to reflect on this report. See Troubleshooting Build Report for more information. - Use the following Renviron settings to reproduce errors and warnings. - If 'R CMD check' started to fail recently on the Linux builder(s) over a missing dependency, add the missing dependency to 'Suggests:' in your DESCRIPTION file. See Renviron.bioc for more information. |
| Package: gDRimport |
| Version: 1.6.0 |
| Command: /home/biocbuild/bbs-3.21-bioc/R/bin/R CMD check --install=check:gDRimport.install-out.txt --library=/home/biocbuild/bbs-3.21-bioc/R/site-library --timings gDRimport_1.6.0.tar.gz |
| StartedAt: 2025-10-15 23:26:05 -0400 (Wed, 15 Oct 2025) |
| EndedAt: 2025-10-15 23:29:49 -0400 (Wed, 15 Oct 2025) |
| EllapsedTime: 223.3 seconds |
| RetCode: 0 |
| Status: OK |
| CheckDir: gDRimport.Rcheck |
| Warnings: 0 |
##############################################################################
##############################################################################
###
### Running command:
###
### /home/biocbuild/bbs-3.21-bioc/R/bin/R CMD check --install=check:gDRimport.install-out.txt --library=/home/biocbuild/bbs-3.21-bioc/R/site-library --timings gDRimport_1.6.0.tar.gz
###
##############################################################################
##############################################################################
* using log directory ‘/home/biocbuild/bbs-3.21-bioc/meat/gDRimport.Rcheck’
* using R version 4.5.1 (2025-06-13)
* using platform: x86_64-pc-linux-gnu
* R was compiled by
gcc (Ubuntu 13.3.0-6ubuntu2~24.04) 13.3.0
GNU Fortran (Ubuntu 13.3.0-6ubuntu2~24.04) 13.3.0
* running under: Ubuntu 24.04.3 LTS
* using session charset: UTF-8
* checking for file ‘gDRimport/DESCRIPTION’ ... OK
* checking extension type ... Package
* this is package ‘gDRimport’ version ‘1.6.0’
* package encoding: UTF-8
* checking package namespace information ... OK
* checking package dependencies ... OK
* checking if this is a source package ... OK
* checking if there is a namespace ... OK
* checking for hidden files and directories ... OK
* checking for portable file names ... OK
* checking for sufficient/correct file permissions ... OK
* checking whether package ‘gDRimport’ can be installed ... OK
* checking installed package size ... OK
* checking package directory ... OK
* checking ‘build’ directory ... OK
* checking DESCRIPTION meta-information ... OK
* checking top-level files ... OK
* checking for left-over files ... OK
* checking index information ... OK
* checking package subdirectories ... OK
* checking code files for non-ASCII characters ... OK
* checking R files for syntax errors ... OK
* checking whether the package can be loaded ... OK
* checking whether the package can be loaded with stated dependencies ... OK
* checking whether the package can be unloaded cleanly ... OK
* checking whether the namespace can be loaded with stated dependencies ... OK
* checking whether the namespace can be unloaded cleanly ... OK
* checking loading without being on the library search path ... OK
* checking dependencies in R code ... OK
* checking S3 generic/method consistency ... OK
* checking replacement functions ... OK
* checking foreign function calls ... OK
* checking R code for possible problems ... OK
* checking Rd files ... OK
* checking Rd metadata ... OK
* checking Rd cross-references ... OK
* checking for missing documentation entries ... OK
* checking for code/documentation mismatches ... OK
* checking Rd \usage sections ... OK
* checking Rd contents ... OK
* checking for unstated dependencies in examples ... OK
* checking files in ‘vignettes’ ... OK
* checking examples ... OK
Examples with CPU (user + system) or elapsed time > 5s
user system elapsed
convert_MAE_to_PSet 7.982 0.387 8.369
* checking for unstated dependencies in ‘tests’ ... OK
* checking tests ...
Running ‘testthat.R’
OK
* checking for unstated dependencies in vignettes ... OK
* checking package vignettes ... OK
* checking re-building of vignette outputs ... OK
* checking PDF version of manual ... OK
* DONE
Status: OK
gDRimport.Rcheck/00install.out
############################################################################## ############################################################################## ### ### Running command: ### ### /home/biocbuild/bbs-3.21-bioc/R/bin/R CMD INSTALL gDRimport ### ############################################################################## ############################################################################## * installing to library ‘/home/biocbuild/bbs-3.21-bioc/R/site-library’ * installing *source* package ‘gDRimport’ ... ** this is package ‘gDRimport’ version ‘1.6.0’ ** using staged installation ** R ** inst ** byte-compile and prepare package for lazy loading ** help *** installing help indices ** building package indices ** installing vignettes ** testing if installed package can be loaded from temporary location ** testing if installed package can be loaded from final location ** testing if installed package keeps a record of temporary installation path * DONE (gDRimport)
gDRimport.Rcheck/tests/testthat.Rout
R version 4.5.1 (2025-06-13) -- "Great Square Root"
Copyright (C) 2025 The R Foundation for Statistical Computing
Platform: x86_64-pc-linux-gnu
R is free software and comes with ABSOLUTELY NO WARRANTY.
You are welcome to redistribute it under certain conditions.
Type 'license()' or 'licence()' for distribution details.
R is a collaborative project with many contributors.
Type 'contributors()' for more information and
'citation()' on how to cite R or R packages in publications.
Type 'demo()' for some demos, 'help()' for on-line help, or
'help.start()' for an HTML browser interface to help.
Type 'q()' to quit R.
> library(testthat)
> library(gDRimport)
>
> test_check("gDRimport")
2025-10-15 23:28:43 Building assay index...
2025-10-15 23:28:43 Joining rowData to assayIndex...
2025-10-15 23:28:44 Joining colData to assayIndex...
2025-10-15 23:28:44 Joining assays to assayIndex...
2025-10-15 23:28:46 Setting assayIndex key...
2025-10-15 23:28:47 Building LongTable...
2025-10-15 23:28:47 Building assay index...
2025-10-15 23:28:47 Joining rowData to assayIndex...
2025-10-15 23:28:48 Joining colData to assayIndex...
2025-10-15 23:28:49 Joining assays to assayIndex...
2025-10-15 23:28:50 Setting assayIndex key...
2025-10-15 23:28:51 Building LongTable...
INFO [2025-10-15 23:28:52] Manifest loaded successfully
INFO [2025-10-15 23:28:52] Manifest loaded successfully
INFO [2025-10-15 23:28:52] Reading file /home/biocbuild/bbs-3.21-bioc/R/site-library/gDRimport/extdata/data1/RawData_day0.xlsx, sheet Readout_0077vs0068_day7
INFO [2025-10-15 23:28:52] Plate 201904190a read; 384 wells
INFO [2025-10-15 23:28:52] Plate 201904190b read; 384 wells
INFO [2025-10-15 23:28:52] Plate 201904190c read; 384 wells
INFO [2025-10-15 23:28:52] Plate 201904190d read; 384 wells
INFO [2025-10-15 23:28:52] Plate 201904190e read; 384 wells
INFO [2025-10-15 23:28:52] Plate 201904190f read; 384 wells
INFO [2025-10-15 23:28:52] File done
INFO [2025-10-15 23:28:52] Reading file /home/biocbuild/bbs-3.21-bioc/R/site-library/gDRimport/extdata/data1/RawData_day7.xlsx, sheet Readout_0077vs0068_day7
INFO [2025-10-15 23:28:52] Plate 201904197a read; 384 wells
INFO [2025-10-15 23:28:52] Plate 201904197b read; 384 wells
INFO [2025-10-15 23:28:52] Plate 201904197c read; 384 wells
INFO [2025-10-15 23:28:52] Plate 201904197d read; 384 wells
INFO [2025-10-15 23:28:52] Plate 201904197e read; 384 wells
INFO [2025-10-15 23:28:52] Plate 201904197f read; 384 wells
INFO [2025-10-15 23:28:52] File done
INFO [2025-10-15 23:28:52] Reading file /home/biocbuild/bbs-3.21-bioc/R/site-library/gDRimport/extdata/data1/RawData_day0.xlsx, sheet Readout_0077vs0068_day7
INFO [2025-10-15 23:28:53] Plate 201904190a read; 384 wells
INFO [2025-10-15 23:28:53] Plate 201904190b read; 384 wells
INFO [2025-10-15 23:28:53] Plate 201904190c read; 384 wells
INFO [2025-10-15 23:28:53] Plate 201904190d read; 384 wells
INFO [2025-10-15 23:28:53] Plate 201904190e read; 384 wells
INFO [2025-10-15 23:28:53] Plate 201904190f read; 384 wells
INFO [2025-10-15 23:28:53] File done
INFO [2025-10-15 23:28:53] Reading file /home/biocbuild/bbs-3.21-bioc/R/site-library/gDRimport/extdata/data1/RawData_day7.xlsx, sheet Readout_0077vs0068_day7
INFO [2025-10-15 23:28:53] Plate 201904197a read; 384 wells
INFO [2025-10-15 23:28:53] Plate 201904197b read; 384 wells
INFO [2025-10-15 23:28:53] Plate 201904197c read; 384 wells
INFO [2025-10-15 23:28:53] Plate 201904197d read; 384 wells
INFO [2025-10-15 23:28:53] Plate 201904197e read; 384 wells
INFO [2025-10-15 23:28:53] Plate 201904197f read; 384 wells
INFO [2025-10-15 23:28:53] File done
INFO [2025-10-15 23:28:53] Reading file /home/biocbuild/bbs-3.21-bioc/R/site-library/gDRimport/extdata/data1/RawData_day0.xlsx, sheet Readout_0077vs0068_day7
INFO [2025-10-15 23:28:53] Plate 201904190a read; 384 wells
INFO [2025-10-15 23:28:53] Plate 201904190b read; 384 wells
INFO [2025-10-15 23:28:53] Plate 201904190c read; 384 wells
INFO [2025-10-15 23:28:53] Plate 201904190d read; 384 wells
INFO [2025-10-15 23:28:53] Plate 201904190e read; 384 wells
INFO [2025-10-15 23:28:53] Plate 201904190f read; 384 wells
INFO [2025-10-15 23:28:53] File done
INFO [2025-10-15 23:28:54] Reading file /home/biocbuild/bbs-3.21-bioc/R/site-library/gDRimport/extdata/data2/RawData_Tecan_96_well_plates.xlsx, sheet H2122-2
INFO [2025-10-15 23:28:54] Reading file /home/biocbuild/bbs-3.21-bioc/R/site-library/gDRimport/extdata/data2/RawData_Tecan_96_well_plates.xlsx, sheet H358-2
INFO [2025-10-15 23:28:54] Reading file /home/biocbuild/bbs-3.21-bioc/R/site-library/gDRimport/extdata/data2/RawData_Tecan_96_well_plates.xlsx, sheet H358-1
INFO [2025-10-15 23:28:54] Reading file /home/biocbuild/bbs-3.21-bioc/R/site-library/gDRimport/extdata/data2/RawData_Tecan_96_well_plates.xlsx, sheet H2122-1
INFO [2025-10-15 23:28:54] Reading Template_7daytreated.xlsx with load_templates_xlsx
INFO [2025-10-15 23:28:54] Loading Template_7daytreated.xlsx
INFO [2025-10-15 23:28:54] Loading Template_Untreated.xlsx
INFO [2025-10-15 23:28:54] Templates loaded successfully!
INFO [2025-10-15 23:28:54] Reading Template_7daytreated.xlsx with load_templates_xlsx
INFO [2025-10-15 23:28:54] Loading Template_7daytreated.xlsx
INFO [2025-10-15 23:28:54] Loading Template_Untreated.xlsx
INFO [2025-10-15 23:28:55] Templates loaded successfully!
INFO [2025-10-15 23:28:55] Reading D300_trt_Tecan_96_well_plates.xlsx with load_templates_xlsx
INFO [2025-10-15 23:28:55] Loading D300_trt_Tecan_96_well_plates.xlsx
INFO [2025-10-15 23:28:55] Templates loaded successfully!
INFO [2025-10-15 23:28:55] Reading Template_7daytreated.xlsx with load_templates_xlsx
INFO [2025-10-15 23:28:55] Loading Template_7daytreated.xlsx
INFO [2025-10-15 23:28:55] Templates loaded successfully!
INFO [2025-10-15 23:28:55] Manifest loaded successfully
INFO [2025-10-15 23:28:55] Reading Template_7daytreated.xlsx with load_templates_xlsx
INFO [2025-10-15 23:28:55] Loading Template_7daytreated.xlsx
INFO [2025-10-15 23:28:55] Loading Template_Untreated.xlsx
INFO [2025-10-15 23:28:55] Templates loaded successfully!
INFO [2025-10-15 23:28:55] Reading file /home/biocbuild/bbs-3.21-bioc/R/site-library/gDRimport/extdata/data1/RawData_day0.xlsx, sheet Readout_0077vs0068_day7
INFO [2025-10-15 23:28:55] Plate 201904190a read; 384 wells
INFO [2025-10-15 23:28:55] Plate 201904190b read; 384 wells
INFO [2025-10-15 23:28:55] Plate 201904190c read; 384 wells
INFO [2025-10-15 23:28:55] Plate 201904190d read; 384 wells
INFO [2025-10-15 23:28:55] Plate 201904190e read; 384 wells
INFO [2025-10-15 23:28:55] Plate 201904190f read; 384 wells
INFO [2025-10-15 23:28:55] File done
INFO [2025-10-15 23:28:55] Reading file /home/biocbuild/bbs-3.21-bioc/R/site-library/gDRimport/extdata/data1/RawData_day7.xlsx, sheet Readout_0077vs0068_day7
INFO [2025-10-15 23:28:56] Plate 201904197a read; 384 wells
INFO [2025-10-15 23:28:56] Plate 201904197b read; 384 wells
INFO [2025-10-15 23:28:56] Plate 201904197c read; 384 wells
INFO [2025-10-15 23:28:56] Plate 201904197d read; 384 wells
INFO [2025-10-15 23:28:56] Plate 201904197e read; 384 wells
INFO [2025-10-15 23:28:56] Plate 201904197f read; 384 wells
INFO [2025-10-15 23:28:56] File done
INFO [2025-10-15 23:28:56] Manifest loaded successfully
INFO [2025-10-15 23:28:56] Reading D300_trt_Tecan_96_well_plates.xlsx with load_templates_xlsx
INFO [2025-10-15 23:28:56] Loading D300_trt_Tecan_96_well_plates.xlsx
INFO [2025-10-15 23:28:56] Templates loaded successfully!
INFO [2025-10-15 23:28:56] Reading file /home/biocbuild/bbs-3.21-bioc/R/site-library/gDRimport/extdata/data2/RawData_Tecan_96_well_plates.xlsx, sheet H2122-2
INFO [2025-10-15 23:28:56] Reading file /home/biocbuild/bbs-3.21-bioc/R/site-library/gDRimport/extdata/data2/RawData_Tecan_96_well_plates.xlsx, sheet H358-2
INFO [2025-10-15 23:28:56] Reading file /home/biocbuild/bbs-3.21-bioc/R/site-library/gDRimport/extdata/data2/RawData_Tecan_96_well_plates.xlsx, sheet H358-1
INFO [2025-10-15 23:28:56] Reading file /home/biocbuild/bbs-3.21-bioc/R/site-library/gDRimport/extdata/data2/RawData_Tecan_96_well_plates.xlsx, sheet H2122-1
INFO [2025-10-15 23:28:56] Manifest loaded successfully
INFO [2025-10-15 23:28:56] Reading Project40.treated.template.xlsx with load_templates_xlsx
INFO [2025-10-15 23:28:56] Loading Project40.treated.template.xlsx
INFO [2025-10-15 23:28:57] Loading Project40.untreated.template.xlsx
INFO [2025-10-15 23:28:57] Templates loaded successfully!
INFO [2025-10-15 23:28:57] Reading file /home/biocbuild/bbs-3.21-bioc/R/site-library/gDRimport/extdata/data4/H0109269D00.csv, sheet 0
INFO [2025-10-15 23:28:57] Plate H0109269D00 read; 384 wells
INFO [2025-10-15 23:28:57] File done
INFO [2025-10-15 23:28:57] Reading file /home/biocbuild/bbs-3.21-bioc/R/site-library/gDRimport/extdata/data4/H0109269D01.csv, sheet 0
INFO [2025-10-15 23:28:57] Plate H0109269D01 read; 384 wells
INFO [2025-10-15 23:28:57] File done
INFO [2025-10-15 23:28:57] Reading file /home/biocbuild/bbs-3.21-bioc/R/site-library/gDRimport/extdata/data4/H0309269D00.csv, sheet 0
INFO [2025-10-15 23:28:57] Plate H0309269D00 read; 384 wells
INFO [2025-10-15 23:28:57] File done
INFO [2025-10-15 23:28:57] Reading file /home/biocbuild/bbs-3.21-bioc/R/site-library/gDRimport/extdata/data4/H0309269D01.csv, sheet 0
INFO [2025-10-15 23:28:57] Plate H0309269D01 read; 384 wells
INFO [2025-10-15 23:28:57] File done
INFO [2025-10-15 23:28:57] Reading file /home/biocbuild/bbs-3.21-bioc/R/site-library/gDRimport/extdata/data4/H0409269D00.csv, sheet 0
INFO [2025-10-15 23:28:57] Plate H0409269D00 read; 384 wells
INFO [2025-10-15 23:28:57] File done
INFO [2025-10-15 23:28:57] Reading file /home/biocbuild/bbs-3.21-bioc/R/site-library/gDRimport/extdata/data4/H0409269D01.csv, sheet 0
INFO [2025-10-15 23:28:57] Plate H0409269D01 read; 384 wells
INFO [2025-10-15 23:28:57] File done
INFO [2025-10-15 23:28:57] Reading file /home/biocbuild/bbs-3.21-bioc/R/site-library/gDRimport/extdata/data4/H0509269D00.csv, sheet 0
INFO [2025-10-15 23:28:57] Plate H0509269D00 read; 384 wells
INFO [2025-10-15 23:28:57] File done
INFO [2025-10-15 23:28:57] Reading file /home/biocbuild/bbs-3.21-bioc/R/site-library/gDRimport/extdata/data4/H0509269D01.csv, sheet 0
INFO [2025-10-15 23:28:57] Plate H0509269D01 read; 384 wells
INFO [2025-10-15 23:28:57] File done
INFO [2025-10-15 23:28:57] Reading file /home/biocbuild/bbs-3.21-bioc/R/site-library/gDRimport/extdata/data4/H0609269D00.csv, sheet 0
INFO [2025-10-15 23:28:57] Plate H0609269D00 read; 384 wells
INFO [2025-10-15 23:28:57] File done
INFO [2025-10-15 23:28:57] Reading file /home/biocbuild/bbs-3.21-bioc/R/site-library/gDRimport/extdata/data4/H0609269D01.csv, sheet 0
INFO [2025-10-15 23:28:57] Plate H0609269D01 read; 384 wells
INFO [2025-10-15 23:28:57] File done
INFO [2025-10-15 23:28:57] Reading file /home/biocbuild/bbs-3.21-bioc/R/site-library/gDRimport/extdata/data4/H0709269D00.csv, sheet 0
INFO [2025-10-15 23:28:57] Plate H0709269D00 read; 384 wells
INFO [2025-10-15 23:28:57] File done
INFO [2025-10-15 23:28:57] Reading file /home/biocbuild/bbs-3.21-bioc/R/site-library/gDRimport/extdata/data4/H0709269D01.csv, sheet 0
INFO [2025-10-15 23:28:57] Plate H0709269D01 read; 384 wells
INFO [2025-10-15 23:28:57] File done
INFO [2025-10-15 23:28:57] Reading file /home/biocbuild/bbs-3.21-bioc/R/site-library/gDRimport/extdata/data4/H0809269D00.csv, sheet 0
INFO [2025-10-15 23:28:57] Plate H0809269D00 read; 384 wells
INFO [2025-10-15 23:28:57] File done
INFO [2025-10-15 23:28:57] Reading file /home/biocbuild/bbs-3.21-bioc/R/site-library/gDRimport/extdata/data4/H0809269D01.csv, sheet 0
INFO [2025-10-15 23:28:57] Plate H0809269D01 read; 384 wells
INFO [2025-10-15 23:28:57] File done
INFO [2025-10-15 23:28:57] Reading file /home/biocbuild/bbs-3.21-bioc/R/site-library/gDRimport/extdata/data4/H0909269D00.csv, sheet 0
INFO [2025-10-15 23:28:57] Plate H0909269D00 read; 384 wells
INFO [2025-10-15 23:28:57] File done
INFO [2025-10-15 23:28:57] Reading file /home/biocbuild/bbs-3.21-bioc/R/site-library/gDRimport/extdata/data4/H0909269D01.csv, sheet 0
INFO [2025-10-15 23:28:57] Plate H0909269D01 read; 384 wells
INFO [2025-10-15 23:28:57] File done
INFO [2025-10-15 23:28:57] Reading file /home/biocbuild/bbs-3.21-bioc/R/site-library/gDRimport/extdata/data4/H1109269D00.csv, sheet 0
INFO [2025-10-15 23:28:57] Plate H1109269D00 read; 384 wells
INFO [2025-10-15 23:28:57] File done
INFO [2025-10-15 23:28:57] Reading file /home/biocbuild/bbs-3.21-bioc/R/site-library/gDRimport/extdata/data4/H1109269D01.csv, sheet 0
INFO [2025-10-15 23:28:57] Plate H1109269D01 read; 384 wells
INFO [2025-10-15 23:28:57] File done
INFO [2025-10-15 23:28:57] Reading file /home/biocbuild/bbs-3.21-bioc/R/site-library/gDRimport/extdata/data4/H1209269D00.csv, sheet 0
INFO [2025-10-15 23:28:57] Plate H1209269D00 read; 384 wells
INFO [2025-10-15 23:28:57] File done
INFO [2025-10-15 23:28:57] Reading file /home/biocbuild/bbs-3.21-bioc/R/site-library/gDRimport/extdata/data4/H1209269D01.csv, sheet 0
INFO [2025-10-15 23:28:57] Plate H1209269D01 read; 384 wells
INFO [2025-10-15 23:28:57] File done
INFO [2025-10-15 23:28:57] Reading file /home/biocbuild/bbs-3.21-bioc/R/site-library/gDRimport/extdata/data4/H1409269D00.csv, sheet 0
INFO [2025-10-15 23:28:57] Plate H1409269D00 read; 384 wells
INFO [2025-10-15 23:28:57] File done
INFO [2025-10-15 23:28:57] Reading file /home/biocbuild/bbs-3.21-bioc/R/site-library/gDRimport/extdata/data4/H1409269D01.csv, sheet 0
INFO [2025-10-15 23:28:57] Plate H1409269D01 read; 384 wells
INFO [2025-10-15 23:28:57] File done
INFO [2025-10-15 23:28:57] Reading file /home/biocbuild/bbs-3.21-bioc/R/site-library/gDRimport/extdata/data4/K0209269D00.csv, sheet 0
INFO [2025-10-15 23:28:57] Plate K0209269D00 read; 384 wells
INFO [2025-10-15 23:28:57] File done
INFO [2025-10-15 23:28:57] Reading file /home/biocbuild/bbs-3.21-bioc/R/site-library/gDRimport/extdata/data4/K0209269D01.csv, sheet 0
INFO [2025-10-15 23:28:57] Plate K0209269D01 read; 384 wells
INFO [2025-10-15 23:28:57] File done
INFO [2025-10-15 23:28:57] Reading file /home/biocbuild/bbs-3.21-bioc/R/site-library/gDRimport/extdata/data4/K0809269D00.csv, sheet 0
INFO [2025-10-15 23:28:57] Plate K0809269D00 read; 384 wells
INFO [2025-10-15 23:28:57] File done
INFO [2025-10-15 23:28:57] Reading file /home/biocbuild/bbs-3.21-bioc/R/site-library/gDRimport/extdata/data4/K0809269D01.csv, sheet 0
INFO [2025-10-15 23:28:57] Plate K0809269D01 read; 384 wells
INFO [2025-10-15 23:28:57] File done
INFO [2025-10-15 23:28:57] Reading file /home/biocbuild/bbs-3.21-bioc/R/site-library/gDRimport/extdata/data4/K1009269D00.csv, sheet 0
INFO [2025-10-15 23:28:57] Plate K1009269D00 read; 384 wells
INFO [2025-10-15 23:28:57] File done
INFO [2025-10-15 23:28:57] Reading file /home/biocbuild/bbs-3.21-bioc/R/site-library/gDRimport/extdata/data4/K1009269D01.csv, sheet 0
INFO [2025-10-15 23:28:57] Plate K1009269D01 read; 384 wells
INFO [2025-10-15 23:28:57] File done
INFO [2025-10-15 23:28:57] Manifest loaded successfully
INFO [2025-10-15 23:28:57] Reading Template_7daytreated.xlsx with load_templates_xlsx
INFO [2025-10-15 23:28:57] Loading Template_7daytreated.xlsx
INFO [2025-10-15 23:28:57] Loading Template_Untreated.xlsx
INFO [2025-10-15 23:28:57] Templates loaded successfully!
INFO [2025-10-15 23:28:57] Manifest loaded successfully
INFO [2025-10-15 23:28:57] Reading Template_7daytreated.xlsx with load_templates_xlsx
INFO [2025-10-15 23:28:57] Loading Template_7daytreated.xlsx
INFO [2025-10-15 23:28:58] Loading Template_Untreated.xlsx
INFO [2025-10-15 23:28:58] Templates loaded successfully!
INFO [2025-10-15 23:28:58] Manifest loaded successfully
INFO [2025-10-15 23:28:58] Reading Template_trt.tsv with load_templates_tsv
INFO [2025-10-15 23:28:58] Loading Template_trt.tsv
INFO [2025-10-15 23:28:58] Loading Template_untrt.tsv
INFO [2025-10-15 23:28:58] Templates loaded successfully!
INFO [2025-10-15 23:28:58] Reading file /home/biocbuild/bbs-3.21-bioc/R/site-library/gDRimport/extdata/data5/RawData.tsv
WARN [2025-10-15 23:28:59] Metadata field names for cannot contain spaces --> corrected to: Gnumber
WARN [2025-10-15 23:28:59] Header Gnumber in corrected to Gnumber
[ FAIL 0 | WARN 0 | SKIP 0 | PASS 157 ]
>
>
> proc.time()
user system elapsed
41.504 1.384 42.669
gDRimport.Rcheck/gDRimport-Ex.timings
| name | user | system | elapsed | |
| check_metadata_names | 0.059 | 0.006 | 0.065 | |
| convert_LEVEL5_prism_to_gDR_input | 0.021 | 0.001 | 0.022 | |
| convert_LEVEL6_prism_to_gDR_input | 0.020 | 0.006 | 0.026 | |
| convert_MAE_to_PSet | 7.982 | 0.387 | 8.369 | |
| convert_pset_to_df | 0.176 | 0.020 | 0.170 | |
| detect_file_format | 0.218 | 0.005 | 0.219 | |
| getPSet | 0.107 | 0.007 | 0.114 | |
| get_exception_data | 0.007 | 0.002 | 0.009 | |
| get_test_D300_data | 0.002 | 0.000 | 0.002 | |
| get_test_EnVision_data | 0.001 | 0.001 | 0.003 | |
| get_test_Tecan_data | 0.001 | 0.000 | 0.001 | |
| get_test_data | 0.002 | 0.001 | 0.003 | |
| get_test_tsv_data | 0.001 | 0.000 | 0.002 | |
| import_D300 | 2.307 | 0.068 | 2.368 | |
| is_readable_v | 0.002 | 0.000 | 0.002 | |
| load_data | 1.134 | 0.018 | 1.152 | |
| load_manifest | 0.045 | 0.002 | 0.042 | |
| load_results | 0.832 | 0.022 | 0.853 | |
| load_templates | 0.177 | 0.009 | 0.180 | |
| manifest_path-method | 0.002 | 0.000 | 0.002 | |
| parse_D300_xml | 1.002 | 0.002 | 1.004 | |
| read_excel_to_dt | 0.016 | 0.003 | 0.015 | |
| result_path-method | 0.002 | 0.000 | 0.002 | |
| setEnvForPSet | 0.001 | 0.000 | 0.000 | |
| standardize_record_values | 0.001 | 0.000 | 0.000 | |
| template_path-method | 0.002 | 0.000 | 0.002 | |