| Back to Multiple platform build/check report for BioC 3.21: simplified long |
|
This page was generated on 2025-04-22 13:17 -0400 (Tue, 22 Apr 2025).
| Hostname | OS | Arch (*) | R version | Installed pkgs |
|---|---|---|---|---|
| nebbiolo1 | Linux (Ubuntu 24.04.1 LTS) | x86_64 | 4.5.0 RC (2025-04-04 r88126) -- "How About a Twenty-Six" | 4831 |
| palomino7 | Windows Server 2022 Datacenter | x64 | 4.5.0 RC (2025-04-04 r88126 ucrt) -- "How About a Twenty-Six" | 4573 |
| lconway | macOS 12.7.1 Monterey | x86_64 | 4.5.0 RC (2025-04-04 r88126) -- "How About a Twenty-Six" | 4599 |
| kjohnson3 | macOS 13.7.1 Ventura | arm64 | 4.5.0 RC (2025-04-04 r88126) -- "How About a Twenty-Six" | 4553 |
| kunpeng2 | Linux (openEuler 24.03 LTS) | aarch64 | R Under development (unstable) (2025-02-19 r87757) -- "Unsuffered Consequences" | 4570 |
| Click on any hostname to see more info about the system (e.g. compilers) (*) as reported by 'uname -p', except on Windows and Mac OS X | ||||
| Package 516/2341 | Hostname | OS / Arch | INSTALL | BUILD | CHECK | BUILD BIN | ||||||||
| dar 1.4.0 (landing page) Francesc Catala-Moll
| nebbiolo1 | Linux (Ubuntu 24.04.1 LTS) / x86_64 | OK | OK | OK | |||||||||
| palomino7 | Windows Server 2022 Datacenter / x64 | OK | OK | OK | OK | |||||||||
| lconway | macOS 12.7.1 Monterey / x86_64 | OK | OK | OK | OK | |||||||||
| kjohnson3 | macOS 13.7.1 Ventura / arm64 | OK | OK | OK | OK | |||||||||
| kunpeng2 | Linux (openEuler 24.03 LTS) / aarch64 | OK | OK | OK | ||||||||||
|
To the developers/maintainers of the dar package: - Allow up to 24 hours (and sometimes 48 hours) for your latest push to git@git.bioconductor.org:packages/dar.git to reflect on this report. See Troubleshooting Build Report for more information. - Use the following Renviron settings to reproduce errors and warnings. - If 'R CMD check' started to fail recently on the Linux builder(s) over a missing dependency, add the missing dependency to 'Suggests:' in your DESCRIPTION file. See Renviron.bioc for more information. |
| Package: dar |
| Version: 1.4.0 |
| Command: /Library/Frameworks/R.framework/Resources/bin/R CMD check --install=check:dar.install-out.txt --library=/Library/Frameworks/R.framework/Resources/library --no-vignettes --timings dar_1.4.0.tar.gz |
| StartedAt: 2025-04-21 18:59:11 -0400 (Mon, 21 Apr 2025) |
| EndedAt: 2025-04-21 19:03:24 -0400 (Mon, 21 Apr 2025) |
| EllapsedTime: 253.0 seconds |
| RetCode: 0 |
| Status: OK |
| CheckDir: dar.Rcheck |
| Warnings: 0 |
##############################################################################
##############################################################################
###
### Running command:
###
### /Library/Frameworks/R.framework/Resources/bin/R CMD check --install=check:dar.install-out.txt --library=/Library/Frameworks/R.framework/Resources/library --no-vignettes --timings dar_1.4.0.tar.gz
###
##############################################################################
##############################################################################
* using log directory ‘/Users/biocbuild/bbs-3.21-bioc/meat/dar.Rcheck’
* using R version 4.5.0 RC (2025-04-04 r88126)
* using platform: aarch64-apple-darwin20
* R was compiled by
Apple clang version 14.0.0 (clang-1400.0.29.202)
GNU Fortran (GCC) 14.2.0
* running under: macOS Ventura 13.7.1
* using session charset: UTF-8
* using option ‘--no-vignettes’
* checking for file ‘dar/DESCRIPTION’ ... OK
* this is package ‘dar’ version ‘1.4.0’
* package encoding: UTF-8
* checking package namespace information ... OK
* checking package dependencies ... INFO
Imports includes 21 non-default packages.
Importing from so many packages makes the package vulnerable to any of
them becoming unavailable. Move as many as possible to Suggests and
use conditionally.
* checking if this is a source package ... OK
* checking if there is a namespace ... OK
* checking for hidden files and directories ... OK
* checking for portable file names ... OK
* checking for sufficient/correct file permissions ... OK
* checking whether package ‘dar’ can be installed ... OK
* checking installed package size ... OK
* checking package directory ... OK
* checking ‘build’ directory ... OK
* checking DESCRIPTION meta-information ... OK
* checking top-level files ... OK
* checking for left-over files ... OK
* checking index information ... OK
* checking package subdirectories ... OK
* checking code files for non-ASCII characters ... OK
* checking R files for syntax errors ... OK
* checking whether the package can be loaded ... OK
* checking whether the package can be loaded with stated dependencies ... OK
* checking whether the package can be unloaded cleanly ... OK
* checking whether the namespace can be loaded with stated dependencies ... OK
* checking whether the namespace can be unloaded cleanly ... OK
* checking dependencies in R code ... OK
* checking S3 generic/method consistency ... OK
* checking replacement functions ... OK
* checking foreign function calls ... OK
* checking R code for possible problems ... OK
* checking Rd files ... OK
* checking Rd metadata ... OK
* checking Rd cross-references ... OK
* checking for missing documentation entries ... OK
* checking for code/documentation mismatches ... OK
* checking Rd \usage sections ... OK
* checking Rd contents ... OK
* checking for unstated dependencies in examples ... OK
* checking contents of ‘data’ directory ... OK
* checking data for non-ASCII characters ... OK
* checking data for ASCII and uncompressed saves ... OK
* checking R/sysdata.rda ... OK
* checking files in ‘vignettes’ ... OK
* checking examples ... OK
Examples with CPU (user + system) or elapsed time > 5s
user system elapsed
step_aldex 6.913 0.921 7.837
prep 0.660 0.030 12.771
import_steps 0.518 0.030 13.943
recipe 0.250 0.010 6.329
* checking for unstated dependencies in ‘tests’ ... OK
* checking tests ...
Running ‘testthat.R’
OK
* checking for unstated dependencies in vignettes ... OK
* checking package vignettes ... OK
* checking running R code from vignettes ... SKIPPED
* checking re-building of vignette outputs ... SKIPPED
* checking PDF version of manual ... OK
* DONE
Status: OK
dar.Rcheck/00install.out
############################################################################## ############################################################################## ### ### Running command: ### ### /Library/Frameworks/R.framework/Resources/bin/R CMD INSTALL dar ### ############################################################################## ############################################################################## * installing to library ‘/Library/Frameworks/R.framework/Versions/4.5-arm64/Resources/library’ * installing *source* package ‘dar’ ... ** this is package ‘dar’ version ‘1.4.0’ ** using staged installation ** R ** data ** inst ** byte-compile and prepare package for lazy loading ** help *** installing help indices *** copying figures ** building package indices ** installing vignettes ** testing if installed package can be loaded from temporary location ** testing if installed package can be loaded from final location ** testing if installed package keeps a record of temporary installation path * DONE (dar)
dar.Rcheck/tests/testthat.Rout
R version 4.5.0 RC (2025-04-04 r88126) -- "How About a Twenty-Six"
Copyright (C) 2025 The R Foundation for Statistical Computing
Platform: aarch64-apple-darwin20
R is free software and comes with ABSOLUTELY NO WARRANTY.
You are welcome to redistribute it under certain conditions.
Type 'license()' or 'licence()' for distribution details.
R is a collaborative project with many contributors.
Type 'contributors()' for more information and
'citation()' on how to cite R or R packages in publications.
Type 'demo()' for some demos, 'help()' for on-line help, or
'help.start()' for an HTML browser interface to help.
Type 'q()' to quit R.
> library(testthat)
> library(dar)
>
> test_check("dar")
Starting 2 test processes
[ FAIL 0 | WARN 0 | SKIP 10 | PASS 81 ]
══ Skipped tests (10) ══════════════════════════════════════════════════════════
• On CRAN (9): 'test-roxytest-tests-bake.R:18:3',
'test-roxytest-tests-lefse.R:15:3', 'test-roxytest-tests-maaslin2.R:16:3',
'test-roxytest-tests-pkg_check.R:6:3', 'test-roxytest-tests-misc.R:73:3',
'test-roxytest-tests-misc.R:101:3', 'test-roxytest-tests-misc.R:108:3',
'test-roxytest-tests-read_data.R:24:3',
'test-roxytest-tests-steps_and_checks.R:7:3'
• Temporary disabling due to problems with the ANCOM package (1):
'test-roxytest-tests-ancom.R:6:3'
[ FAIL 0 | WARN 0 | SKIP 10 | PASS 81 ]
>
> proc.time()
user system elapsed
86.200 6.695 131.147
dar.Rcheck/dar-Ex.timings
| name | user | system | elapsed | |
| abundance_plt | 0.873 | 0.037 | 0.917 | |
| add_tax | 0.054 | 0.002 | 0.057 | |
| add_var | 0.054 | 0.002 | 0.056 | |
| bake | 0.148 | 0.004 | 0.152 | |
| contains_rarefaction | 0.096 | 0.005 | 0.103 | |
| cool | 0.092 | 0.003 | 0.095 | |
| corr_heatmap | 1.464 | 0.037 | 1.515 | |
| exclusion_plt | 0.261 | 0.003 | 0.265 | |
| export_steps | 0.575 | 0.054 | 4.613 | |
| find_intersections | 0.054 | 0.001 | 0.054 | |
| get_comparisons | 0.011 | 0.001 | 0.012 | |
| get_phy | 0.009 | 0.001 | 0.010 | |
| get_tax | 0.011 | 0.001 | 0.012 | |
| get_var | 0.010 | 0.000 | 0.011 | |
| import_steps | 0.518 | 0.030 | 13.943 | |
| intersection_df | 0.057 | 0.004 | 0.063 | |
| intersection_plt | 0.484 | 0.008 | 0.493 | |
| mutual_plt | 0.553 | 0.005 | 0.557 | |
| otu_table | 0.112 | 0.002 | 0.114 | |
| overlap_df | 0.077 | 0.002 | 0.079 | |
| phy_qc | 0.337 | 0.008 | 0.344 | |
| prep | 0.660 | 0.030 | 12.771 | |
| rand_id | 0.000 | 0.000 | 0.001 | |
| read_data | 0.453 | 0.129 | 0.501 | |
| recipe | 0.250 | 0.010 | 6.329 | |
| required_deps | 0.021 | 0.002 | 0.023 | |
| sample_data | 0.013 | 0.002 | 0.014 | |
| step_aldex | 6.913 | 0.921 | 7.837 | |
| step_ancom | 0.000 | 0.001 | 0.000 | |
| step_corncob | 0.625 | 0.048 | 0.680 | |
| step_deseq | 1.893 | 0.025 | 1.928 | |
| step_filter_by_abundance | 0.015 | 0.001 | 0.017 | |
| step_filter_by_prevalence | 0.015 | 0.001 | 0.016 | |
| step_filter_by_rarity | 0.014 | 0.001 | 0.015 | |
| step_filter_by_variance | 0.014 | 0.001 | 0.016 | |
| step_filter_taxa | 0.014 | 0.001 | 0.015 | |
| step_lefse | 0.022 | 0.002 | 0.023 | |
| step_maaslin | 0.973 | 0.052 | 1.025 | |
| step_metagenomeseq | 1.012 | 0.025 | 3.299 | |
| step_rarefaction | 0.016 | 0.001 | 0.017 | |
| step_subset_taxa | 0.014 | 0.001 | 0.015 | |
| step_wilcox | 0.521 | 0.008 | 0.529 | |
| steps_ids | 0.008 | 0.001 | 0.008 | |
| tax_table | 0.017 | 0.001 | 0.018 | |
| tidyeval | 0.004 | 0.000 | 0.004 | |
| to_tibble | 0.113 | 0.001 | 0.116 | |
| use_rarefy | 0.007 | 0.001 | 0.008 | |
| zero_otu | 0.129 | 0.003 | 0.131 | |