| Back to Multiple platform build/check report for BioC 3.21: simplified long |
|
This page was generated on 2025-10-09 11:41 -0400 (Thu, 09 Oct 2025).
| Hostname | OS | Arch (*) | R version | Installed pkgs |
|---|---|---|---|---|
| nebbiolo1 | Linux (Ubuntu 24.04.3 LTS) | x86_64 | 4.5.1 (2025-06-13) -- "Great Square Root" | 4832 |
| merida1 | macOS 12.7.5 Monterey | x86_64 | 4.5.1 RC (2025-06-05 r88288) -- "Great Square Root" | 4613 |
| kjohnson1 | macOS 13.6.6 Ventura | arm64 | 4.5.1 Patched (2025-06-14 r88325) -- "Great Square Root" | 4554 |
| kunpeng2 | Linux (openEuler 24.03 LTS) | aarch64 | R Under development (unstable) (2025-02-19 r87757) -- "Unsuffered Consequences" | 4585 |
| Click on any hostname to see more info about the system (e.g. compilers) (*) as reported by 'uname -p', except on Windows and Mac OS X | ||||
| Package 516/2341 | Hostname | OS / Arch | INSTALL | BUILD | CHECK | BUILD BIN | ||||||||
| dar 1.4.0 (landing page) Francesc Catala-Moll
| nebbiolo1 | Linux (Ubuntu 24.04.3 LTS) / x86_64 | OK | OK | OK | |||||||||
| merida1 | macOS 12.7.5 Monterey / x86_64 | OK | OK | OK | OK | |||||||||
| kjohnson1 | macOS 13.6.6 Ventura / arm64 | OK | OK | OK | OK | |||||||||
| kunpeng2 | Linux (openEuler 24.03 LTS) / aarch64 | OK | OK | OK | ||||||||||
|
To the developers/maintainers of the dar package: - Allow up to 24 hours (and sometimes 48 hours) for your latest push to git@git.bioconductor.org:packages/dar.git to reflect on this report. See Troubleshooting Build Report for more information. - Use the following Renviron settings to reproduce errors and warnings. - If 'R CMD check' started to fail recently on the Linux builder(s) over a missing dependency, add the missing dependency to 'Suggests:' in your DESCRIPTION file. See Renviron.bioc for more information. - See Martin Grigorov's blog post for how to debug Linux ARM64 related issues on a x86_64 host. |
| Package: dar |
| Version: 1.4.0 |
| Command: /home/biocbuild/R/R/bin/R CMD check --install=check:dar.install-out.txt --library=/home/biocbuild/R/R/site-library --no-vignettes --timings dar_1.4.0.tar.gz |
| StartedAt: 2025-10-07 08:22:38 -0000 (Tue, 07 Oct 2025) |
| EndedAt: 2025-10-07 08:36:21 -0000 (Tue, 07 Oct 2025) |
| EllapsedTime: 823.4 seconds |
| RetCode: 0 |
| Status: OK |
| CheckDir: dar.Rcheck |
| Warnings: 0 |
##############################################################################
##############################################################################
###
### Running command:
###
### /home/biocbuild/R/R/bin/R CMD check --install=check:dar.install-out.txt --library=/home/biocbuild/R/R/site-library --no-vignettes --timings dar_1.4.0.tar.gz
###
##############################################################################
##############################################################################
* using log directory ‘/home/biocbuild/bbs-3.21-bioc/meat/dar.Rcheck’
* using R Under development (unstable) (2025-02-19 r87757)
* using platform: aarch64-unknown-linux-gnu
* R was compiled by
aarch64-unknown-linux-gnu-gcc (GCC) 14.2.0
GNU Fortran (GCC) 14.2.0
* running under: openEuler 24.03 (LTS-SP1)
* using session charset: UTF-8
* using option ‘--no-vignettes’
* checking for file ‘dar/DESCRIPTION’ ... OK
* this is package ‘dar’ version ‘1.4.0’
* package encoding: UTF-8
* checking package namespace information ... OK
* checking package dependencies ... INFO
Imports includes 21 non-default packages.
Importing from so many packages makes the package vulnerable to any of
them becoming unavailable. Move as many as possible to Suggests and
use conditionally.
* checking if this is a source package ... OK
* checking if there is a namespace ... OK
* checking for hidden files and directories ... OK
* checking for portable file names ... OK
* checking for sufficient/correct file permissions ... OK
* checking whether package ‘dar’ can be installed ... OK
* checking installed package size ... OK
* checking package directory ... OK
* checking ‘build’ directory ... OK
* checking DESCRIPTION meta-information ... OK
* checking top-level files ... OK
* checking for left-over files ... OK
* checking index information ... OK
* checking package subdirectories ... OK
* checking code files for non-ASCII characters ... OK
* checking R files for syntax errors ... OK
* checking whether the package can be loaded ... OK
* checking whether the package can be loaded with stated dependencies ... OK
* checking whether the package can be unloaded cleanly ... OK
* checking whether the namespace can be loaded with stated dependencies ... OK
* checking whether the namespace can be unloaded cleanly ... OK
* checking loading without being on the library search path ... OK
* checking dependencies in R code ... OK
* checking S3 generic/method consistency ... OK
* checking replacement functions ... OK
* checking foreign function calls ... OK
* checking R code for possible problems ... OK
* checking Rd files ... OK
* checking Rd metadata ... OK
* checking Rd cross-references ... OK
* checking for missing documentation entries ... OK
* checking for code/documentation mismatches ... OK
* checking Rd \usage sections ... OK
* checking Rd contents ... OK
* checking for unstated dependencies in examples ... OK
* checking contents of ‘data’ directory ... OK
* checking data for non-ASCII characters ... OK
* checking data for ASCII and uncompressed saves ... OK
* checking R/sysdata.rda ... OK
* checking files in ‘vignettes’ ... OK
* checking examples ... OK
Examples with CPU (user + system) or elapsed time > 5s
user system elapsed
step_aldex 23.817 0.803 24.684
step_deseq 8.934 0.112 9.069
step_metagenomeseq 4.768 0.060 12.699
prep 3.641 0.258 47.636
import_steps 3.301 0.225 51.158
export_steps 2.157 0.191 16.472
recipe 1.253 0.088 22.211
* checking for unstated dependencies in ‘tests’ ... OK
* checking tests ...
Running ‘testthat.R’
OK
* checking for unstated dependencies in vignettes ... OK
* checking package vignettes ... OK
* checking running R code from vignettes ... SKIPPED
* checking re-building of vignette outputs ... SKIPPED
* checking PDF version of manual ... OK
* DONE
Status: OK
dar.Rcheck/00install.out
############################################################################## ############################################################################## ### ### Running command: ### ### /home/biocbuild/R/R/bin/R CMD INSTALL dar ### ############################################################################## ############################################################################## * installing to library ‘/home/biocbuild/R/R-devel_2025-02-19/site-library’ * installing *source* package ‘dar’ ... ** this is package ‘dar’ version ‘1.4.0’ ** using staged installation ** R ** data ** inst ** byte-compile and prepare package for lazy loading ** help *** installing help indices *** copying figures ** building package indices ** installing vignettes ** testing if installed package can be loaded from temporary location ** testing if installed package can be loaded from final location ** testing if installed package keeps a record of temporary installation path * DONE (dar)
dar.Rcheck/tests/testthat.Rout
R Under development (unstable) (2025-02-19 r87757) -- "Unsuffered Consequences"
Copyright (C) 2025 The R Foundation for Statistical Computing
Platform: aarch64-unknown-linux-gnu
R is free software and comes with ABSOLUTELY NO WARRANTY.
You are welcome to redistribute it under certain conditions.
Type 'license()' or 'licence()' for distribution details.
R is a collaborative project with many contributors.
Type 'contributors()' for more information and
'citation()' on how to cite R or R packages in publications.
Type 'demo()' for some demos, 'help()' for on-line help, or
'help.start()' for an HTML browser interface to help.
Type 'q()' to quit R.
> library(testthat)
> library(dar)
>
> test_check("dar")
Starting 2 test processes
[ FAIL 0 | WARN 0 | SKIP 10 | PASS 81 ]
══ Skipped tests (10) ══════════════════════════════════════════════════════════
• On CRAN (9): 'test-roxytest-tests-bake.R:18:3',
'test-roxytest-tests-lefse.R:15:3', 'test-roxytest-tests-misc.R:73:3',
'test-roxytest-tests-misc.R:101:3', 'test-roxytest-tests-misc.R:108:3',
'test-roxytest-tests-pkg_check.R:6:3', 'test-roxytest-tests-maaslin2.R:16:3',
'test-roxytest-tests-read_data.R:24:3',
'test-roxytest-tests-steps_and_checks.R:7:3'
• Temporary disabling due to problems with the ANCOM package (1):
'test-roxytest-tests-ancom.R:6:3'
[ FAIL 0 | WARN 0 | SKIP 10 | PASS 81 ]
>
> proc.time()
user system elapsed
312.393 8.246 400.999
dar.Rcheck/dar-Ex.timings
| name | user | system | elapsed | |
| abundance_plt | 3.591 | 0.224 | 3.831 | |
| add_tax | 0.223 | 0.000 | 0.224 | |
| add_var | 0.209 | 0.004 | 0.214 | |
| bake | 0.645 | 0.004 | 0.651 | |
| contains_rarefaction | 0.300 | 0.016 | 0.319 | |
| cool | 0.397 | 0.008 | 0.407 | |
| corr_heatmap | 4.493 | 0.040 | 4.546 | |
| exclusion_plt | 1.222 | 0.000 | 1.226 | |
| export_steps | 2.157 | 0.191 | 16.472 | |
| find_intersections | 0.249 | 0.008 | 0.257 | |
| get_comparisons | 0.032 | 0.000 | 0.032 | |
| get_phy | 0.025 | 0.000 | 0.025 | |
| get_tax | 0.034 | 0.000 | 0.035 | |
| get_var | 0.028 | 0.004 | 0.031 | |
| import_steps | 3.301 | 0.225 | 51.158 | |
| intersection_df | 0.269 | 0.004 | 0.275 | |
| intersection_plt | 2.321 | 0.080 | 2.408 | |
| mutual_plt | 2.743 | 0.116 | 2.868 | |
| otu_table | 0.578 | 0.008 | 0.588 | |
| overlap_df | 0.366 | 0.000 | 0.367 | |
| phy_qc | 1.637 | 0.063 | 1.706 | |
| prep | 3.641 | 0.258 | 47.636 | |
| rand_id | 0 | 0 | 0 | |
| read_data | 1.804 | 0.361 | 2.179 | |
| recipe | 1.253 | 0.088 | 22.211 | |
| required_deps | 0.067 | 0.000 | 0.067 | |
| sample_data | 0.039 | 0.004 | 0.043 | |
| step_aldex | 23.817 | 0.803 | 24.684 | |
| step_ancom | 0 | 0 | 0 | |
| step_corncob | 2.794 | 0.079 | 2.913 | |
| step_deseq | 8.934 | 0.112 | 9.069 | |
| step_filter_by_abundance | 0.054 | 0.000 | 0.055 | |
| step_filter_by_prevalence | 0.199 | 0.004 | 0.204 | |
| step_filter_by_rarity | 0.057 | 0.000 | 0.058 | |
| step_filter_by_variance | 0.051 | 0.000 | 0.051 | |
| step_filter_taxa | 0.051 | 0.000 | 0.051 | |
| step_lefse | 0.086 | 0.004 | 0.090 | |
| step_maaslin | 4.387 | 0.084 | 4.487 | |
| step_metagenomeseq | 4.768 | 0.060 | 12.699 | |
| step_rarefaction | 0.061 | 0.000 | 0.061 | |
| step_subset_taxa | 0.049 | 0.000 | 0.049 | |
| step_wilcox | 2.390 | 0.191 | 2.589 | |
| steps_ids | 0.015 | 0.004 | 0.018 | |
| tax_table | 0.064 | 0.000 | 0.063 | |
| tidyeval | 0.023 | 0.000 | 0.023 | |
| to_tibble | 0.610 | 0.032 | 0.643 | |
| use_rarefy | 0.016 | 0.000 | 0.017 | |
| zero_otu | 0.679 | 0.056 | 0.737 | |