| Back to Multiple platform build/check report for BioC 3.21: simplified long |
|
This page was generated on 2025-10-16 11:37 -0400 (Thu, 16 Oct 2025).
| Hostname | OS | Arch (*) | R version | Installed pkgs |
|---|---|---|---|---|
| nebbiolo1 | Linux (Ubuntu 24.04.3 LTS) | x86_64 | 4.5.1 (2025-06-13) -- "Great Square Root" | 4833 |
| merida1 | macOS 12.7.6 Monterey | x86_64 | 4.5.1 RC (2025-06-05 r88288) -- "Great Square Root" | 4614 |
| kjohnson1 | macOS 13.7.5 Ventura | arm64 | 4.5.1 Patched (2025-06-14 r88325) -- "Great Square Root" | 4555 |
| kunpeng2 | Linux (openEuler 24.03 LTS) | aarch64 | R Under development (unstable) (2025-02-19 r87757) -- "Unsuffered Consequences" | 4586 |
| Click on any hostname to see more info about the system (e.g. compilers) (*) as reported by 'uname -p', except on Windows and Mac OS X | ||||
| Package 162/2341 | Hostname | OS / Arch | INSTALL | BUILD | CHECK | BUILD BIN | ||||||||
| benchdamic 1.14.4 (landing page) Matteo Calgaro
| nebbiolo1 | Linux (Ubuntu 24.04.3 LTS) / x86_64 | OK | OK | OK | |||||||||
| merida1 | macOS 12.7.6 Monterey / x86_64 | OK | TIMEOUT | skipped | skipped | |||||||||
| kjohnson1 | macOS 13.7.5 Ventura / arm64 | OK | OK | OK | OK | |||||||||
| kunpeng2 | Linux (openEuler 24.03 LTS) / aarch64 | OK | OK | ERROR | ||||||||||
|
To the developers/maintainers of the benchdamic package: - Allow up to 24 hours (and sometimes 48 hours) for your latest push to git@git.bioconductor.org:packages/benchdamic.git to reflect on this report. See Troubleshooting Build Report for more information. - Use the following Renviron settings to reproduce errors and warnings. - If 'R CMD check' started to fail recently on the Linux builder(s) over a missing dependency, add the missing dependency to 'Suggests:' in your DESCRIPTION file. See Renviron.bioc for more information. |
| Package: benchdamic |
| Version: 1.14.4 |
| Command: /home/biocbuild/bbs-3.21-bioc/R/bin/R CMD check --install=check:benchdamic.install-out.txt --library=/home/biocbuild/bbs-3.21-bioc/R/site-library --timings benchdamic_1.14.4.tar.gz |
| StartedAt: 2025-10-15 21:06:15 -0400 (Wed, 15 Oct 2025) |
| EndedAt: 2025-10-15 21:39:12 -0400 (Wed, 15 Oct 2025) |
| EllapsedTime: 1977.1 seconds |
| RetCode: 0 |
| Status: OK |
| CheckDir: benchdamic.Rcheck |
| Warnings: 0 |
##############################################################################
##############################################################################
###
### Running command:
###
### /home/biocbuild/bbs-3.21-bioc/R/bin/R CMD check --install=check:benchdamic.install-out.txt --library=/home/biocbuild/bbs-3.21-bioc/R/site-library --timings benchdamic_1.14.4.tar.gz
###
##############################################################################
##############################################################################
* using log directory ‘/home/biocbuild/bbs-3.21-bioc/meat/benchdamic.Rcheck’
* using R version 4.5.1 (2025-06-13)
* using platform: x86_64-pc-linux-gnu
* R was compiled by
gcc (Ubuntu 13.3.0-6ubuntu2~24.04) 13.3.0
GNU Fortran (Ubuntu 13.3.0-6ubuntu2~24.04) 13.3.0
* running under: Ubuntu 24.04.3 LTS
* using session charset: UTF-8
* checking for file ‘benchdamic/DESCRIPTION’ ... OK
* checking extension type ... Package
* this is package ‘benchdamic’ version ‘1.14.4’
* package encoding: UTF-8
* checking package namespace information ... OK
* checking package dependencies ... INFO
Imports includes 32 non-default packages.
Importing from so many packages makes the package vulnerable to any of
them becoming unavailable. Move as many as possible to Suggests and
use conditionally.
* checking if this is a source package ... OK
* checking if there is a namespace ... OK
* checking for hidden files and directories ... OK
* checking for portable file names ... OK
* checking for sufficient/correct file permissions ... OK
* checking whether package ‘benchdamic’ can be installed ... OK
* checking installed package size ... OK
* checking package directory ... OK
* checking ‘build’ directory ... OK
* checking DESCRIPTION meta-information ... OK
* checking top-level files ... OK
* checking for left-over files ... OK
* checking index information ... OK
* checking package subdirectories ... OK
* checking code files for non-ASCII characters ... OK
* checking R files for syntax errors ... OK
* checking whether the package can be loaded ... OK
* checking whether the package can be loaded with stated dependencies ... OK
* checking whether the package can be unloaded cleanly ... OK
* checking whether the namespace can be loaded with stated dependencies ... OK
* checking whether the namespace can be unloaded cleanly ... OK
* checking loading without being on the library search path ... OK
* checking dependencies in R code ... NOTE
Namespace in Imports field not imported from: ‘microbiome’
All declared Imports should be used.
* checking S3 generic/method consistency ... OK
* checking replacement functions ... OK
* checking foreign function calls ... OK
* checking R code for possible problems ... OK
* checking Rd files ... OK
* checking Rd metadata ... OK
* checking Rd cross-references ... NOTE
Non-topic package-anchored link(s) in Rd file 'norm_DESeq2.Rd':
‘[DESeq2]{estimateSizeFactors}’
See section 'Cross-references' in the 'Writing R Extensions' manual.
* checking for missing documentation entries ... OK
* checking for code/documentation mismatches ... OK
* checking Rd \usage sections ... OK
* checking Rd contents ... OK
* checking for unstated dependencies in examples ... OK
* checking contents of ‘data’ directory ... OK
* checking data for non-ASCII characters ... OK
* checking LazyData ... OK
* checking data for ASCII and uncompressed saves ... OK
* checking files in ‘vignettes’ ... OK
* checking examples ... OK
Examples with CPU (user + system) or elapsed time > 5s
user system elapsed
fitModels 6.189 0.449 11.810
plotConcordance 6.104 0.242 6.478
* checking for unstated dependencies in ‘tests’ ... OK
* checking tests ...
Running ‘testthat.R’
OK
* checking for unstated dependencies in vignettes ... OK
* checking package vignettes ... OK
* checking re-building of vignette outputs ... OK
* checking PDF version of manual ... OK
* DONE
Status: 2 NOTEs
See
‘/home/biocbuild/bbs-3.21-bioc/meat/benchdamic.Rcheck/00check.log’
for details.
benchdamic.Rcheck/00install.out
############################################################################## ############################################################################## ### ### Running command: ### ### /home/biocbuild/bbs-3.21-bioc/R/bin/R CMD INSTALL benchdamic ### ############################################################################## ############################################################################## * installing to library ‘/home/biocbuild/bbs-3.21-bioc/R/site-library’ * installing *source* package ‘benchdamic’ ... ** this is package ‘benchdamic’ version ‘1.14.4’ ** using staged installation ** R ** data *** moving datasets to lazyload DB ** inst ** byte-compile and prepare package for lazy loading Found more than one class "dist" in cache; using the first, from namespace 'BiocGenerics' Also defined by ‘spam’ ** help *** installing help indices ** building package indices ** installing vignettes ** testing if installed package can be loaded from temporary location Found more than one class "dist" in cache; using the first, from namespace 'BiocGenerics' Also defined by ‘spam’ ** testing if installed package can be loaded from final location Found more than one class "dist" in cache; using the first, from namespace 'BiocGenerics' Also defined by ‘spam’ ** testing if installed package keeps a record of temporary installation path * DONE (benchdamic)
benchdamic.Rcheck/tests/testthat.Rout
R version 4.5.1 (2025-06-13) -- "Great Square Root"
Copyright (C) 2025 The R Foundation for Statistical Computing
Platform: x86_64-pc-linux-gnu
R is free software and comes with ABSOLUTELY NO WARRANTY.
You are welcome to redistribute it under certain conditions.
Type 'license()' or 'licence()' for distribution details.
R is a collaborative project with many contributors.
Type 'contributors()' for more information and
'citation()' on how to cite R or R packages in publications.
Type 'demo()' for some demos, 'help()' for on-line help, or
'help.start()' for an HTML browser interface to help.
Type 'q()' to quit R.
> library(testthat)
> library(benchdamic)
Found more than one class "dist" in cache; using the first, from namespace 'BiocGenerics'
Also defined by 'spam'
>
> test_check("benchdamic")
|------------(25%)----------(50%)----------(75%)----------|
|------------(25%)----------(50%)----------(75%)----------|
|------------(25%)----------(50%)----------(75%)----------|
|------------(25%)----------(50%)----------(75%)----------|
|------------(25%)----------(50%)----------(75%)----------|
[ FAIL 0 | WARN 2 | SKIP 0 | PASS 334 ]
[ FAIL 0 | WARN 2 | SKIP 0 | PASS 334 ]
>
> proc.time()
user system elapsed
68.038 3.396 78.956
benchdamic.Rcheck/benchdamic-Ex.timings
| name | user | system | elapsed | |
| CAT | 0.002 | 0.001 | 0.003 | |
| DA_ALDEx2 | 3.911 | 0.187 | 4.099 | |
| DA_ANCOM | 0.744 | 0.021 | 0.765 | |
| DA_DESeq2 | 2.669 | 0.030 | 2.700 | |
| DA_MAST | 1.231 | 0.012 | 1.220 | |
| DA_Maaslin2 | 0.215 | 0.009 | 0.225 | |
| DA_NOISeq | 1.333 | 0.090 | 1.427 | |
| DA_Seurat | 2.118 | 0.018 | 2.138 | |
| DA_ZicoSeq | 0.609 | 0.009 | 0.618 | |
| DA_basic | 0.029 | 0.000 | 0.030 | |
| DA_corncob | 0.654 | 0.026 | 0.687 | |
| DA_dearseq | 0.059 | 0.010 | 0.069 | |
| DA_edgeR | 0.202 | 0.034 | 0.235 | |
| DA_limma | 0.073 | 0.007 | 0.080 | |
| DA_linda | 0.045 | 0.007 | 0.051 | |
| DA_maaslin3 | 0.492 | 0.047 | 0.539 | |
| DA_metagenomeSeq | 0.239 | 0.026 | 0.265 | |
| DA_mixMC | 0.660 | 0.078 | 0.739 | |
| RMSE | 0.001 | 0.000 | 0.001 | |
| addKnowledge | 0.157 | 0.014 | 0.170 | |
| areaCAT | 3.859 | 0.435 | 4.295 | |
| checkNormalization | 0.000 | 0.001 | 0.000 | |
| createColors | 0.004 | 0.001 | 0.004 | |
| createConcordance | 4.561 | 0.338 | 4.899 | |
| createEnrichment | 0.228 | 0.014 | 0.242 | |
| createMocks | 0.002 | 0.001 | 0.003 | |
| createPositives | 0.929 | 0.045 | 0.974 | |
| createSplits | 0.030 | 0.005 | 0.035 | |
| createTIEC | 3.101 | 0.230 | 3.335 | |
| enrichmentTest | 0.209 | 0.002 | 0.238 | |
| extractDA | 0.327 | 0.011 | 0.338 | |
| extractStatistics | 0.378 | 0.005 | 0.616 | |
| fitDM | 0.075 | 0.003 | 0.151 | |
| fitHURDLE | 1.449 | 0.102 | 1.678 | |
| fitModels | 6.189 | 0.449 | 11.810 | |
| fitNB | 0.111 | 0.005 | 0.209 | |
| fitZIG | 0.118 | 0.007 | 0.164 | |
| fitZINB | 0.946 | 0.084 | 1.499 | |
| getDA | 0.197 | 0.023 | 0.358 | |
| getPositives | 0.198 | 0.019 | 0.248 | |
| getStatistics | 0.169 | 0.022 | 0.191 | |
| get_counts_metadata | 0.343 | 0.013 | 0.524 | |
| iterative_ordering | 0.024 | 0.003 | 0.055 | |
| meanDifferences | 0.005 | 0.001 | 0.009 | |
| norm_CSS | 0.208 | 0.008 | 0.307 | |
| norm_DESeq2 | 1.094 | 0.060 | 1.233 | |
| norm_TSS | 0.065 | 0.003 | 0.068 | |
| norm_edgeR | 0.073 | 0.003 | 0.076 | |
| plotConcordance | 6.104 | 0.242 | 6.478 | |
| plotContingency | 1.632 | 0.052 | 1.744 | |
| plotEnrichment | 1.352 | 0.031 | 1.385 | |
| plotFDR | 2.442 | 0.022 | 2.464 | |
| plotFPR | 2.450 | 0.028 | 2.478 | |
| plotKS | 2.459 | 0.014 | 2.474 | |
| plotLogP | 2.519 | 0.019 | 2.538 | |
| plotMD | 3.517 | 0.055 | 3.572 | |
| plotMutualFindings | 1.359 | 0.025 | 1.384 | |
| plotPositives | 0.778 | 0.015 | 0.792 | |
| plotQQ | 2.475 | 0.060 | 2.534 | |
| plotRMSE | 2.791 | 0.076 | 2.866 | |
| prepareObserved | 0.002 | 0.000 | 0.002 | |
| runDA | 0.476 | 0.003 | 0.478 | |
| runMocks | 0.691 | 0.020 | 0.712 | |
| runNormalizations | 0.479 | 0.002 | 0.482 | |
| runSplits | 3.413 | 0.048 | 3.462 | |
| setNormalizations | 0.000 | 0.001 | 0.000 | |
| set_ALDEx2 | 0.006 | 0.001 | 0.006 | |
| set_ANCOM | 0.006 | 0.001 | 0.008 | |
| set_DESeq2 | 0.008 | 0.000 | 0.007 | |
| set_MAST | 0.003 | 0.000 | 0.003 | |
| set_Maaslin2 | 0.004 | 0.001 | 0.004 | |
| set_NOISeq | 0.004 | 0.000 | 0.004 | |
| set_Seurat | 0.006 | 0.000 | 0.006 | |
| set_ZicoSeq | 0.005 | 0.001 | 0.006 | |
| set_basic | 0.001 | 0.001 | 0.002 | |
| set_corncob | 0.004 | 0.000 | 0.004 | |
| set_dearseq | 0.001 | 0.001 | 0.002 | |
| set_edgeR | 0.010 | 0.000 | 0.011 | |
| set_limma | 0.006 | 0.002 | 0.008 | |
| set_linda | 0.006 | 0.000 | 0.006 | |
| set_maaslin3 | 0.006 | 0.001 | 0.007 | |
| set_metagenomeSeq | 0.005 | 0.000 | 0.005 | |
| set_mixMC | 0.003 | 0.000 | 0.003 | |
| weights_ZINB | 0.411 | 0.000 | 0.410 | |