| Back to Multiple platform build/check report for BioC 3.21: simplified long |
|
This page was generated on 2025-10-16 11:40 -0400 (Thu, 16 Oct 2025).
| Hostname | OS | Arch (*) | R version | Installed pkgs |
|---|---|---|---|---|
| nebbiolo1 | Linux (Ubuntu 24.04.3 LTS) | x86_64 | 4.5.1 (2025-06-13) -- "Great Square Root" | 4833 |
| merida1 | macOS 12.7.6 Monterey | x86_64 | 4.5.1 RC (2025-06-05 r88288) -- "Great Square Root" | 4614 |
| kjohnson1 | macOS 13.7.5 Ventura | arm64 | 4.5.1 Patched (2025-06-14 r88325) -- "Great Square Root" | 4555 |
| kunpeng2 | Linux (openEuler 24.03 LTS) | aarch64 | R Under development (unstable) (2025-02-19 r87757) -- "Unsuffered Consequences" | 4586 |
| Click on any hostname to see more info about the system (e.g. compilers) (*) as reported by 'uname -p', except on Windows and Mac OS X | ||||
| Package 162/2341 | Hostname | OS / Arch | INSTALL | BUILD | CHECK | BUILD BIN | ||||||||
| benchdamic 1.14.4 (landing page) Matteo Calgaro
| nebbiolo1 | Linux (Ubuntu 24.04.3 LTS) / x86_64 | OK | OK | OK | |||||||||
| merida1 | macOS 12.7.6 Monterey / x86_64 | OK | TIMEOUT | skipped | skipped | |||||||||
| kjohnson1 | macOS 13.7.5 Ventura / arm64 | OK | OK | OK | OK | |||||||||
| kunpeng2 | Linux (openEuler 24.03 LTS) / aarch64 | OK | OK | ERROR | ||||||||||
|
To the developers/maintainers of the benchdamic package: - Allow up to 24 hours (and sometimes 48 hours) for your latest push to git@git.bioconductor.org:packages/benchdamic.git to reflect on this report. See Troubleshooting Build Report for more information. - Use the following Renviron settings to reproduce errors and warnings. - If 'R CMD check' started to fail recently on the Linux builder(s) over a missing dependency, add the missing dependency to 'Suggests:' in your DESCRIPTION file. See Renviron.bioc for more information. |
| Package: benchdamic |
| Version: 1.14.4 |
| Command: /Library/Frameworks/R.framework/Resources/bin/R CMD check --install=check:benchdamic.install-out.txt --library=/Library/Frameworks/R.framework/Resources/library --no-vignettes --timings benchdamic_1.14.4.tar.gz |
| StartedAt: 2025-10-14 13:52:08 -0400 (Tue, 14 Oct 2025) |
| EndedAt: 2025-10-14 14:04:46 -0400 (Tue, 14 Oct 2025) |
| EllapsedTime: 758.1 seconds |
| RetCode: 0 |
| Status: OK |
| CheckDir: benchdamic.Rcheck |
| Warnings: 0 |
##############################################################################
##############################################################################
###
### Running command:
###
### /Library/Frameworks/R.framework/Resources/bin/R CMD check --install=check:benchdamic.install-out.txt --library=/Library/Frameworks/R.framework/Resources/library --no-vignettes --timings benchdamic_1.14.4.tar.gz
###
##############################################################################
##############################################################################
* using log directory ‘/Users/biocbuild/bbs-3.21-bioc/meat/benchdamic.Rcheck’
* using R version 4.5.1 Patched (2025-06-14 r88325)
* using platform: aarch64-apple-darwin20
* R was compiled by
Apple clang version 16.0.0 (clang-1600.0.26.6)
GNU Fortran (GCC) 14.2.0
* running under: macOS Ventura 13.7.5
* using session charset: UTF-8
* using option ‘--no-vignettes’
* checking for file ‘benchdamic/DESCRIPTION’ ... OK
* checking extension type ... Package
* this is package ‘benchdamic’ version ‘1.14.4’
* package encoding: UTF-8
* checking package namespace information ... OK
* checking package dependencies ... INFO
Imports includes 32 non-default packages.
Importing from so many packages makes the package vulnerable to any of
them becoming unavailable. Move as many as possible to Suggests and
use conditionally.
* checking if this is a source package ... OK
* checking if there is a namespace ... OK
* checking for hidden files and directories ... OK
* checking for portable file names ... OK
* checking for sufficient/correct file permissions ... OK
* checking whether package ‘benchdamic’ can be installed ... OK
* checking installed package size ... OK
* checking package directory ... OK
* checking ‘build’ directory ... OK
* checking DESCRIPTION meta-information ... OK
* checking top-level files ... OK
* checking for left-over files ... OK
* checking index information ... OK
* checking package subdirectories ... OK
* checking code files for non-ASCII characters ... OK
* checking R files for syntax errors ... OK
* checking whether the package can be loaded ... OK
* checking whether the package can be loaded with stated dependencies ... OK
* checking whether the package can be unloaded cleanly ... OK
* checking whether the namespace can be loaded with stated dependencies ... OK
* checking whether the namespace can be unloaded cleanly ... OK
* checking dependencies in R code ... NOTE
Namespace in Imports field not imported from: ‘microbiome’
All declared Imports should be used.
* checking S3 generic/method consistency ... OK
* checking replacement functions ... OK
* checking foreign function calls ... OK
* checking R code for possible problems ... OK
* checking Rd files ... OK
* checking Rd metadata ... OK
* checking Rd cross-references ... NOTE
Non-topic package-anchored link(s) in Rd file 'norm_DESeq2.Rd':
‘[DESeq2]{estimateSizeFactors}’
See section 'Cross-references' in the 'Writing R Extensions' manual.
* checking for missing documentation entries ... OK
* checking for code/documentation mismatches ... OK
* checking Rd \usage sections ... OK
* checking Rd contents ... OK
* checking for unstated dependencies in examples ... OK
* checking contents of ‘data’ directory ... OK
* checking data for non-ASCII characters ... OK
* checking LazyData ... OK
* checking data for ASCII and uncompressed saves ... OK
* checking files in ‘vignettes’ ... OK
* checking examples ... OK
Examples with CPU (user + system) or elapsed time > 5s
user system elapsed
plotConcordance 5.505 0.098 6.237
createConcordance 5.274 0.161 5.500
DA_ALDEx2 4.608 0.683 5.380
runSplits 4.562 0.082 8.399
plotRMSE 3.446 0.041 6.405
plotQQ 3.139 0.056 5.853
* checking for unstated dependencies in ‘tests’ ... OK
* checking tests ...
Running ‘testthat.R’
OK
* checking for unstated dependencies in vignettes ... OK
* checking package vignettes ... OK
* checking running R code from vignettes ... SKIPPED
* checking re-building of vignette outputs ... SKIPPED
* checking PDF version of manual ... OK
* DONE
Status: 2 NOTEs
See
‘/Users/biocbuild/bbs-3.21-bioc/meat/benchdamic.Rcheck/00check.log’
for details.
benchdamic.Rcheck/00install.out
############################################################################## ############################################################################## ### ### Running command: ### ### /Library/Frameworks/R.framework/Resources/bin/R CMD INSTALL benchdamic ### ############################################################################## ############################################################################## * installing to library ‘/Library/Frameworks/R.framework/Versions/4.5-arm64/Resources/library’ * installing *source* package ‘benchdamic’ ... ** this is package ‘benchdamic’ version ‘1.14.4’ ** using staged installation ** R ** data *** moving datasets to lazyload DB ** inst ** byte-compile and prepare package for lazy loading Found more than one class "dist" in cache; using the first, from namespace 'BiocGenerics' Also defined by ‘spam’ ** help *** installing help indices ** building package indices ** installing vignettes ** testing if installed package can be loaded from temporary location Found more than one class "dist" in cache; using the first, from namespace 'BiocGenerics' Also defined by ‘spam’ ** testing if installed package can be loaded from final location Found more than one class "dist" in cache; using the first, from namespace 'BiocGenerics' Also defined by ‘spam’ ** testing if installed package keeps a record of temporary installation path * DONE (benchdamic)
benchdamic.Rcheck/tests/testthat.Rout
R version 4.5.1 Patched (2025-06-14 r88325) -- "Great Square Root"
Copyright (C) 2025 The R Foundation for Statistical Computing
Platform: aarch64-apple-darwin20
R is free software and comes with ABSOLUTELY NO WARRANTY.
You are welcome to redistribute it under certain conditions.
Type 'license()' or 'licence()' for distribution details.
R is a collaborative project with many contributors.
Type 'contributors()' for more information and
'citation()' on how to cite R or R packages in publications.
Type 'demo()' for some demos, 'help()' for on-line help, or
'help.start()' for an HTML browser interface to help.
Type 'q()' to quit R.
> library(testthat)
> library(benchdamic)
Found more than one class "dist" in cache; using the first, from namespace 'BiocGenerics'
Also defined by 'spam'
>
> test_check("benchdamic")
|------------(25%)----------(50%)----------(75%)----------|
|------------(25%)----------(50%)----------(75%)----------|
|------------(25%)----------(50%)----------(75%)----------|
|------------(25%)----------(50%)----------(75%)----------|
|------------(25%)----------(50%)----------(75%)----------|
[ FAIL 0 | WARN 2 | SKIP 0 | PASS 334 ]
[ FAIL 0 | WARN 2 | SKIP 0 | PASS 334 ]
>
> proc.time()
user system elapsed
78.959 5.519 127.008
benchdamic.Rcheck/benchdamic-Ex.timings
| name | user | system | elapsed | |
| CAT | 0.005 | 0.001 | 0.005 | |
| DA_ALDEx2 | 4.608 | 0.683 | 5.380 | |
| DA_ANCOM | 0.810 | 0.016 | 0.838 | |
| DA_DESeq2 | 3.336 | 0.036 | 3.405 | |
| DA_MAST | 1.327 | 0.027 | 1.365 | |
| DA_Maaslin2 | 0.271 | 0.040 | 0.327 | |
| DA_NOISeq | 1.910 | 0.013 | 1.943 | |
| DA_Seurat | 2.973 | 0.043 | 3.061 | |
| DA_ZicoSeq | 0.686 | 0.065 | 0.757 | |
| DA_basic | 0.033 | 0.004 | 0.038 | |
| DA_corncob | 0.740 | 0.096 | 0.866 | |
| DA_dearseq | 0.068 | 0.003 | 0.075 | |
| DA_edgeR | 0.213 | 0.007 | 0.220 | |
| DA_limma | 0.087 | 0.004 | 0.093 | |
| DA_linda | 0.049 | 0.002 | 0.052 | |
| DA_maaslin3 | 0.549 | 0.023 | 0.585 | |
| DA_metagenomeSeq | 0.278 | 0.019 | 0.305 | |
| DA_mixMC | 0.625 | 0.040 | 0.675 | |
| RMSE | 0.001 | 0.000 | 0.001 | |
| addKnowledge | 0.199 | 0.020 | 0.220 | |
| areaCAT | 4.440 | 0.131 | 4.627 | |
| checkNormalization | 0.000 | 0.000 | 0.001 | |
| createColors | 0.005 | 0.000 | 0.005 | |
| createConcordance | 5.274 | 0.161 | 5.500 | |
| createEnrichment | 0.257 | 0.009 | 0.268 | |
| createMocks | 0.003 | 0.001 | 0.004 | |
| createPositives | 0.953 | 0.019 | 0.982 | |
| createSplits | 0.036 | 0.002 | 0.038 | |
| createTIEC | 3.202 | 0.067 | 3.311 | |
| enrichmentTest | 0.118 | 0.005 | 0.123 | |
| extractDA | 0.179 | 0.006 | 0.188 | |
| extractStatistics | 0.180 | 0.008 | 0.188 | |
| fitDM | 0.031 | 0.002 | 0.033 | |
| fitHURDLE | 0.677 | 0.008 | 0.690 | |
| fitModels | 2.481 | 0.073 | 2.742 | |
| fitNB | 0.049 | 0.001 | 0.053 | |
| fitZIG | 0.060 | 0.002 | 0.072 | |
| fitZINB | 0.460 | 0.006 | 0.554 | |
| getDA | 0.083 | 0.009 | 0.092 | |
| getPositives | 0.081 | 0.006 | 0.087 | |
| getStatistics | 0.072 | 0.007 | 0.079 | |
| get_counts_metadata | 0.126 | 0.003 | 0.132 | |
| iterative_ordering | 0.009 | 0.001 | 0.011 | |
| meanDifferences | 0.002 | 0.000 | 0.002 | |
| norm_CSS | 0.072 | 0.001 | 0.076 | |
| norm_DESeq2 | 0.493 | 0.005 | 0.525 | |
| norm_TSS | 0.033 | 0.002 | 0.035 | |
| norm_edgeR | 0.039 | 0.004 | 0.043 | |
| plotConcordance | 5.505 | 0.098 | 6.237 | |
| plotContingency | 1.607 | 0.025 | 1.802 | |
| plotEnrichment | 1.564 | 0.021 | 1.738 | |
| plotFDR | 2.750 | 0.034 | 2.823 | |
| plotFPR | 2.774 | 0.044 | 2.845 | |
| plotKS | 2.749 | 0.032 | 2.805 | |
| plotLogP | 2.760 | 0.033 | 2.829 | |
| plotMD | 3.301 | 0.045 | 3.532 | |
| plotMutualFindings | 1.675 | 0.022 | 3.193 | |
| plotPositives | 1.010 | 0.016 | 1.996 | |
| plotQQ | 3.139 | 0.056 | 5.853 | |
| plotRMSE | 3.446 | 0.041 | 6.405 | |
| prepareObserved | 0.001 | 0.000 | 0.003 | |
| runDA | 0.631 | 0.006 | 1.152 | |
| runMocks | 0.923 | 0.018 | 1.843 | |
| runNormalizations | 0.568 | 0.005 | 1.027 | |
| runSplits | 4.562 | 0.082 | 8.399 | |
| setNormalizations | 0.001 | 0.000 | 0.001 | |
| set_ALDEx2 | 0.008 | 0.001 | 0.017 | |
| set_ANCOM | 0.011 | 0.001 | 0.023 | |
| set_DESeq2 | 0.011 | 0.001 | 0.020 | |
| set_MAST | 0.004 | 0.000 | 0.004 | |
| set_Maaslin2 | 0.006 | 0.000 | 0.010 | |
| set_NOISeq | 0.004 | 0.000 | 0.006 | |
| set_Seurat | 0.011 | 0.001 | 0.011 | |
| set_ZicoSeq | 0.011 | 0.000 | 0.024 | |
| set_basic | 0.003 | 0.000 | 0.004 | |
| set_corncob | 0.007 | 0.000 | 0.007 | |
| set_dearseq | 0.003 | 0.001 | 0.008 | |
| set_edgeR | 0.017 | 0.001 | 0.043 | |
| set_limma | 0.012 | 0.001 | 0.020 | |
| set_linda | 0.006 | 0.000 | 0.008 | |
| set_maaslin3 | 0.009 | 0.001 | 0.009 | |
| set_metagenomeSeq | 0.008 | 0.001 | 0.023 | |
| set_mixMC | 0.003 | 0.001 | 0.003 | |
| weights_ZINB | 0.475 | 0.005 | 0.862 | |