| Back to Multiple platform build/check report for BioC 3.21: simplified long |
|
This page was generated on 2025-04-22 13:17 -0400 (Tue, 22 Apr 2025).
| Hostname | OS | Arch (*) | R version | Installed pkgs |
|---|---|---|---|---|
| nebbiolo1 | Linux (Ubuntu 24.04.1 LTS) | x86_64 | 4.5.0 RC (2025-04-04 r88126) -- "How About a Twenty-Six" | 4831 |
| palomino7 | Windows Server 2022 Datacenter | x64 | 4.5.0 RC (2025-04-04 r88126 ucrt) -- "How About a Twenty-Six" | 4573 |
| lconway | macOS 12.7.1 Monterey | x86_64 | 4.5.0 RC (2025-04-04 r88126) -- "How About a Twenty-Six" | 4599 |
| kjohnson3 | macOS 13.7.1 Ventura | arm64 | 4.5.0 RC (2025-04-04 r88126) -- "How About a Twenty-Six" | 4553 |
| kunpeng2 | Linux (openEuler 24.03 LTS) | aarch64 | R Under development (unstable) (2025-02-19 r87757) -- "Unsuffered Consequences" | 4570 |
| Click on any hostname to see more info about the system (e.g. compilers) (*) as reported by 'uname -p', except on Windows and Mac OS X | ||||
| Package 162/2341 | Hostname | OS / Arch | INSTALL | BUILD | CHECK | BUILD BIN | ||||||||
| benchdamic 1.14.0 (landing page) Matteo Calgaro
| nebbiolo1 | Linux (Ubuntu 24.04.1 LTS) / x86_64 | OK | OK | OK | |||||||||
| palomino7 | Windows Server 2022 Datacenter / x64 | OK | OK | OK | OK | |||||||||
| lconway | macOS 12.7.1 Monterey / x86_64 | OK | OK | OK | OK | |||||||||
| kjohnson3 | macOS 13.7.1 Ventura / arm64 | OK | OK | OK | OK | |||||||||
| kunpeng2 | Linux (openEuler 24.03 LTS) / aarch64 | OK | OK | ERROR | ||||||||||
|
To the developers/maintainers of the benchdamic package: - Allow up to 24 hours (and sometimes 48 hours) for your latest push to git@git.bioconductor.org:packages/benchdamic.git to reflect on this report. See Troubleshooting Build Report for more information. - Use the following Renviron settings to reproduce errors and warnings. - If 'R CMD check' started to fail recently on the Linux builder(s) over a missing dependency, add the missing dependency to 'Suggests:' in your DESCRIPTION file. See Renviron.bioc for more information. |
| Package: benchdamic |
| Version: 1.14.0 |
| Command: /Library/Frameworks/R.framework/Resources/bin/R CMD check --install=check:benchdamic.install-out.txt --library=/Library/Frameworks/R.framework/Resources/library --no-vignettes --timings benchdamic_1.14.0.tar.gz |
| StartedAt: 2025-04-21 18:17:35 -0400 (Mon, 21 Apr 2025) |
| EndedAt: 2025-04-21 18:21:41 -0400 (Mon, 21 Apr 2025) |
| EllapsedTime: 245.9 seconds |
| RetCode: 0 |
| Status: OK |
| CheckDir: benchdamic.Rcheck |
| Warnings: 0 |
##############################################################################
##############################################################################
###
### Running command:
###
### /Library/Frameworks/R.framework/Resources/bin/R CMD check --install=check:benchdamic.install-out.txt --library=/Library/Frameworks/R.framework/Resources/library --no-vignettes --timings benchdamic_1.14.0.tar.gz
###
##############################################################################
##############################################################################
* using log directory ‘/Users/biocbuild/bbs-3.21-bioc/meat/benchdamic.Rcheck’
* using R version 4.5.0 RC (2025-04-04 r88126)
* using platform: aarch64-apple-darwin20
* R was compiled by
Apple clang version 14.0.0 (clang-1400.0.29.202)
GNU Fortran (GCC) 14.2.0
* running under: macOS Ventura 13.7.1
* using session charset: UTF-8
* using option ‘--no-vignettes’
* checking for file ‘benchdamic/DESCRIPTION’ ... OK
* checking extension type ... Package
* this is package ‘benchdamic’ version ‘1.14.0’
* package encoding: UTF-8
* checking package namespace information ... OK
* checking package dependencies ... INFO
Imports includes 31 non-default packages.
Importing from so many packages makes the package vulnerable to any of
them becoming unavailable. Move as many as possible to Suggests and
use conditionally.
* checking if this is a source package ... OK
* checking if there is a namespace ... OK
* checking for hidden files and directories ... OK
* checking for portable file names ... OK
* checking for sufficient/correct file permissions ... OK
* checking whether package ‘benchdamic’ can be installed ... OK
* checking installed package size ... OK
* checking package directory ... OK
* checking ‘build’ directory ... OK
* checking DESCRIPTION meta-information ... OK
* checking top-level files ... OK
* checking for left-over files ... OK
* checking index information ... OK
* checking package subdirectories ... OK
* checking code files for non-ASCII characters ... OK
* checking R files for syntax errors ... OK
* checking whether the package can be loaded ... OK
* checking whether the package can be loaded with stated dependencies ... OK
* checking whether the package can be unloaded cleanly ... OK
* checking whether the namespace can be loaded with stated dependencies ... OK
* checking whether the namespace can be unloaded cleanly ... OK
* checking dependencies in R code ... NOTE
Namespace in Imports field not imported from: ‘microbiome’
All declared Imports should be used.
* checking S3 generic/method consistency ... OK
* checking replacement functions ... OK
* checking foreign function calls ... OK
* checking R code for possible problems ... OK
* checking Rd files ... NOTE
checkRd: (-1) DA_Seurat.Rd:29-31: Lost braces in \itemize; meant \describe ?
checkRd: (-1) DA_Seurat.Rd:32: Lost braces in \itemize; meant \describe ?
checkRd: (-1) DA_Seurat.Rd:33-36: Lost braces in \itemize; meant \describe ?
checkRd: (-1) DA_Seurat.Rd:37: Lost braces in \itemize; meant \describe ?
checkRd: (-1) DA_Seurat.Rd:42-44: Lost braces in \itemize; meant \describe ?
checkRd: (-1) DA_Seurat.Rd:45-46: Lost braces in \itemize; meant \describe ?
checkRd: (-1) DA_Seurat.Rd:47-56: Lost braces in \itemize; meant \describe ?
checkRd: (-1) DA_Seurat.Rd:57-58: Lost braces in \itemize; meant \describe ?
checkRd: (-1) DA_Seurat.Rd:59-61: Lost braces in \itemize; meant \describe ?
checkRd: (-1) DA_Seurat.Rd:62-63: Lost braces in \itemize; meant \describe ?
checkRd: (-1) DA_Seurat.Rd:64-67: Lost braces in \itemize; meant \describe ?
checkRd: (-1) DA_Seurat.Rd:68-70: Lost braces in \itemize; meant \describe ?
checkRd: (-1) DA_Seurat.Rd:71-73: Lost braces in \itemize; meant \describe ?
checkRd: (-1) areaCAT.Rd:18: Lost braces in \itemize; \value handles \item{}{} directly
checkRd: (-1) areaCAT.Rd:19-20: Lost braces in \itemize; \value handles \item{}{} directly
checkRd: (-1) areaCAT.Rd:21: Lost braces in \itemize; \value handles \item{}{} directly
checkRd: (-1) areaCAT.Rd:22: Lost braces in \itemize; \value handles \item{}{} directly
checkRd: (-1) areaCAT.Rd:23: Lost braces in \itemize; \value handles \item{}{} directly
checkRd: (-1) areaCAT.Rd:24-28: Lost braces in \itemize; \value handles \item{}{} directly
checkRd: (-1) areaCAT.Rd:29-30: Lost braces in \itemize; \value handles \item{}{} directly
checkRd: (-1) areaCAT.Rd:31-32: Lost braces in \itemize; \value handles \item{}{} directly
checkRd: (-1) createConcordance.Rd:30: Lost braces in \itemize; \value handles \item{}{} directly
checkRd: (-1) createConcordance.Rd:31-32: Lost braces in \itemize; \value handles \item{}{} directly
checkRd: (-1) createConcordance.Rd:33: Lost braces in \itemize; \value handles \item{}{} directly
checkRd: (-1) createConcordance.Rd:34: Lost braces in \itemize; \value handles \item{}{} directly
checkRd: (-1) createConcordance.Rd:35: Lost braces in \itemize; \value handles \item{}{} directly
checkRd: (-1) createConcordance.Rd:36-40: Lost braces in \itemize; \value handles \item{}{} directly
checkRd: (-1) createEnrichment.Rd:80-81: Lost braces in \itemize; \value handles \item{}{} directly
checkRd: (-1) createEnrichment.Rd:82: Lost braces in \itemize; \value handles \item{}{} directly
checkRd: (-1) createEnrichment.Rd:83-84: Lost braces in \itemize; \value handles \item{}{} directly
checkRd: (-1) createEnrichment.Rd:85-86: Lost braces in \itemize; \value handles \item{}{} directly
checkRd: (-1) createTIEC.Rd:17-19: Lost braces in \itemize; \value handles \item{}{} directly
checkRd: (-1) createTIEC.Rd:20-23: Lost braces in \itemize; \value handles \item{}{} directly
checkRd: (-1) createTIEC.Rd:24-27: Lost braces in \itemize; \value handles \item{}{} directly
checkRd: (-1) createTIEC.Rd:28-30: Lost braces in \itemize; \value handles \item{}{} directly
checkRd: (-1) createTIEC.Rd:31-34: Lost braces in \itemize; \value handles \item{}{} directly
checkRd: (-1) enrichmentTest.Rd:25-26: Lost braces in \itemize; \value handles \item{}{} directly
checkRd: (-1) enrichmentTest.Rd:27: Lost braces in \itemize; \value handles \item{}{} directly
checkRd: (-1) enrichmentTest.Rd:28-29: Lost braces in \itemize; \value handles \item{}{} directly
checkRd: (-1) enrichmentTest.Rd:30-31: Lost braces in \itemize; \value handles \item{}{} directly
checkRd: (-1) extractDA.Rd:62-63: Lost braces in \itemize; \value handles \item{}{} directly
checkRd: (-1) extractDA.Rd:64-66: Lost braces in \itemize; \value handles \item{}{} directly
checkRd: (-1) extractDA.Rd:67-70: Lost braces in \itemize; \value handles \item{}{} directly
checkRd: (-1) getDA.Rd:58-59: Lost braces in \itemize; \value handles \item{}{} directly
checkRd: (-1) getDA.Rd:60-62: Lost braces in \itemize; \value handles \item{}{} directly
checkRd: (-1) getDA.Rd:63-66: Lost braces in \itemize; \value handles \item{}{} directly
checkRd: (-1) get_counts_metadata.Rd:32-33: Lost braces in \itemize; \value handles \item{}{} directly
checkRd: (-1) get_counts_metadata.Rd:34-35: Lost braces in \itemize; \value handles \item{}{} directly
checkRd: (-1) get_counts_metadata.Rd:36-37: Lost braces in \itemize; \value handles \item{}{} directly
checkRd: (-1) plotConcordance.Rd:21-23: Lost braces in \itemize; \value handles \item{}{} directly
checkRd: (-1) plotConcordance.Rd:24-25: Lost braces in \itemize; \value handles \item{}{} directly
checkRd: (-1) set_Seurat.Rd:26-28: Lost braces in \itemize; meant \describe ?
checkRd: (-1) set_Seurat.Rd:29-30: Lost braces in \itemize; meant \describe ?
checkRd: (-1) set_Seurat.Rd:31-40: Lost braces in \itemize; meant \describe ?
checkRd: (-1) set_Seurat.Rd:41-42: Lost braces in \itemize; meant \describe ?
checkRd: (-1) set_Seurat.Rd:43-45: Lost braces in \itemize; meant \describe ?
checkRd: (-1) set_Seurat.Rd:46-47: Lost braces in \itemize; meant \describe ?
checkRd: (-1) set_Seurat.Rd:48-51: Lost braces in \itemize; meant \describe ?
checkRd: (-1) set_Seurat.Rd:52-54: Lost braces in \itemize; meant \describe ?
checkRd: (-1) set_Seurat.Rd:55-57: Lost braces in \itemize; meant \describe ?
checkRd: (-1) set_Seurat.Rd:64-66: Lost braces in \itemize; meant \describe ?
checkRd: (-1) set_Seurat.Rd:67: Lost braces in \itemize; meant \describe ?
checkRd: (-1) set_Seurat.Rd:68-71: Lost braces in \itemize; meant \describe ?
checkRd: (-1) set_Seurat.Rd:72: Lost braces in \itemize; meant \describe ?
* checking Rd metadata ... OK
* checking Rd cross-references ... NOTE
Non-topic package-anchored link(s) in Rd file 'norm_DESeq2.Rd':
‘[DESeq2]{estimateSizeFactors}’
See section 'Cross-references' in the 'Writing R Extensions' manual.
Found the following Rd file(s) with Rd \link{} targets missing package
anchors:
fitDM.Rd: MGLMreg
fitHURDLE.Rd: zlm
fitNB.Rd: glmFit
fitZIG.Rd: fitZig
fitZINB.Rd: zinbFit
norm_edgeR.Rd: calcNormFactors
Please provide package anchors for all Rd \link{} targets not in the
package itself and the base packages.
* checking for missing documentation entries ... OK
* checking for code/documentation mismatches ... OK
* checking Rd \usage sections ... OK
* checking Rd contents ... OK
* checking for unstated dependencies in examples ... OK
* checking contents of ‘data’ directory ... OK
* checking data for non-ASCII characters ... OK
* checking LazyData ... OK
* checking data for ASCII and uncompressed saves ... OK
* checking files in ‘vignettes’ ... OK
* checking examples ... OK
* checking for unstated dependencies in ‘tests’ ... OK
* checking tests ...
Running ‘testthat.R’
OK
* checking for unstated dependencies in vignettes ... OK
* checking package vignettes ... OK
* checking running R code from vignettes ... SKIPPED
* checking re-building of vignette outputs ... SKIPPED
* checking PDF version of manual ... OK
* DONE
Status: 3 NOTEs
See
‘/Users/biocbuild/bbs-3.21-bioc/meat/benchdamic.Rcheck/00check.log’
for details.
benchdamic.Rcheck/00install.out
############################################################################## ############################################################################## ### ### Running command: ### ### /Library/Frameworks/R.framework/Resources/bin/R CMD INSTALL benchdamic ### ############################################################################## ############################################################################## * installing to library ‘/Library/Frameworks/R.framework/Versions/4.5-arm64/Resources/library’ * installing *source* package ‘benchdamic’ ... ** this is package ‘benchdamic’ version ‘1.14.0’ ** using staged installation ** R ** data *** moving datasets to lazyload DB ** inst ** byte-compile and prepare package for lazy loading Found more than one class "dist" in cache; using the first, from namespace 'BiocGenerics' Also defined by ‘spam’ ** help *** installing help indices ** building package indices ** installing vignettes ** testing if installed package can be loaded from temporary location Found more than one class "dist" in cache; using the first, from namespace 'BiocGenerics' Also defined by ‘spam’ ** testing if installed package can be loaded from final location Found more than one class "dist" in cache; using the first, from namespace 'BiocGenerics' Also defined by ‘spam’ ** testing if installed package keeps a record of temporary installation path * DONE (benchdamic)
benchdamic.Rcheck/tests/testthat.Rout
R version 4.5.0 RC (2025-04-04 r88126) -- "How About a Twenty-Six"
Copyright (C) 2025 The R Foundation for Statistical Computing
Platform: aarch64-apple-darwin20
R is free software and comes with ABSOLUTELY NO WARRANTY.
You are welcome to redistribute it under certain conditions.
Type 'license()' or 'licence()' for distribution details.
R is a collaborative project with many contributors.
Type 'contributors()' for more information and
'citation()' on how to cite R or R packages in publications.
Type 'demo()' for some demos, 'help()' for on-line help, or
'help.start()' for an HTML browser interface to help.
Type 'q()' to quit R.
> library(testthat)
> library(benchdamic)
Found more than one class "dist" in cache; using the first, from namespace 'BiocGenerics'
Also defined by 'spam'
>
> test_check("benchdamic")
|------------(25%)----------(50%)----------(75%)----------|
|------------(25%)----------(50%)----------(75%)----------|
|------------(25%)----------(50%)----------(75%)----------|
|------------(25%)----------(50%)----------(75%)----------|
|------------(25%)----------(50%)----------(75%)----------|
[ FAIL 0 | WARN 0 | SKIP 1 | PASS 322 ]
══ Skipped tests (1) ═══════════════════════════════════════════════════════════
• empty test (1): 'test_DA_paired.R:3:1'
[ FAIL 0 | WARN 0 | SKIP 1 | PASS 322 ]
>
> proc.time()
user system elapsed
25.586 1.993 37.409
benchdamic.Rcheck/benchdamic-Ex.timings
| name | user | system | elapsed | |
| CAT | 0.001 | 0.000 | 0.002 | |
| DA_ALDEx2 | 1.968 | 0.292 | 2.271 | |
| DA_ANCOM | 0.268 | 0.040 | 0.308 | |
| DA_DESeq2 | 0.864 | 0.028 | 0.892 | |
| DA_MAST | 0.562 | 0.028 | 0.431 | |
| DA_Maaslin2 | 0.182 | 0.022 | 0.109 | |
| DA_NOISeq | 0.741 | 0.007 | 0.672 | |
| DA_Seurat | 0.890 | 0.019 | 0.916 | |
| DA_ZicoSeq | 0.220 | 0.009 | 0.234 | |
| DA_basic | 0.010 | 0.001 | 0.011 | |
| DA_corncob | 0.217 | 0.023 | 0.292 | |
| DA_dearseq | 0.022 | 0.001 | 0.024 | |
| DA_edgeR | 0.066 | 0.003 | 0.069 | |
| DA_limma | 0.027 | 0.001 | 0.028 | |
| DA_linda | 0.016 | 0.001 | 0.019 | |
| DA_metagenomeSeq | 0.081 | 0.003 | 0.090 | |
| DA_mixMC | 0.185 | 0.003 | 0.189 | |
| RMSE | 0.001 | 0.000 | 0.001 | |
| addKnowledge | 0.055 | 0.002 | 0.057 | |
| areaCAT | 1.249 | 0.044 | 1.297 | |
| checkNormalization | 0 | 0 | 0 | |
| createColors | 0.002 | 0.001 | 0.003 | |
| createConcordance | 1.591 | 0.040 | 2.200 | |
| createEnrichment | 0.126 | 0.009 | 0.231 | |
| createMocks | 0.000 | 0.001 | 0.002 | |
| createPositives | 0.314 | 0.007 | 0.543 | |
| createSplits | 0.018 | 0.001 | 0.033 | |
| createTIEC | 0.993 | 0.019 | 1.698 | |
| enrichmentTest | 0.051 | 0.002 | 0.085 | |
| extractDA | 0.076 | 0.002 | 0.129 | |
| extractStatistics | 0.060 | 0.002 | 0.097 | |
| fitDM | 0.010 | 0.001 | 0.011 | |
| fitHURDLE | 0.268 | 0.003 | 0.477 | |
| fitModels | 0.844 | 0.014 | 1.405 | |
| fitNB | 0.013 | 0.000 | 0.013 | |
| fitZIG | 0.015 | 0.000 | 0.015 | |
| fitZINB | 0.125 | 0.001 | 0.134 | |
| getDA | 0.024 | 0.004 | 0.038 | |
| getPositives | 0.027 | 0.002 | 0.093 | |
| getStatistics | 0.022 | 0.002 | 0.042 | |
| get_counts_metadata | 0.033 | 0.001 | 0.035 | |
| iterative_ordering | 0.003 | 0.001 | 0.003 | |
| meanDifferences | 0.001 | 0.000 | 0.001 | |
| norm_CSS | 0.020 | 0.000 | 0.021 | |
| norm_DESeq2 | 0.156 | 0.000 | 0.315 | |
| norm_TSS | 0.009 | 0.000 | 0.010 | |
| norm_edgeR | 0.011 | 0.000 | 0.011 | |
| plotConcordance | 1.764 | 0.025 | 3.084 | |
| plotContingency | 0.434 | 0.008 | 0.754 | |
| plotEnrichment | 0.397 | 0.006 | 0.688 | |
| plotFDR | 0.796 | 0.012 | 1.231 | |
| plotFPR | 0.684 | 0.011 | 1.043 | |
| plotKS | 1.549 | 0.016 | 2.581 | |
| plotLogP | 0.818 | 0.015 | 1.424 | |
| plotMD | 1.123 | 0.012 | 1.658 | |
| plotMutualFindings | 0.368 | 0.006 | 0.634 | |
| plotPositives | 0.279 | 0.006 | 0.473 | |
| plotQQ | 0.774 | 0.014 | 1.402 | |
| plotRMSE | 0.996 | 0.009 | 1.723 | |
| prepareObserved | 0.001 | 0.000 | 0.001 | |
| runDA | 0.195 | 0.001 | 0.335 | |
| runMocks | 0.277 | 0.004 | 0.472 | |
| runNormalizations | 0.191 | 0.002 | 0.312 | |
| runSplits | 1.145 | 0.026 | 1.521 | |
| setNormalizations | 0 | 0 | 0 | |
| set_ALDEx2 | 0.002 | 0.000 | 0.002 | |
| set_ANCOM | 0.003 | 0.001 | 0.020 | |
| set_DESeq2 | 0.002 | 0.000 | 0.002 | |
| set_MAST | 0.001 | 0.000 | 0.001 | |
| set_Maaslin2 | 0.002 | 0.001 | 0.002 | |
| set_NOISeq | 0.001 | 0.000 | 0.001 | |
| set_Seurat | 0.002 | 0.000 | 0.002 | |
| set_ZicoSeq | 0.002 | 0.000 | 0.002 | |
| set_basic | 0.001 | 0.000 | 0.000 | |
| set_corncob | 0.001 | 0.001 | 0.002 | |
| set_dearseq | 0.001 | 0.000 | 0.001 | |
| set_edgeR | 0.003 | 0.000 | 0.004 | |
| set_limma | 0.002 | 0.000 | 0.003 | |
| set_linda | 0.001 | 0.000 | 0.001 | |
| set_metagenomeSeq | 0.002 | 0.000 | 0.001 | |
| set_mixMC | 0.001 | 0.001 | 0.001 | |
| weights_ZINB | 0.107 | 0.000 | 0.192 | |