| Back to Multiple platform build/check report for BioC 3.19: simplified long |
|
This page was generated on 2024-10-18 20:38 -0400 (Fri, 18 Oct 2024).
| Hostname | OS | Arch (*) | R version | Installed pkgs |
|---|---|---|---|---|
| nebbiolo1 | Linux (Ubuntu 22.04.3 LTS) | x86_64 | 4.4.1 (2024-06-14) -- "Race for Your Life" | 4763 |
| palomino7 | Windows Server 2022 Datacenter | x64 | 4.4.1 (2024-06-14 ucrt) -- "Race for Your Life" | 4500 |
| merida1 | macOS 12.7.5 Monterey | x86_64 | 4.4.1 (2024-06-14) -- "Race for Your Life" | 4530 |
| kjohnson1 | macOS 13.6.6 Ventura | arm64 | 4.4.1 (2024-06-14) -- "Race for Your Life" | 4480 |
| Click on any hostname to see more info about the system (e.g. compilers) (*) as reported by 'uname -p', except on Windows and Mac OS X | ||||
| Package 2104/2300 | Hostname | OS / Arch | INSTALL | BUILD | CHECK | BUILD BIN | ||||||||
| supraHex 1.42.0 (landing page) Hai Fang
| nebbiolo1 | Linux (Ubuntu 22.04.3 LTS) / x86_64 | OK | OK | OK | |||||||||
| palomino7 | Windows Server 2022 Datacenter / x64 | OK | OK | OK | OK | |||||||||
| merida1 | macOS 12.7.5 Monterey / x86_64 | OK | OK | OK | OK | |||||||||
| kjohnson1 | macOS 13.6.6 Ventura / arm64 | OK | OK | OK | NA | |||||||||
|
To the developers/maintainers of the supraHex package: - Allow up to 24 hours (and sometimes 48 hours) for your latest push to git@git.bioconductor.org:packages/supraHex.git to reflect on this report. See Troubleshooting Build Report for more information. - Use the following Renviron settings to reproduce errors and warnings. - If 'R CMD check' started to fail recently on the Linux builder(s) over a missing dependency, add the missing dependency to 'Suggests:' in your DESCRIPTION file. See Renviron.bioc for more information. |
| Package: supraHex |
| Version: 1.42.0 |
| Command: /home/biocbuild/bbs-3.19-bioc/R/bin/R CMD check --install=check:supraHex.install-out.txt --library=/home/biocbuild/bbs-3.19-bioc/R/site-library --timings supraHex_1.42.0.tar.gz |
| StartedAt: 2024-10-17 05:41:29 -0400 (Thu, 17 Oct 2024) |
| EndedAt: 2024-10-17 05:42:32 -0400 (Thu, 17 Oct 2024) |
| EllapsedTime: 63.2 seconds |
| RetCode: 0 |
| Status: OK |
| CheckDir: supraHex.Rcheck |
| Warnings: 0 |
##############################################################################
##############################################################################
###
### Running command:
###
### /home/biocbuild/bbs-3.19-bioc/R/bin/R CMD check --install=check:supraHex.install-out.txt --library=/home/biocbuild/bbs-3.19-bioc/R/site-library --timings supraHex_1.42.0.tar.gz
###
##############################################################################
##############################################################################
* using log directory ‘/home/biocbuild/bbs-3.19-bioc/meat/supraHex.Rcheck’
* using R version 4.4.1 (2024-06-14)
* using platform: x86_64-pc-linux-gnu
* R was compiled by
gcc (Ubuntu 11.4.0-1ubuntu1~22.04) 11.4.0
GNU Fortran (Ubuntu 11.4.0-1ubuntu1~22.04) 11.4.0
* running under: Ubuntu 22.04.5 LTS
* using session charset: UTF-8
* checking for file ‘supraHex/DESCRIPTION’ ... OK
* checking extension type ... Package
* this is package ‘supraHex’ version ‘1.42.0’
* checking package namespace information ... OK
* checking package dependencies ... OK
* checking if this is a source package ... OK
* checking if there is a namespace ... OK
* checking for hidden files and directories ... OK
* checking for portable file names ... OK
* checking for sufficient/correct file permissions ... OK
* checking whether package ‘supraHex’ can be installed ... OK
* checking installed package size ... OK
* checking package directory ... OK
* checking ‘build’ directory ... OK
* checking DESCRIPTION meta-information ... OK
* checking top-level files ... OK
* checking for left-over files ... OK
* checking index information ... OK
* checking package subdirectories ... OK
* checking code files for non-ASCII characters ... OK
* checking R files for syntax errors ... OK
* checking whether the package can be loaded ... OK
* checking whether the package can be loaded with stated dependencies ... OK
* checking whether the package can be unloaded cleanly ... OK
* checking whether the namespace can be loaded with stated dependencies ... OK
* checking whether the namespace can be unloaded cleanly ... OK
* checking loading without being on the library search path ... OK
* checking dependencies in R code ... OK
* checking S3 generic/method consistency ... OK
* checking replacement functions ... OK
* checking foreign function calls ... OK
* checking R code for possible problems ... OK
* checking Rd files ... OK
* checking Rd metadata ... OK
* checking Rd cross-references ... OK
* checking for missing documentation entries ... OK
* checking for code/documentation mismatches ... OK
* checking Rd \usage sections ... OK
* checking Rd contents ... OK
* checking for unstated dependencies in examples ... OK
* checking contents of ‘data’ directory ... OK
* checking data for non-ASCII characters ... OK
* checking data for ASCII and uncompressed saves ... OK
* checking files in ‘vignettes’ ... OK
* checking examples ... OK
* checking for unstated dependencies in vignettes ... OK
* checking package vignettes ... OK
* checking re-building of vignette outputs ... OK
* checking PDF version of manual ... OK
* DONE
Status: OK
supraHex.Rcheck/00install.out
############################################################################## ############################################################################## ### ### Running command: ### ### /home/biocbuild/bbs-3.19-bioc/R/bin/R CMD INSTALL supraHex ### ############################################################################## ############################################################################## * installing to library ‘/home/biocbuild/bbs-3.19-bioc/R/site-library’ * installing *source* package ‘supraHex’ ... ** using staged installation ** R ** data ** inst ** byte-compile and prepare package for lazy loading ** help *** installing help indices ** building package indices ** installing vignettes ** testing if installed package can be loaded from temporary location ** testing if installed package can be loaded from final location ** testing if installed package keeps a record of temporary installation path * DONE (supraHex)
supraHex.Rcheck/supraHex-Ex.timings
| name | user | system | elapsed | |
| sBMH | 0.046 | 0.020 | 0.066 | |
| sCompReorder | 2.053 | 0.064 | 2.117 | |
| sDistance | 0.246 | 0.000 | 0.246 | |
| sDmat | 0.263 | 0.000 | 0.263 | |
| sDmatCluster | 0.352 | 0.008 | 0.360 | |
| sDmatMinima | 0.281 | 0.004 | 0.284 | |
| sHexDist | 0.008 | 0.000 | 0.007 | |
| sHexGrid | 0.002 | 0.000 | 0.001 | |
| sHexGridVariant | 0.002 | 0.000 | 0.002 | |
| sHexPolygon | 0.071 | 0.003 | 0.074 | |
| sInitial | 0.006 | 0.000 | 0.006 | |
| sMapOverlay | 0.295 | 0.008 | 0.303 | |
| sNeighAny | 0.010 | 0.000 | 0.009 | |
| sNeighDirect | 0.007 | 0.000 | 0.007 | |
| sPipeline | 0.000 | 0.000 | 0.001 | |
| sTopology | 0.04 | 0.00 | 0.04 | |
| sTrainBatch | 0.045 | 0.000 | 0.044 | |
| sTrainSeq | 0.296 | 0.004 | 0.300 | |
| sTrainology | 0.007 | 0.000 | 0.006 | |
| sWriteData | 0.691 | 0.014 | 0.721 | |
| visColoralpha | 0.004 | 0.000 | 0.004 | |
| visColorbar | 0.023 | 0.000 | 0.023 | |
| visColormap | 0.003 | 0.000 | 0.003 | |
| visCompReorder | 2.953 | 0.072 | 3.025 | |
| visDmatCluster | 0.001 | 0.000 | 0.001 | |
| visDmatHeatmap | 0.001 | 0.000 | 0.000 | |
| visHeatmap | 0.082 | 0.000 | 0.082 | |
| visHeatmapAdv | 0.302 | 0.000 | 0.302 | |
| visHexAnimate | 0.001 | 0.000 | 0.001 | |
| visHexBarplot | 0.671 | 0.012 | 0.684 | |
| visHexComp | 0.241 | 0.004 | 0.245 | |
| visHexGrid | 0.234 | 0.004 | 0.238 | |
| visHexMapping | 1.274 | 0.004 | 1.278 | |
| visHexMulComp | 0.899 | 0.060 | 0.959 | |
| visHexPattern | 1.532 | 0.040 | 1.572 | |
| visKernels | 0.013 | 0.000 | 0.013 | |
| visTreeBSclust | 0.001 | 0.000 | 0.001 | |
| visTreeBootstrap | 0.001 | 0.000 | 0.001 | |
| visVp | 0.014 | 0.000 | 0.015 | |