| Back to Multiple platform build/check report for BioC 3.19: simplified long |
|
This page was generated on 2024-10-18 20:41 -0400 (Fri, 18 Oct 2024).
| Hostname | OS | Arch (*) | R version | Installed pkgs |
|---|---|---|---|---|
| nebbiolo1 | Linux (Ubuntu 22.04.3 LTS) | x86_64 | 4.4.1 (2024-06-14) -- "Race for Your Life" | 4763 |
| palomino7 | Windows Server 2022 Datacenter | x64 | 4.4.1 (2024-06-14 ucrt) -- "Race for Your Life" | 4500 |
| merida1 | macOS 12.7.5 Monterey | x86_64 | 4.4.1 (2024-06-14) -- "Race for Your Life" | 4530 |
| kjohnson1 | macOS 13.6.6 Ventura | arm64 | 4.4.1 (2024-06-14) -- "Race for Your Life" | 4480 |
| Click on any hostname to see more info about the system (e.g. compilers) (*) as reported by 'uname -p', except on Windows and Mac OS X | ||||
| Package 2104/2300 | Hostname | OS / Arch | INSTALL | BUILD | CHECK | BUILD BIN | ||||||||
| supraHex 1.42.0 (landing page) Hai Fang
| nebbiolo1 | Linux (Ubuntu 22.04.3 LTS) / x86_64 | OK | OK | OK | |||||||||
| palomino7 | Windows Server 2022 Datacenter / x64 | OK | OK | OK | OK | |||||||||
| merida1 | macOS 12.7.5 Monterey / x86_64 | OK | OK | OK | OK | |||||||||
| kjohnson1 | macOS 13.6.6 Ventura / arm64 | OK | OK | OK | NA | |||||||||
|
To the developers/maintainers of the supraHex package: - Allow up to 24 hours (and sometimes 48 hours) for your latest push to git@git.bioconductor.org:packages/supraHex.git to reflect on this report. See Troubleshooting Build Report for more information. - Use the following Renviron settings to reproduce errors and warnings. - If 'R CMD check' started to fail recently on the Linux builder(s) over a missing dependency, add the missing dependency to 'Suggests:' in your DESCRIPTION file. See Renviron.bioc for more information. |
| Package: supraHex |
| Version: 1.42.0 |
| Command: /Library/Frameworks/R.framework/Resources/bin/R CMD check --install=check:supraHex.install-out.txt --library=/Library/Frameworks/R.framework/Resources/library --no-vignettes --timings supraHex_1.42.0.tar.gz |
| StartedAt: 2024-10-17 14:02:27 -0400 (Thu, 17 Oct 2024) |
| EndedAt: 2024-10-17 14:05:20 -0400 (Thu, 17 Oct 2024) |
| EllapsedTime: 173.7 seconds |
| RetCode: 0 |
| Status: OK |
| CheckDir: supraHex.Rcheck |
| Warnings: 0 |
##############################################################################
##############################################################################
###
### Running command:
###
### /Library/Frameworks/R.framework/Resources/bin/R CMD check --install=check:supraHex.install-out.txt --library=/Library/Frameworks/R.framework/Resources/library --no-vignettes --timings supraHex_1.42.0.tar.gz
###
##############################################################################
##############################################################################
* using log directory ‘/Users/biocbuild/bbs-3.19-bioc/meat/supraHex.Rcheck’
* using R version 4.4.1 (2024-06-14)
* using platform: x86_64-apple-darwin20
* R was compiled by
Apple clang version 14.0.0 (clang-1400.0.29.202)
GNU Fortran (GCC) 12.2.0
* running under: macOS Monterey 12.7.6
* using session charset: UTF-8
* using option ‘--no-vignettes’
* checking for file ‘supraHex/DESCRIPTION’ ... OK
* checking extension type ... Package
* this is package ‘supraHex’ version ‘1.42.0’
* checking package namespace information ... OK
* checking package dependencies ... OK
* checking if this is a source package ... OK
* checking if there is a namespace ... OK
* checking for hidden files and directories ... OK
* checking for portable file names ... OK
* checking for sufficient/correct file permissions ... OK
* checking whether package ‘supraHex’ can be installed ... OK
* checking installed package size ... OK
* checking package directory ... OK
* checking ‘build’ directory ... OK
* checking DESCRIPTION meta-information ... OK
* checking top-level files ... OK
* checking for left-over files ... OK
* checking index information ... OK
* checking package subdirectories ... OK
* checking code files for non-ASCII characters ... OK
* checking R files for syntax errors ... OK
* checking whether the package can be loaded ... OK
* checking whether the package can be loaded with stated dependencies ... OK
* checking whether the package can be unloaded cleanly ... OK
* checking whether the namespace can be loaded with stated dependencies ... OK
* checking whether the namespace can be unloaded cleanly ... OK
* checking dependencies in R code ... OK
* checking S3 generic/method consistency ... OK
* checking replacement functions ... OK
* checking foreign function calls ... OK
* checking R code for possible problems ... OK
* checking Rd files ... OK
* checking Rd metadata ... OK
* checking Rd cross-references ... OK
* checking for missing documentation entries ... OK
* checking for code/documentation mismatches ... OK
* checking Rd \usage sections ... OK
* checking Rd contents ... OK
* checking for unstated dependencies in examples ... OK
* checking contents of ‘data’ directory ... OK
* checking data for non-ASCII characters ... OK
* checking data for ASCII and uncompressed saves ... OK
* checking sizes of PDF files under ‘inst/doc’ ... OK
* checking files in ‘vignettes’ ... OK
* checking examples ... OK
Examples with CPU (user + system) or elapsed time > 5s
user system elapsed
visCompReorder 6.910 0.216 8.401
sCompReorder 5.719 0.168 6.988
visHexMapping 3.801 0.142 7.805
visHexMulComp 2.905 0.105 6.438
* checking for unstated dependencies in vignettes ... OK
* checking package vignettes ... OK
* checking running R code from vignettes ... SKIPPED
* checking re-building of vignette outputs ... SKIPPED
* checking PDF version of manual ... OK
* DONE
Status: OK
supraHex.Rcheck/00install.out
############################################################################## ############################################################################## ### ### Running command: ### ### /Library/Frameworks/R.framework/Resources/bin/R CMD INSTALL supraHex ### ############################################################################## ############################################################################## * installing to library ‘/Library/Frameworks/R.framework/Versions/4.4-x86_64/Resources/library’ * installing *source* package ‘supraHex’ ... ** using staged installation ** R ** data ** inst ** byte-compile and prepare package for lazy loading ** help *** installing help indices ** building package indices ** installing vignettes ** testing if installed package can be loaded from temporary location ** testing if installed package can be loaded from final location ** testing if installed package keeps a record of temporary installation path * DONE (supraHex)
supraHex.Rcheck/supraHex-Ex.timings
| name | user | system | elapsed | |
| sBMH | 0.131 | 0.016 | 0.171 | |
| sCompReorder | 5.719 | 0.168 | 6.988 | |
| sDistance | 0.616 | 0.010 | 0.709 | |
| sDmat | 0.688 | 0.010 | 0.791 | |
| sDmatCluster | 0.902 | 0.013 | 1.023 | |
| sDmatMinima | 0.701 | 0.008 | 0.791 | |
| sHexDist | 0.015 | 0.002 | 0.017 | |
| sHexGrid | 0.004 | 0.001 | 0.005 | |
| sHexGridVariant | 0.003 | 0.003 | 0.008 | |
| sHexPolygon | 0.188 | 0.002 | 0.211 | |
| sInitial | 0.013 | 0.001 | 0.015 | |
| sMapOverlay | 0.771 | 0.027 | 0.872 | |
| sNeighAny | 0.021 | 0.001 | 0.024 | |
| sNeighDirect | 0.018 | 0.001 | 0.020 | |
| sPipeline | 0.001 | 0.001 | 0.002 | |
| sTopology | 0.093 | 0.021 | 0.133 | |
| sTrainBatch | 0.094 | 0.003 | 0.112 | |
| sTrainSeq | 0.860 | 0.010 | 0.996 | |
| sTrainology | 0.016 | 0.001 | 0.020 | |
| sWriteData | 1.550 | 0.055 | 1.826 | |
| visColoralpha | 0.007 | 0.001 | 0.009 | |
| visColorbar | 0.057 | 0.001 | 0.062 | |
| visColormap | 0.007 | 0.001 | 0.007 | |
| visCompReorder | 6.910 | 0.216 | 8.401 | |
| visDmatCluster | 0.001 | 0.001 | 0.002 | |
| visDmatHeatmap | 0.000 | 0.001 | 0.001 | |
| visHeatmap | 0.232 | 0.006 | 0.275 | |
| visHeatmapAdv | 0.945 | 0.021 | 1.125 | |
| visHexAnimate | 0.002 | 0.001 | 0.003 | |
| visHexBarplot | 1.682 | 0.079 | 2.041 | |
| visHexComp | 0.647 | 0.013 | 0.767 | |
| visHexGrid | 0.621 | 0.010 | 0.719 | |
| visHexMapping | 3.801 | 0.142 | 7.805 | |
| visHexMulComp | 2.905 | 0.105 | 6.438 | |
| visHexPattern | 3.087 | 0.269 | 4.101 | |
| visKernels | 0.022 | 0.017 | 0.047 | |
| visTreeBSclust | 0.000 | 0.002 | 0.002 | |
| visTreeBootstrap | 0.001 | 0.002 | 0.003 | |
| visVp | 0.037 | 0.018 | 0.070 | |